PDS_VERSION_ID = PDS3
/* FILE DATA ELEMENTS */
RECORD_TYPE = UNDEFINED
/* POINTERS TO DATA OBJECTS */
^IMAGE = ("H4668_0000_BL4.TIF")
/* IDENTIFICATION DATA ELEMENTS */
DATA_SET_ID = "MEX-M-HRSC-4-REFDR-MAPPROJECT-EXT1-V4.0"
DATA_SET_NAME = "MARS EXPRESS HRSC MAP PROJECTED REFDR EXTENSION1 V4.0"
DETECTOR_ID = MEX_HRSC_BLUE
EVENT_TYPE = "MARS-REGIONAL-MAPPING-Gl-Pf-Eo"
INSTRUMENT_HOST_ID = MEX
INSTRUMENT_HOST_NAME = "MARS EXPRESS"
INSTRUMENT_ID = HRSC
INSTRUMENT_NAME = "HIGH RESOLUTION STEREO CAMERA"
MISSION_NAME = "MARS EXPRESS"
MISSION_PHASE_NAME = ME_Phase_9
PROCESSING_LEVEL_ID = 4
PRODUCT_CREATION_TIME = 2023-02-11T00:15:54.000Z
PRODUCT_ID = "H4668_0000_BL4.TIF"
RELEASE_ID = 0007
REVISION_ID = 0000
/* QUALITY DATA ELEMENTS */
DATA_QUALITY_ID = 1
DATA_QUALITY_DESC = "Data calculated based on original SPICE kernels"
/* TIME DATA ELEMENTS */
SPACECRAFT_CLOCK_START_COUNT = "1/0135888155.08360"
SPACECRAFT_CLOCK_STOP_COUNT = "1/0135888434.15864"
START_TIME = 2007-08-22T18:43:19.846Z
STOP_TIME = 2007-08-22T18:46:27.493Z
/* ORBITAL DATA ELEMENTS */
ASCENDING_NODE_LONGITUDE = 130.77
MAXIMUM_RESOLUTION = 0.0622
FOOTPRINT_POINT_LATITUDE = (-80.9337,-81.0713,-81.2487,-81.4097, -81.4976,-81.502,-81.5197,-81.2365, -80.8567,-80.4752,-80.0923,-79.8951, -79.5986,-79.203,-78.8998,-78.6965, -78.493,-78.2895,-78.0822,-77.8734, -77.6644,-77.3509,-77.1368,-76.816, -76.6018,-76.3847,-76.1656,-75.9464, -75.7279,-75.5047,-75.2809,-74.9451, -74.7173,-74.3751,-74.1466,-73.9135, -73.6809,-73.4485,-73.2122,-72.9755, -72.7388,-72.4978,-72.2564,-71.8924, -71.6468,-71.402,-71.0286,-70.7792, -70.6542,-70.5786,-70.5413,-70.5003, -70.4556,-70.404,-70.3307,-70.2618, -70.258,-70.2579,-70.629,-70.8756, -71.2409,-71.4831,-71.7244,-71.962, -72.2,-72.4366,-72.6699,-72.9033, -73.1354,-73.3641,-73.593,-73.8212, -74.0452,-74.2693,-74.6039,-74.8231, -75.0423,-75.2617,-75.4768,-75.6909, -75.905,-76.2229,-76.4317,-76.6404, -76.9523,-77.1556,-77.3587,-77.5616, -77.7643,-77.9617,-78.1588,-78.4537, -78.8407,-79.3159,-79.5981,-79.964, -80.3275,-80.7775,-80.8669,-80.9337)
FOOTPRINT_POINT_LONGITUDE = (36.6652,38.2717,40.5582,42.8982,44.314 ,44.3889,44.3686,45.1662,46.1511, 47.0546,47.8857,48.287,48.8598,49.5718, 50.0811,50.4062,50.7194,51.0211,51.3173 ,51.6048,51.8819,52.2796,52.5395, 52.9125,53.1507,53.384,53.6118,53.8319, 54.0449,54.2553,54.4592,54.7528,54.9445 ,55.2218,55.3994,55.5753,55.7458, 55.9112,56.0748,56.2339,56.3879,56.5402 ,56.6882,56.9033,57.0434,57.1799, 57.3799,57.5089,57.5722,57.6102,56.8124 ,56.0098,55.2072,54.3528,53.2476, 52.2903,52.24,52.2225,51.9913,51.8324, 51.5877,51.4197,51.2472,51.0729,50.891, 50.7056,50.5167,50.3227,50.1232,49.9212 ,49.7119,49.4977,49.2821,49.057,48.7086 ,48.4718,48.2236,47.9548,47.6883, 47.4197,47.1441,46.7151,46.4243,46.119, 45.6489,45.3316,44.9958,44.6505,44.2914 ,43.9282,43.5559,42.9629,42.1357, 41.0361,40.3163,39.313,38.2402,36.7728, 36.4611,36.6652)
ORBIT_NUMBER = 4668
ORBITAL_ECCENTRICITY = 0.57
ORBITAL_INCLINATION = 86.69
ORBITAL_SEMIMAJOR_AXIS = 8534.17
PERIAPSIS_ALTITUDE = 295.53
PERIAPSIS_ARGUMENT_ANGLE = 256.73
PERIAPSIS_TIME = 2007-08-22T18:37:52.000Z
SPACECRAFT_ORIENTATION = (0.0,-1.0,0.0)
^MEX_ORIENTATION_DESC = "MEX_ORIENTATION_DESC.TXT"
SPACECRAFT_POINTING_MODE = ACROSSTRACK
^MEX_POINTING_DESC = "MEX_POINTING_DESC.TXT"
RIGHT_ASCENSION = -1e+32
DECLINATION = -1e+32
OFFSET_ANGLE = 0.62
SPACECRAFT_SOLAR_DISTANCE = 2.12982e+08
TARGET_NAME = MARS
/* CAMERA DATA ELEMENTS */
DETECTOR_TEMPERATURE = 18.5744
FOCAL_PLANE_TEMPERATURE = 9.3989
INST_CMPRS_NAME = "DISCRETE COSINE TRANSFORMATION (DCT)"
INST_CMPRS_RATIO = 12.0199
INST_CMPRS_QUALITY = 0
INST_CMPRS_QUANTZ_TBL_ID = 0
INSTRUMENT_TEMPERATURE = 10.2145
LENS_TEMPERATURE = 10.0106
MACROPIXEL_SIZE = 4
MISSING_FRAMES = 0
PIXEL_SUBSAMPLING_FLAG = N
SIGNAL_CHAIN_ID = 2
/* RADIOMETRIC DATA ELEMENTS */
BANDWIDTH = 76.0
CENTER_FILTER_WAVELENGTH = 444.0
RADIANCE_OFFSET = 0.723125
RADIANCE_SCALING_FACTOR = 0.00124878
REFLECTANCE_SCALING_FACTOR = 5.82014e-05
MEX:REFLECTANCE_OFFSET = 0.0337023
/* IMAGE OBJECT DEFINITIONS */
OBJECT = IMAGE
  INTERCHANGE_FORMAT = BINARY
  LINES = 13364
  LINE_SAMPLES = 5556
  SAMPLE_TYPE = UNSIGNED_INTEGER
  SAMPLE_BITS = 8
  BANDS = 1
  BAND_STORAGE_TYPE = BAND_SEQUENTIAL
  MAXIMUM = 255
  MEAN = 147.776
  MINIMUM = 1
  STANDARD_DEVIATION = 41.8013
END_OBJECT = IMAGE
/* MAP OBJECT DEFINITIONS */
OBJECT = IMAGE_MAP_PROJECTION
  ^DATA_SET_MAP_PROJECTION_CATALOG= "DSMAP.CAT"
  A_AXIS_RADIUS = 3396.0
  B_AXIS_RADIUS = 3396.0
  C_AXIS_RADIUS = 3396.0
  CENTER_LATITUDE = 0.0
  CENTER_LONGITUDE = 50.0
  COORDINATE_SYSTEM_NAME = PLANETOGRAPHIC
  COORDINATE_SYSTEM_TYPE = "BODY-FIXED ROTATING"
  EASTERNMOST_LONGITUDE = 57.6102
  FIRST_STANDARD_PARALLEL = "N/A"
  LINE_FIRST_PIXEL = 1
  LINE_LAST_PIXEL = 13364
  LINE_PROJECTION_OFFSET = -83294.625
  MAP_PROJECTION_ROTATION = 0.0
  MAP_PROJECTION_TYPE = SINUSOIDAL
  MAP_RESOLUTION = 1185.42760773333
  MAP_SCALE = 0.05
  MAXIMUM_LATITUDE = -70.25790000000001
  MINIMUM_LATITUDE = -81.5197
  POSITIVE_LONGITUDE_DIRECTION = EAST
  REFERENCE_LATITUDE = "N/A"
  REFERENCE_LONGITUDE = "N/A"
  SAMPLE_FIRST_PIXEL = 1
  SAMPLE_LAST_PIXEL = 5556
  SAMPLE_PROJECTION_OFFSET = 2563.125
  SECOND_STANDARD_PARALLEL = "N/A"
  WESTERNMOST_LONGITUDE = 36.4611
END_OBJECT = IMAGE_MAP_PROJECTION
END
