PDS_VERSION_ID = PDS3
/* FILE DATA ELEMENTS */
RECORD_TYPE = UNDEFINED
/* POINTERS TO DATA OBJECTS */
^IMAGE = ("H4667_0000_IR4.TIF")
/* IDENTIFICATION DATA ELEMENTS */
DATA_SET_ID = "MEX-M-HRSC-4-REFDR-MAPPROJECT-EXT1-V4.0"
DATA_SET_NAME = "MARS EXPRESS HRSC MAP PROJECTED REFDR EXTENSION1 V4.0"
DETECTOR_ID = MEX_HRSC_IR
EVENT_TYPE = "MARS-REGIONAL-MAPPING-Te-Im-Fl"
INSTRUMENT_HOST_ID = MEX
INSTRUMENT_HOST_NAME = "MARS EXPRESS"
INSTRUMENT_ID = HRSC
INSTRUMENT_NAME = "HIGH RESOLUTION STEREO CAMERA"
MISSION_NAME = "MARS EXPRESS"
MISSION_PHASE_NAME = ME_Phase_9
PROCESSING_LEVEL_ID = 4
PRODUCT_CREATION_TIME = 2023-02-11T00:15:54.000Z
PRODUCT_ID = "H4667_0000_IR4.TIF"
RELEASE_ID = 0007
REVISION_ID = 0000
/* QUALITY DATA ELEMENTS */
DATA_QUALITY_ID = 1
DATA_QUALITY_DESC = "Data calculated based on original SPICE kernels"
/* TIME DATA ELEMENTS */
SPACECRAFT_CLOCK_START_COUNT = "1/0135864550.09097"
SPACECRAFT_CLOCK_STOP_COUNT = "1/0135865142.64862"
START_TIME = 2007-08-22T12:09:30.991Z
STOP_TIME = 2007-08-22T12:12:13.683Z
/* ORBITAL DATA ELEMENTS */
ASCENDING_NODE_LONGITUDE = 130.79
MAXIMUM_RESOLUTION = 0.0774
FOOTPRINT_POINT_LATITUDE = (-45.3263,-45.3418,-45.3513,-45.3608, -45.3689,-45.3756,-45.3807,-45.3844, -45.3866,-45.3873,-45.3865,-45.3842, -45.3773,-45.3766,-45.3241,-45.1471, -44.9704,-44.794,-44.618,-44.4425, -44.2667,-44.0918,-43.9181,-43.7438, -43.5722,-43.3981,-43.2222,-43.048, -42.8754,-42.7016,-42.3576,-42.184, -42.011,-41.839,-41.6664,-41.4951, -41.2382,-40.8965,-40.4707,-40.1308, -39.8759,-39.537,-39.2835,-39.0304, -38.6935,-38.3578,-38.024,-37.5258, -37.1928,-36.8624,-36.7799,-36.7435, -36.7544,-36.7665,-36.7766,-36.7814, -36.7855,-36.7886,-36.792,-36.7938, -36.7937,-36.7942,-36.7902,-36.7891, -36.7827,-36.7775,-36.7678,-36.7663, -36.7666,-37.258,-37.6702,-37.9998, -38.33,-38.6615,-38.9125,-39.3293, -39.8325,-40.1673,-40.5057,-40.7589, -41.0978,-41.5214,-41.8615,-42.2031, -42.5458,-42.7174,-42.889,-43.1476, -43.3202,-43.4932,-43.666,-43.9247, -44.0983,-44.2747,-44.5358,-44.7112, -44.9741,-45.1508,-45.2385,-45.3263)
FOOTPRINT_POINT_LONGITUDE = (157.545,157.986,158.294,158.647, 159.001,159.355,159.709,160.064,160.419 ,160.775,161.131,161.489,162.071, 162.116,162.164,162.17,162.176,162.183, 162.188,162.194,162.2,162.205,162.21, 162.215,162.219,162.224,162.23,162.235, 162.24,162.245,162.253,162.258,162.263, 162.267,162.272,162.276,162.282,162.29, 162.3,162.307,162.313,162.32,162.325, 162.33,162.337,162.343,162.349,162.356, 162.362,162.366,162.368,162.368,162.027 ,161.636,161.197,160.954,160.614, 160.372,160.032,159.79,159.548,159.306, 158.967,158.436,158.05,157.808,157.422, 157.374,157.356,157.376,157.392,157.404 ,157.416,157.427,157.435,157.448, 157.462,157.471,157.479,157.485,157.492 ,157.5,157.506,157.511,157.516,157.518, 157.519,157.522,157.524,157.525,157.526 ,157.527,157.528,157.529,157.53,157.53, 157.53,157.53,157.53,157.545)
ORBIT_NUMBER = 4667
ORBITAL_ECCENTRICITY = 0.57
ORBITAL_INCLINATION = 86.68
ORBITAL_SEMIMAJOR_AXIS = 8535.31
PERIAPSIS_ALTITUDE = 296.8
PERIAPSIS_ARGUMENT_ANGLE = 256.88
PERIAPSIS_TIME = 2007-08-22T11:54:39.000Z
SPACECRAFT_ORIENTATION = (0.0,-1.0,0.0)
^MEX_ORIENTATION_DESC = "MEX_ORIENTATION_DESC.TXT"
SPACECRAFT_POINTING_MODE = ACROSSTRACK
^MEX_POINTING_DESC = "MEX_POINTING_DESC.TXT"
RIGHT_ASCENSION = -1e+32
DECLINATION = -1e+32
OFFSET_ANGLE = -0.4
SPACECRAFT_SOLAR_DISTANCE = 2.12941e+08
TARGET_NAME = MARS
/* CAMERA DATA ELEMENTS */
DETECTOR_TEMPERATURE = 17.5549
FOCAL_PLANE_TEMPERATURE = 8.9911
INST_CMPRS_NAME = "DISCRETE COSINE TRANSFORMATION (DCT)"
INST_CMPRS_RATIO = 9.46608
INST_CMPRS_QUALITY = 0
INST_CMPRS_QUANTZ_TBL_ID = 0
INSTRUMENT_TEMPERATURE = 11.4379
LENS_TEMPERATURE = 9.3989
MACROPIXEL_SIZE = 2
MISSING_FRAMES = 0
PIXEL_SUBSAMPLING_FLAG = N
SIGNAL_CHAIN_ID = 3
/* RADIOMETRIC DATA ELEMENTS */
BANDWIDTH = 81.0
CENTER_FILTER_WAVELENGTH = 955.5
RADIANCE_OFFSET = 1.91897
RADIANCE_SCALING_FACTOR = 0.00282202
REFLECTANCE_SCALING_FACTOR = 0.000276066
MEX:REFLECTANCE_OFFSET = 0.187725
/* IMAGE OBJECT DEFINITIONS */
OBJECT = IMAGE
  INTERCHANGE_FORMAT = BINARY
  LINES = 5096
  LINE_SAMPLES = 2733
  SAMPLE_TYPE = UNSIGNED_INTEGER
  SAMPLE_BITS = 8
  BANDS = 1
  BAND_STORAGE_TYPE = BAND_SEQUENTIAL
  MAXIMUM = 255
  MEAN = 128.614
  MINIMUM = 1
  STANDARD_DEVIATION = 48.013
END_OBJECT = IMAGE
/* MAP OBJECT DEFINITIONS */
OBJECT = IMAGE_MAP_PROJECTION
  ^DATA_SET_MAP_PROJECTION_CATALOG= "DSMAP.CAT"
  A_AXIS_RADIUS = 3396.0
  B_AXIS_RADIUS = 3396.0
  C_AXIS_RADIUS = 3396.0
  CENTER_LATITUDE = 0.0
  CENTER_LONGITUDE = 160.0
  COORDINATE_SYSTEM_NAME = PLANETOGRAPHIC
  COORDINATE_SYSTEM_TYPE = "BODY-FIXED ROTATING"
  EASTERNMOST_LONGITUDE = 162.368
  FIRST_STANDARD_PARALLEL = "N/A"
  LINE_FIRST_PIXEL = 1
  LINE_LAST_PIXEL = 5096
  LINE_PROJECTION_OFFSET = -21769.75
  MAP_PROJECTION_ROTATION = 0.0
  MAP_PROJECTION_TYPE = SINUSOIDAL
  MAP_RESOLUTION = 592.713803866667
  MAP_SCALE = 0.1
  MAXIMUM_LATITUDE = -36.7435
  MINIMUM_LATITUDE = -45.3873
  POSITIVE_LONGITUDE_DIRECTION = EAST
  REFERENCE_LATITUDE = "N/A"
  REFERENCE_LONGITUDE = "N/A"
  SAMPLE_FIRST_PIXEL = 1
  SAMPLE_LAST_PIXEL = 2733
  SAMPLE_PROJECTION_OFFSET = 1461.25
  SECOND_STANDARD_PARALLEL = "N/A"
  WESTERNMOST_LONGITUDE = 157.356
END_OBJECT = IMAGE_MAP_PROJECTION
END
