PDS_VERSION_ID = PDS3
/* FILE DATA ELEMENTS */
RECORD_TYPE = UNDEFINED
/* POINTERS TO DATA OBJECTS */
^IMAGE = ("H4666_0000_P24.TIF")
/* IDENTIFICATION DATA ELEMENTS */
DATA_SET_ID = "MEX-M-HRSC-4-REFDR-MAPPROJECT-EXT1-V4.0"
DATA_SET_NAME = "MARS EXPRESS HRSC MAP PROJECTED REFDR EXTENSION1 V4.0"
DETECTOR_ID = MEX_HRSC_P2
EVENT_TYPE = "MARS-REGIONAL-MAPPING-Im-Gl-Eo"
INSTRUMENT_HOST_ID = MEX
INSTRUMENT_HOST_NAME = "MARS EXPRESS"
INSTRUMENT_ID = HRSC
INSTRUMENT_NAME = "HIGH RESOLUTION STEREO CAMERA"
MISSION_NAME = "MARS EXPRESS"
MISSION_PHASE_NAME = ME_Phase_9
PROCESSING_LEVEL_ID = 4
PRODUCT_CREATION_TIME = 2023-02-11T00:15:54.000Z
PRODUCT_ID = "H4666_0000_P24.TIF"
RELEASE_ID = 0007
REVISION_ID = 0000
/* QUALITY DATA ELEMENTS */
DATA_QUALITY_ID = 1
DATA_QUALITY_DESC = "Data calculated based on original SPICE kernels"
/* TIME DATA ELEMENTS */
SPACECRAFT_CLOCK_START_COUNT = "1/0135839833.07288"
SPACECRAFT_CLOCK_STOP_COUNT = "1/0135840155.34577"
START_TIME = 2007-08-22T05:18:23.395Z
STOP_TIME = 2007-08-22T05:22:10.623Z
/* ORBITAL DATA ELEMENTS */
ASCENDING_NODE_LONGITUDE = 130.82
MAXIMUM_RESOLUTION = 0.0368
FOOTPRINT_POINT_LATITUDE = (-77.0023,-77.1097,-77.1685,-77.2238, -77.2755,-77.3542,-77.3569,-77.4314, -76.7838,-76.4543,-75.7908,-75.3427, -75.0017,-74.5462,-74.3141,-74.0812, -73.7323,-73.4962,-73.2605,-73.0218, -72.6637,-72.4224,-72.1788,-71.9359, -71.6878,-71.4418,-71.1936,-70.9436, -70.6931,-70.4393,-70.0584,-69.801, -69.5445,-69.2836,-69.0233,-68.7596, -68.496,-68.2289,-67.9615,-67.6912, -67.284,-67.01,-66.733,-66.4566, -66.1799,-65.9001,-65.473,-65.1843, -65.0415,-65.0048,-64.9698,-64.9264, -64.8921,-64.8534,-64.8219,-64.7883, -64.7854,-64.785,-65.0689,-65.492, -65.7722,-66.0503,-66.464,-66.738, -67.0094,-67.4133,-67.6821,-67.9465, -68.2118,-68.4727,-68.7347,-68.9924, -69.379,-69.6336,-69.8875,-70.1385, -70.5139,-70.7619,-71.0099,-71.2533, -71.4974,-71.8594,-72.0998,-72.4573, -72.6932,-72.9289,-73.281,-73.51, -73.7391,-73.9677,-74.1964,-74.6452, -74.9822,-75.4237,-75.8599,-76.1839, -76.6108,-76.9279,-77.0336,-77.0023)
FOOTPRINT_POINT_LONGITUDE = (246.015,247.705,248.72,249.745,250.779 ,252.549,252.615,252.748,253.318, 253.586,254.088,254.399,254.623,254.907 ,255.045,255.177,255.372,255.498,255.62 ,255.739,255.915,256.028,256.138, 256.245,256.35,256.453,256.554,256.654, 256.749,256.845,256.982,257.072,257.16, 257.247,257.331,257.414,257.495,257.575 ,257.652,257.729,257.841,257.913, 257.984,258.054,258.126,258.194,258.291 ,258.354,258.386,258.394,257.202, 256.017,255.195,254.377,253.765,253.154 ,253.104,253.085,253.012,252.899, 252.821,252.74,252.616,252.531,252.444, 252.309,252.216,252.121,252.023,251.925 ,251.822,251.718,251.555,251.444,251.33 ,251.214,251.033,250.909,250.781, 250.651,250.517,250.311,250.168,249.947 ,249.797,249.641,249.393,249.234, 249.064,248.89,248.709,248.338,248.039, 247.626,247.192,246.849,246.369,245.99, 245.859,246.015)
ORBIT_NUMBER = 4666
ORBITAL_ECCENTRICITY = 0.57
ORBITAL_INCLINATION = 86.69
ORBITAL_SEMIMAJOR_AXIS = 8535.93
PERIAPSIS_ALTITUDE = 295.69
PERIAPSIS_ARGUMENT_ANGLE = 257.05
PERIAPSIS_TIME = 2007-08-22T05:11:27.000Z
SPACECRAFT_ORIENTATION = (0.0,-1.0,0.0)
^MEX_ORIENTATION_DESC = "MEX_ORIENTATION_DESC.TXT"
SPACECRAFT_POINTING_MODE = ACROSSTRACK
^MEX_POINTING_DESC = "MEX_POINTING_DESC.TXT"
RIGHT_ASCENSION = -1e+32
DECLINATION = -1e+32
OFFSET_ANGLE = -0.15
SPACECRAFT_SOLAR_DISTANCE = 2.129e+08
TARGET_NAME = MARS
/* CAMERA DATA ELEMENTS */
DETECTOR_TEMPERATURE = 18.5744
FOCAL_PLANE_TEMPERATURE = 8.9911
INST_CMPRS_NAME = "DISCRETE COSINE TRANSFORMATION (DCT)"
INST_CMPRS_RATIO = 7.74165
INST_CMPRS_QUALITY = 0
INST_CMPRS_QUANTZ_TBL_ID = 0
INSTRUMENT_TEMPERATURE = 12.8652
LENS_TEMPERATURE = 9.195
MACROPIXEL_SIZE = 2
MISSING_FRAMES = 0
PIXEL_SUBSAMPLING_FLAG = N
SIGNAL_CHAIN_ID = 3
/* RADIOMETRIC DATA ELEMENTS */
BANDWIDTH = 177.0
CENTER_FILTER_WAVELENGTH = 676.5
RADIANCE_OFFSET = 5.28174
RADIANCE_SCALING_FACTOR = 0.0152207
REFLECTANCE_SCALING_FACTOR = 0.000365801
MEX:REFLECTANCE_OFFSET = 0.126937
/* IMAGE OBJECT DEFINITIONS */
OBJECT = IMAGE
  INTERCHANGE_FORMAT = BINARY
  LINES = 29957
  LINE_SAMPLES = 8917
  SAMPLE_TYPE = UNSIGNED_INTEGER
  SAMPLE_BITS = 8
  BANDS = 1
  BAND_STORAGE_TYPE = BAND_SEQUENTIAL
  MAXIMUM = 255
  MEAN = 153.272
  MINIMUM = 1
  STANDARD_DEVIATION = 47.7497
END_OBJECT = IMAGE
/* MAP OBJECT DEFINITIONS */
OBJECT = IMAGE_MAP_PROJECTION
  ^DATA_SET_MAP_PROJECTION_CATALOG= "DSMAP.CAT"
  A_AXIS_RADIUS = 3396.0
  B_AXIS_RADIUS = 3396.0
  C_AXIS_RADIUS = 3396.0
  CENTER_LATITUDE = 0.0
  CENTER_LONGITUDE = 253.0
  COORDINATE_SYSTEM_NAME = PLANETOGRAPHIC
  COORDINATE_SYSTEM_TYPE = "BODY-FIXED ROTATING"
  EASTERNMOST_LONGITUDE = 258.394
  FIRST_STANDARD_PARALLEL = "N/A"
  LINE_FIRST_PIXEL = 1
  LINE_LAST_PIXEL = 29957
  LINE_PROJECTION_OFFSET = -153655.75
  MAP_PROJECTION_ROTATION = 0.0
  MAP_PROJECTION_TYPE = SINUSOIDAL
  MAP_RESOLUTION = 2370.85521546667
  MAP_SCALE = 0.025
  MAXIMUM_LATITUDE = -64.785
  MINIMUM_LATITUDE = -77.4314
  POSITIVE_LONGITUDE_DIRECTION = EAST
  REFERENCE_LATITUDE = "N/A"
  REFERENCE_LONGITUDE = "N/A"
  SAMPLE_FIRST_PIXEL = 1
  SAMPLE_LAST_PIXEL = 8917
  SAMPLE_PROJECTION_OFFSET = 3741.25
  SECOND_STANDARD_PARALLEL = "N/A"
  WESTERNMOST_LONGITUDE = 245.859
END_OBJECT = IMAGE_MAP_PROJECTION
END
