PDS_VERSION_ID = PDS3
/* FILE DATA ELEMENTS */
RECORD_TYPE = UNDEFINED
/* POINTERS TO DATA OBJECTS */
^IMAGE = ("H4665_0000_BL4.TIF")
/* IDENTIFICATION DATA ELEMENTS */
DATA_SET_ID = "MEX-M-HRSC-4-REFDR-MAPPROJECT-EXT1-V4.0"
DATA_SET_NAME = "MARS EXPRESS HRSC MAP PROJECTED REFDR EXTENSION1 V4.0"
DETECTOR_ID = MEX_HRSC_BLUE
EVENT_TYPE = "MARS-REGIONAL-MAPPING-Gl-Pf-Eo"
INSTRUMENT_HOST_ID = MEX
INSTRUMENT_HOST_NAME = "MARS EXPRESS"
INSTRUMENT_ID = HRSC
INSTRUMENT_NAME = "HIGH RESOLUTION STEREO CAMERA"
MISSION_NAME = "MARS EXPRESS"
MISSION_PHASE_NAME = ME_Phase_9
PROCESSING_LEVEL_ID = 4
PRODUCT_CREATION_TIME = 2023-02-11T00:15:54.000Z
PRODUCT_ID = "H4665_0000_BL4.TIF"
RELEASE_ID = 0007
REVISION_ID = 0000
/* QUALITY DATA ELEMENTS */
DATA_QUALITY_ID = 1
DATA_QUALITY_DESC = "Data calculated based on original SPICE kernels"
/* TIME DATA ELEMENTS */
SPACECRAFT_CLOCK_START_COUNT = "1/0135815582.09084"
SPACECRAFT_CLOCK_STOP_COUNT = "1/0135815897.32876"
START_TIME = 2007-08-21T22:33:47.092Z
STOP_TIME = 2007-08-21T22:37:26.471Z
/* ORBITAL DATA ELEMENTS */
ASCENDING_NODE_LONGITUDE = 130.83
MAXIMUM_RESOLUTION = 0.0629
FOOTPRINT_POINT_LATITUDE = (-80.225,-80.3401,-80.5026,-80.6496, -80.7376,-80.7416,-80.7607,-80.216, -79.7784,-79.3304,-79.1052,-78.766, -78.5351,-78.303,-78.071,-77.8388, -77.6008,-77.2436,-77.0057,-76.6417, -76.3977,-76.1539,-75.9064,-75.6576, -75.2837,-75.0291,-74.7745,-74.5203, -74.2613,-73.8721,-73.61,-73.3458, -73.0809,-72.8132,-72.5441,-72.275, -72.0005,-71.589,-71.31,-70.8921, -70.6077,-70.3243,-69.8928,-69.605, -69.3122,-69.02,-68.7233,-68.2766, -68.1258,-67.9778,-67.917,-67.8361, -67.7567,-67.6978,-67.6944,-67.6945, -68.1415,-68.4353,-68.729,-69.0183, -69.308,-69.5927,-70.019,-70.299, -70.5794,-70.8547,-71.1304,-71.5384, -71.8091,-72.2097,-72.4754,-72.7393, -73.1301,-73.3904,-73.6455,-73.9009, -74.1554,-74.4051,-74.655,-74.9049, -75.1488,-75.393,-75.7576,-75.9959, -76.2342,-76.5894,-76.8216,-77.1694, -77.4005,-77.6261,-77.8514,-78.0764, -78.3001,-78.7365,-78.954,-79.2767, -79.6968,-80.0101,-80.1141,-80.225)
FOOTPRINT_POINT_LONGITUDE = (334.348,335.75,337.925,340.141,341.619 ,341.69,341.697,342.906,343.777,344.589 ,344.971,345.515,345.865,346.203, 346.527,346.838,347.143,347.579,347.856 ,348.259,348.516,348.764,349.007, 349.242,349.579,349.798,350.01,350.214, 350.415,350.704,350.89,351.072,351.247, 351.42,351.588,351.75,351.91,352.139, 352.29,352.506,352.647,352.783,352.983, 353.111,353.238,353.361,353.482,353.657 ,353.715,353.771,352.398,350.878, 349.592,348.733,348.686,348.669,348.468 ,348.329,348.185,348.038,347.885, 347.731,347.487,347.323,347.155,346.98, 346.8,346.522,346.331,346.035,345.83, 345.619,345.294,345.068,344.837,344.597 ,344.351,344.103,343.838,343.557, 343.297,343.013,342.568,342.265,341.947 ,341.451,341.11,340.575,340.198,339.816 ,339.422,339.009,338.584,337.693,337.22 ,336.478,335.435,334.59,334.296, 334.348)
ORBIT_NUMBER = 4665
ORBITAL_ECCENTRICITY = 0.57
ORBITAL_INCLINATION = 86.69
ORBITAL_SEMIMAJOR_AXIS = 8534.25
PERIAPSIS_ALTITUDE = 296.25
PERIAPSIS_ARGUMENT_ANGLE = 257.22
PERIAPSIS_TIME = 2007-08-21T22:28:13.000Z
SPACECRAFT_ORIENTATION = (0.0,-1.0,0.0)
^MEX_ORIENTATION_DESC = "MEX_ORIENTATION_DESC.TXT"
SPACECRAFT_POINTING_MODE = ACROSSTRACK
^MEX_POINTING_DESC = "MEX_POINTING_DESC.TXT"
RIGHT_ASCENSION = -1e+32
DECLINATION = -1e+32
OFFSET_ANGLE = 0.55
SPACECRAFT_SOLAR_DISTANCE = 2.12859e+08
TARGET_NAME = MARS
/* CAMERA DATA ELEMENTS */
DETECTOR_TEMPERATURE = 18.1666
FOCAL_PLANE_TEMPERATURE = 9.195
INST_CMPRS_NAME = "DISCRETE COSINE TRANSFORMATION (DCT)"
INST_CMPRS_RATIO = 12.541
INST_CMPRS_QUALITY = 0
INST_CMPRS_QUANTZ_TBL_ID = 0
INSTRUMENT_TEMPERATURE = 11.4379
LENS_TEMPERATURE = 9.8067
MACROPIXEL_SIZE = 4
MISSING_FRAMES = 0
PIXEL_SUBSAMPLING_FLAG = N
SIGNAL_CHAIN_ID = 2
/* RADIOMETRIC DATA ELEMENTS */
BANDWIDTH = 76.0
CENTER_FILTER_WAVELENGTH = 444.0
RADIANCE_OFFSET = 0.743027
RADIANCE_SCALING_FACTOR = 0.00241952
REFLECTANCE_SCALING_FACTOR = 0.000112634
MEX:REFLECTANCE_OFFSET = 0.0345896
/* IMAGE OBJECT DEFINITIONS */
OBJECT = IMAGE
  INTERCHANGE_FORMAT = BINARY
  LINES = 15498
  LINE_SAMPLES = 5614
  SAMPLE_TYPE = UNSIGNED_INTEGER
  SAMPLE_BITS = 8
  BANDS = 1
  BAND_STORAGE_TYPE = BAND_SEQUENTIAL
  MAXIMUM = 255
  MEAN = 84.4628
  MINIMUM = 1
  STANDARD_DEVIATION = 30.1497
END_OBJECT = IMAGE
/* MAP OBJECT DEFINITIONS */
OBJECT = IMAGE_MAP_PROJECTION
  ^DATA_SET_MAP_PROJECTION_CATALOG= "DSMAP.CAT"
  A_AXIS_RADIUS = 3396.0
  B_AXIS_RADIUS = 3396.0
  C_AXIS_RADIUS = 3396.0
  CENTER_LATITUDE = 0.0
  CENTER_LONGITUDE = 347.0
  COORDINATE_SYSTEM_NAME = PLANETOGRAPHIC
  COORDINATE_SYSTEM_TYPE = "BODY-FIXED ROTATING"
  EASTERNMOST_LONGITUDE = 353.771
  FIRST_STANDARD_PARALLEL = "N/A"
  LINE_FIRST_PIXEL = 1
  LINE_LAST_PIXEL = 15498
  LINE_PROJECTION_OFFSET = -80255.375
  MAP_PROJECTION_ROTATION = 0.0
  MAP_PROJECTION_TYPE = SINUSOIDAL
  MAP_RESOLUTION = 1185.42760773333
  MAP_SCALE = 0.05
  MAXIMUM_LATITUDE = -67.6944
  MINIMUM_LATITUDE = -80.7607
  POSITIVE_LONGITUDE_DIRECTION = EAST
  REFERENCE_LATITUDE = "N/A"
  REFERENCE_LONGITUDE = "N/A"
  SAMPLE_FIRST_PIXEL = 1
  SAMPLE_LAST_PIXEL = 5614
  SAMPLE_PROJECTION_OFFSET = 2611.875
  SECOND_STANDARD_PARALLEL = "N/A"
  WESTERNMOST_LONGITUDE = 334.296
END_OBJECT = IMAGE_MAP_PROJECTION
END
