PDS_VERSION_ID = PDS3
/* FILE DATA ELEMENTS */
RECORD_TYPE = UNDEFINED
/* POINTERS TO DATA OBJECTS */
^IMAGE = ("H4664_0000_ND4.TIF")
/* IDENTIFICATION DATA ELEMENTS */
DATA_SET_ID = "MEX-M-HRSC-4-REFDR-MAPPROJECT-EXT1-V4.0"
DATA_SET_NAME = "MARS EXPRESS HRSC MAP PROJECTED REFDR EXTENSION1 V4.0"
DETECTOR_ID = MEX_HRSC_NADIR
EVENT_TYPE = "MARS-REGIONAL-MAPPING-Im-Pf"
INSTRUMENT_HOST_ID = MEX
INSTRUMENT_HOST_NAME = "MARS EXPRESS"
INSTRUMENT_ID = HRSC
INSTRUMENT_NAME = "HIGH RESOLUTION STEREO CAMERA"
MISSION_NAME = "MARS EXPRESS"
MISSION_PHASE_NAME = ME_Phase_9
PROCESSING_LEVEL_ID = 4
PRODUCT_CREATION_TIME = 2023-02-11T00:15:54.000Z
PRODUCT_ID = "H4664_0000_ND4.TIF"
RELEASE_ID = 0007
REVISION_ID = 0000
/* QUALITY DATA ELEMENTS */
DATA_QUALITY_ID = 1
DATA_QUALITY_DESC = "Data calculated based on original SPICE kernels"
/* TIME DATA ELEMENTS */
SPACECRAFT_CLOCK_START_COUNT = "1/0135791516.08248"
SPACECRAFT_CLOCK_STOP_COUNT = "1/0135791911.22665"
START_TIME = 2007-08-21T15:52:43.371Z
STOP_TIME = 2007-08-21T15:56:59.381Z
/* ORBITAL DATA ELEMENTS */
ASCENDING_NODE_LONGITUDE = 130.85
MAXIMUM_RESOLUTION = 0.0191
FOOTPRINT_POINT_LATITUDE = (-72.3494,-72.4679,-72.5713,-72.6699, -72.6724,-72.6765,-72.3106,-71.8157, -71.3151,-70.8093,-70.166,-69.7746, -69.5129,-69.1151,-68.8497,-68.4448, -68.1748,-67.9008,-67.6265,-67.2101, -66.9319,-66.6494,-66.3669,-66.0805, -65.7943,-65.5039,-65.0666,-64.7722, -64.4754,-64.1773,-63.8758,-63.4205, -63.1147,-62.8052,-62.4948,-62.1814, -61.8658,-61.5483,-61.227,-60.9039, -60.5791,-60.2509,-59.9202,-59.5872, -59.2522,-58.9132,-58.4008,-58.2281, -58.2177,-58.1878,-58.1661,-58.1183, -58.0782,-58.0496,-58.0128,-58.0099, -58.0088,-58.3501,-58.6891,-59.0253, -59.3586,-59.6891,-60.0178,-60.3436, -60.6661,-60.9871,-61.3058,-61.621, -61.9346,-62.2458,-62.5543,-62.8616, -63.1651,-63.6168,-63.9162,-64.2121, -64.5067,-64.7988,-65.2329,-65.5209, -65.8048,-66.089,-66.3686,-66.649, -66.925,-67.3374,-67.609,-67.8807, -68.148,-68.5488,-68.812,-69.2064, -69.8522,-70.2338,-70.7387,-71.2369, -71.7275,-72.2118,-72.3322,-72.3494)
FOOTPRINT_POINT_LONGITUDE = (84.6116,86.2783,87.9475,89.8279, 89.8802,89.9403,90.1588,90.4441,90.7054 ,90.9613,91.2641,91.4415,91.553,91.719, 91.8303,91.9859,92.0866,92.189,92.286, 92.4303,92.5235,92.6182,92.7058,92.7944 ,92.8805,92.9655,93.0906,93.1719, 93.2514,93.3291,93.4075,93.5172,93.5901 ,93.6622,93.7337,93.8055,93.8738,93.939 ,94.0023,94.0666,94.1296,94.1927, 94.2539,94.3136,94.3741,94.4322,94.5139 ,94.5418,94.5435,93.5235,92.9174,91.796 ,90.9989,90.4825,89.8695,89.8224, 89.7991,89.7441,89.6909,89.6233,89.573, 89.5077,89.4493,89.3816,89.3144,89.2455 ,89.1757,89.1049,89.0311,88.9544, 88.8825,88.8026,88.7209,88.5949,88.508, 88.4218,88.3324,88.2407,88.0994,88.0009 ,87.9017,87.7989,87.6921,87.5839, 87.4776,87.3008,87.1836,87.0637,86.9423 ,86.7539,86.6272,86.4359,86.0817, 85.8621,85.5692,85.2418,84.9052,84.5571 ,84.467,84.6116)
ORBIT_NUMBER = 4664
ORBITAL_ECCENTRICITY = 0.57
ORBITAL_INCLINATION = 86.7
ORBITAL_SEMIMAJOR_AXIS = 8533.17
PERIAPSIS_ALTITUDE = 295.27
PERIAPSIS_ARGUMENT_ANGLE = 257.41
PERIAPSIS_TIME = 2007-08-21T15:45:03.000Z
SPACECRAFT_ORIENTATION = (0.0,-1.0,0.0)
^MEX_ORIENTATION_DESC = "MEX_ORIENTATION_DESC.TXT"
SPACECRAFT_POINTING_MODE = ACROSSTRACK
^MEX_POINTING_DESC = "MEX_POINTING_DESC.TXT"
RIGHT_ASCENSION = -1e+32
DECLINATION = -1e+32
OFFSET_ANGLE = 0.5
SPACECRAFT_SOLAR_DISTANCE = 2.12817e+08
TARGET_NAME = MARS
/* CAMERA DATA ELEMENTS */
DETECTOR_TEMPERATURE = 19.39
FOCAL_PLANE_TEMPERATURE = 9.195
INST_CMPRS_NAME = "DISCRETE COSINE TRANSFORMATION (DCT)"
INST_CMPRS_RATIO = 7.40512
INST_CMPRS_QUALITY = 0
INST_CMPRS_QUANTZ_TBL_ID = 0
INSTRUMENT_TEMPERATURE = 11.4379
LENS_TEMPERATURE = 9.6028
MACROPIXEL_SIZE = 1
MISSING_FRAMES = 0
PIXEL_SUBSAMPLING_FLAG = N
SIGNAL_CHAIN_ID = 0
/* RADIOMETRIC DATA ELEMENTS */
BANDWIDTH = 177.0
CENTER_FILTER_WAVELENGTH = 677.5
RADIANCE_OFFSET = 5.64395
RADIANCE_SCALING_FACTOR = 0.0153229
REFLECTANCE_SCALING_FACTOR = 0.000368675
MEX:REFLECTANCE_OFFSET = 0.135795
/* IMAGE OBJECT DEFINITIONS */
OBJECT = IMAGE
  INTERCHANGE_FORMAT = BINARY
  LINES = 34777
  LINE_SAMPLES = 9658
  SAMPLE_TYPE = UNSIGNED_INTEGER
  SAMPLE_BITS = 8
  BANDS = 1
  BAND_STORAGE_TYPE = BAND_SEQUENTIAL
  MAXIMUM = 255
  MEAN = 116.11
  MINIMUM = 1
  STANDARD_DEVIATION = 49.1501
END_OBJECT = IMAGE
/* MAP OBJECT DEFINITIONS */
OBJECT = IMAGE_MAP_PROJECTION
  ^DATA_SET_MAP_PROJECTION_CATALOG= "DSMAP.CAT"
  A_AXIS_RADIUS = 3396.0
  B_AXIS_RADIUS = 3396.0
  C_AXIS_RADIUS = 3396.0
  CENTER_LATITUDE = 0.0
  CENTER_LONGITUDE = 90.0
  COORDINATE_SYSTEM_NAME = PLANETOGRAPHIC
  COORDINATE_SYSTEM_TYPE = "BODY-FIXED ROTATING"
  EASTERNMOST_LONGITUDE = 94.54349999999999
  FIRST_STANDARD_PARALLEL = "N/A"
  LINE_FIRST_PIXEL = 1
  LINE_LAST_PIXEL = 34777
  LINE_PROJECTION_OFFSET = -137531.0
  MAP_PROJECTION_ROTATION = 0.0
  MAP_PROJECTION_TYPE = SINUSOIDAL
  MAP_RESOLUTION = 2370.85521546667
  MAP_SCALE = 0.025
  MAXIMUM_LATITUDE = -58.0088
  MINIMUM_LATITUDE = -72.6765
  POSITIVE_LONGITUDE_DIRECTION = EAST
  REFERENCE_LATITUDE = "N/A"
  REFERENCE_LONGITUDE = "N/A"
  SAMPLE_FIRST_PIXEL = 1
  SAMPLE_LAST_PIXEL = 9658
  SAMPLE_PROJECTION_OFFSET = 3983.0
  SECOND_STANDARD_PARALLEL = "N/A"
  WESTERNMOST_LONGITUDE = 84.467
END_OBJECT = IMAGE_MAP_PROJECTION
END
