PDS_VERSION_ID = PDS3
/* FILE DATA ELEMENTS */
RECORD_TYPE = UNDEFINED
/* POINTERS TO DATA OBJECTS */
^IMAGE = ("H4661_0001_S14.TIF")
/* IDENTIFICATION DATA ELEMENTS */
DATA_SET_ID = "MEX-M-HRSC-4-REFDR-MAPPROJECT-EXT1-V4.0"
DATA_SET_NAME = "MARS EXPRESS HRSC MAP PROJECTED REFDR EXTENSION1 V4.0"
DETECTOR_ID = MEX_HRSC_S1
EVENT_TYPE = "MARS-REGIONAL-MAPPING-Vo-Gl"
INSTRUMENT_HOST_ID = MEX
INSTRUMENT_HOST_NAME = "MARS EXPRESS"
INSTRUMENT_ID = HRSC
INSTRUMENT_NAME = "HIGH RESOLUTION STEREO CAMERA"
MISSION_NAME = "MARS EXPRESS"
MISSION_PHASE_NAME = ME_Phase_9
PROCESSING_LEVEL_ID = 4
PRODUCT_CREATION_TIME = 2023-02-11T00:15:54.000Z
PRODUCT_ID = "H4661_0001_S14.TIF"
RELEASE_ID = 0007
REVISION_ID = 0000
/* QUALITY DATA ELEMENTS */
DATA_QUALITY_ID = 1
DATA_QUALITY_DESC = "Data calculated based on original SPICE kernels"
/* TIME DATA ELEMENTS */
SPACECRAFT_CLOCK_START_COUNT = "1/0135719002.09052"
SPACECRAFT_CLOCK_STOP_COUNT = "1/0135719405.56121"
START_TIME = 2007-08-20T19:43:26.142Z
STOP_TIME = 2007-08-20T19:47:00.825Z
/* ORBITAL DATA ELEMENTS */
ASCENDING_NODE_LONGITUDE = 130.91
MAXIMUM_RESOLUTION = 0.0424
FOOTPRINT_POINT_LATITUDE = (-67.6291,-67.6942,-67.7335,-67.7922, -67.826,-67.8542,-67.8557,-67.7659, -67.2006,-66.7394,-66.2693,-65.7963, -65.3177,-64.8302,-64.3384,-64.0896, -63.8418,-63.5904,-63.3394,-63.0859, -62.8305,-62.5747,-62.1855,-61.926, -61.6639,-61.4014,-61.135,-60.8655, -60.5886,-60.3167,-60.0522,-59.7755, -59.5001,-59.2203,-58.7998,-58.5171, -58.2324,-57.9463,-57.6577,-57.3675, -57.0735,-56.7789,-56.4812,-56.1833, -55.8817,-55.5794,-55.2741,-54.9669, -54.6591,-54.4974,-54.4257,-54.4105, -54.4046,-54.3902,-54.3649,-54.3322, -54.303,-54.276,-54.273,-54.273, -54.7383,-55.0374,-55.3435,-55.8004, -56.2486,-56.5442,-56.837,-57.2747, -57.5638,-57.8513,-58.2754,-58.5561, -58.9753,-59.3913,-59.6649,-59.9388, -60.2091,-60.4794,-60.8776,-61.1433, -61.5382,-61.8021,-62.0602,-62.3168, -62.5696,-62.8242,-63.0769,-63.3278, -63.5757,-64.0692,-64.3163,-64.8015, -65.163,-65.7568,-66.2251,-66.5739, -67.0323,-67.375,-67.4884,-67.6291)
FOOTPRINT_POINT_LONGITUDE = (23.7246,24.7499,25.4363,26.5995, 27.3786,28.1174,28.161,28.2736,28.4323, 28.5578,28.682,28.801,28.9154,29.0287, 29.138,29.1915,29.2431,29.294,29.3433, 29.393,29.4412,29.4889,29.5595,29.6052, 29.6493,29.6928,29.7372,29.7818,29.8305 ,29.8725,29.9082,29.9496,29.9894, 30.0291,30.0868,30.1242,30.1614,30.1973 ,30.2331,30.2683,30.3038,30.3382, 30.3721,30.405,30.4374,30.469,30.5005, 30.5312,30.561,30.5792,30.5857,29.8056, 29.3522,28.82,28.1663,27.4313,26.8606, 26.4119,26.371,26.3562,26.3133,26.2804, 26.2505,26.2041,26.1544,26.1196,26.0845 ,26.0304,25.9929,25.9551,25.8949, 25.8541,25.7915,25.7267,25.6823,25.6371 ,25.591,25.5436,25.4705,25.4207,25.3446 ,25.2931,25.2396,25.1839,25.128,25.0711 ,25.0132,24.9544,24.8929,24.7692, 24.7054,24.5744,24.4728,24.2959,24.1487 ,24.0347,23.8765,23.7554,23.7142, 23.7246)
ORBIT_NUMBER = 4661
ORBITAL_ECCENTRICITY = 0.57
ORBITAL_INCLINATION = 86.68
ORBITAL_SEMIMAJOR_AXIS = 8534.25
PERIAPSIS_ALTITUDE = 296.01
PERIAPSIS_ARGUMENT_ANGLE = 257.92
PERIAPSIS_TIME = 2007-08-20T19:35:19.000Z
SPACECRAFT_ORIENTATION = (0.0,-1.0,0.0)
^MEX_ORIENTATION_DESC = "MEX_ORIENTATION_DESC.TXT"
SPACECRAFT_POINTING_MODE = NADIR
^MEX_POINTING_DESC = "MEX_POINTING_DESC.TXT"
RIGHT_ASCENSION = -1e+32
DECLINATION = -1e+32
OFFSET_ANGLE = -1e+32
SPACECRAFT_SOLAR_DISTANCE = 2.12695e+08
TARGET_NAME = MARS
/* CAMERA DATA ELEMENTS */
DETECTOR_TEMPERATURE = 18.7783
FOCAL_PLANE_TEMPERATURE = 8.9911
INST_CMPRS_NAME = "DISCRETE COSINE TRANSFORMATION (DCT)"
INST_CMPRS_RATIO = 13.8161
INST_CMPRS_QUALITY = 0
INST_CMPRS_QUANTZ_TBL_ID = 0
INSTRUMENT_TEMPERATURE = 12.8652
LENS_TEMPERATURE = 9.8067
MACROPIXEL_SIZE = 2
MISSING_FRAMES = 0
PIXEL_SUBSAMPLING_FLAG = N
SIGNAL_CHAIN_ID = 1
/* RADIOMETRIC DATA ELEMENTS */
BANDWIDTH = 180.0
CENTER_FILTER_WAVELENGTH = 677.0
RADIANCE_OFFSET = 7.58872
RADIANCE_SCALING_FACTOR = 0.0125196
REFLECTANCE_SCALING_FACTOR = 0.000295494
MEX:REFLECTANCE_OFFSET = 0.179113
/* IMAGE OBJECT DEFINITIONS */
OBJECT = IMAGE
  INTERCHANGE_FORMAT = BINARY
  LINES = 15990
  LINE_SAMPLES = 4205
  SAMPLE_TYPE = UNSIGNED_INTEGER
  SAMPLE_BITS = 8
  BANDS = 1
  BAND_STORAGE_TYPE = BAND_SEQUENTIAL
  MAXIMUM = 255
  MEAN = 151.94
  MINIMUM = 1
  STANDARD_DEVIATION = 34.6343
END_OBJECT = IMAGE
/* MAP OBJECT DEFINITIONS */
OBJECT = IMAGE_MAP_PROJECTION
  ^DATA_SET_MAP_PROJECTION_CATALOG= "DSMAP.CAT"
  A_AXIS_RADIUS = 3396.0
  B_AXIS_RADIUS = 3396.0
  C_AXIS_RADIUS = 3396.0
  CENTER_LATITUDE = 0.0
  CENTER_LONGITUDE = 27.0
  COORDINATE_SYSTEM_NAME = PLANETOGRAPHIC
  COORDINATE_SYSTEM_TYPE = "BODY-FIXED ROTATING"
  EASTERNMOST_LONGITUDE = 30.5857
  FIRST_STANDARD_PARALLEL = "N/A"
  LINE_FIRST_PIXEL = 1
  LINE_LAST_PIXEL = 15990
  LINE_PROJECTION_OFFSET = -64317.75
  MAP_PROJECTION_ROTATION = 0.0
  MAP_PROJECTION_TYPE = SINUSOIDAL
  MAP_RESOLUTION = 1185.42760773333
  MAP_SCALE = 0.05
  MAXIMUM_LATITUDE = -54.273
  MINIMUM_LATITUDE = -67.8557
  POSITIVE_LONGITUDE_DIRECTION = EAST
  REFERENCE_LATITUDE = "N/A"
  REFERENCE_LONGITUDE = "N/A"
  SAMPLE_FIRST_PIXEL = 1
  SAMPLE_LAST_PIXEL = 4205
  SAMPLE_PROJECTION_OFFSET = 1586.25
  SECOND_STANDARD_PARALLEL = "N/A"
  WESTERNMOST_LONGITUDE = 23.7142
END_OBJECT = IMAGE_MAP_PROJECTION
END
