PDS_VERSION_ID = PDS3
/* FILE DATA ELEMENTS */
RECORD_TYPE = UNDEFINED
/* POINTERS TO DATA OBJECTS */
^IMAGE = ("H4660_0002_SR4.TIF")
/* IDENTIFICATION DATA ELEMENTS */
DATA_SET_ID = "MEX-M-HRSC-4-REFDR-MAPPROJECT-EXT1-V4.0"
DATA_SET_NAME = "MARS EXPRESS HRSC MAP PROJECTED REFDR EXTENSION1 V4.0"
DETECTOR_ID = MEX_HRSC_SRC
EVENT_TYPE = "MARS-REGIONAL-MAPPING-Gl-Eo-La"
INSTRUMENT_HOST_ID = MEX
INSTRUMENT_HOST_NAME = "MARS EXPRESS"
INSTRUMENT_ID = HRSC
INSTRUMENT_NAME = "HIGH RESOLUTION STEREO CAMERA"
MISSION_NAME = "MARS EXPRESS"
MISSION_PHASE_NAME = ME_Phase_9
PROCESSING_LEVEL_ID = 4
PRODUCT_CREATION_TIME = 2023-02-11T00:15:54.000Z
PRODUCT_ID = "H4660_0002_SR4.TIF"
RELEASE_ID = 0007
REVISION_ID = 0000
/* QUALITY DATA ELEMENTS */
DATA_QUALITY_ID = 1
DATA_QUALITY_DESC = "Data calculated based on original SPICE kernels"
/* TIME DATA ELEMENTS */
SPACECRAFT_CLOCK_START_COUNT = "1/0135694516.08236"
SPACECRAFT_CLOCK_STOP_COUNT = "1/0135694748.08694"
IMAGE_TIME = 2007-08-20T12:56:18.166Z
START_TIME = 2007-08-20T12:56:18.164Z
STOP_TIME = 2007-08-20T12:56:18.169Z
/* ORBITAL DATA ELEMENTS */
ASCENDING_NODE_LONGITUDE = 130.94
MAXIMUM_RESOLUTION = 0.003203
FOOTPRINT_POINT_LATITUDE = (-83.9995,-84.0012,-84.0035,-84.0066, -84.0084,-84.0101,-84.0115,-84.0134, -84.0159,-84.0173,-84.0191,-84.0207, -84.0229,-84.0243,-84.0259,-84.0276, -84.0299,-84.0314,-84.0338,-84.0365, -84.0381,-84.0399,-84.0414,-84.0415, -84.0414,-84.04,-84.0386,-84.0372, -84.0357,-84.0343,-84.0329,-84.0315, -84.0301,-84.0286,-84.0272,-84.0258, -84.0244,-84.0229,-84.0215,-84.0201, -84.0187,-84.0172,-84.0158,-84.0146, -84.0132,-84.0117,-84.0103,-84.0089, -84.0075,-84.006,-84.0057,-84.0054, -84.0037,-84.0014,-83.9996,-83.9979, -83.9943,-83.9914,-83.9887,-83.9869, -83.9853,-83.984,-83.982,-83.9799, -83.9782,-83.9763,-83.9735,-83.972, -83.9695,-83.968,-83.9667,-83.9638, -83.9638,-83.9638,-83.9659,-83.9674, -83.9688,-83.9702,-83.9716,-83.973, -83.9749,-83.9763,-83.9777,-83.9792, -83.9806,-83.982,-83.9834,-83.9848, -83.9863,-83.9877,-83.9891,-83.9905, -83.9919,-83.9933,-83.9947,-83.9962, -83.9976,-83.999,-83.9993,-83.9995)
FOOTPRINT_POINT_LONGITUDE = (93.0814,93.0683,93.0495,93.0247, 93.0099,92.9961,92.9843,92.9695,92.9486 ,92.9378,92.9226,92.9095,92.8916, 92.8804,92.8669,92.853,92.8344,92.8219, 92.8029,92.785,92.7715,92.7569,92.7446, 92.7443,92.7439,92.7279,92.7119,92.6959 ,92.6799,92.6639,92.648,92.632,92.6161, 92.6001,92.5842,92.5682,92.5523,92.5363 ,92.5204,92.5045,92.4886,92.4727, 92.4568,92.4438,92.4279,92.4121,92.3962 ,92.3803,92.3645,92.3486,92.3447, 92.3423,92.3569,92.376,92.3906,92.4046, 92.4348,92.4585,92.4756,92.4905,92.5038 ,92.5146,92.5312,92.5481,92.5619, 92.5774,92.6004,92.6129,92.6334,92.6452 ,92.656,92.6798,92.6802,92.6806,92.7043 ,92.7201,92.7359,92.7518,92.7676, 92.7835,92.8044,92.8203,92.8362,92.8521 ,92.8679,92.8838,92.8997,92.9156, 92.9315,92.9474,92.9634,92.9793,92.9952 ,93.0112,93.0271,93.0431,93.059,93.075, 93.079,93.0814)
ORBIT_NUMBER = 4660
ORBITAL_ECCENTRICITY = 0.57
ORBITAL_INCLINATION = 86.69
ORBITAL_SEMIMAJOR_AXIS = 8533.49
PERIAPSIS_ALTITUDE = 295.99
PERIAPSIS_ARGUMENT_ANGLE = 258.09
PERIAPSIS_TIME = 2007-08-20T12:52:09.000Z
SPACECRAFT_ORIENTATION = (0.0,-1.0,0.0)
^MEX_ORIENTATION_DESC = "MEX_ORIENTATION_DESC.TXT"
SPACECRAFT_POINTING_MODE = ACROSSTRACK
^MEX_POINTING_DESC = "MEX_POINTING_DESC.TXT"
RIGHT_ASCENSION = -1e+32
DECLINATION = -1e+32
OFFSET_ANGLE = 0.58
SPACECRAFT_SOLAR_DISTANCE = 2.12654e+08
TARGET_NAME = MARS
/* CAMERA DATA ELEMENTS */
BUFFER_MODE_ID = BUFFER_8
EXPOSURE_DURATION = 5.04
INST_CMPRS_NAME = NONE
INST_CMPRS_RATIO = 1.0
INST_CMPRS_QUALITY = -2147483648
INST_CMPRS_QUANTZ_TBL_ID = -2147483648
INSTRUMENT_TEMPERATURE = 9.17955
MISSING_FRAMES = 0
START_BIT = 0
/* RADIOMETRIC DATA ELEMENTS */
BANDWIDTH = 250.0
CENTER_FILTER_WAVELENGTH = 600.0
RADIANCE_OFFSET = -9.99e+31
RADIANCE_SCALING_FACTOR = -9.99e+31
REFLECTANCE_SCALING_FACTOR = -9.99e+31
MEX:REFLECTANCE_OFFSET = -9.99e+31
/* IMAGE OBJECT DEFINITIONS */
OBJECT = IMAGE
  INTERCHANGE_FORMAT = BINARY
  LINES = 1986
  LINE_SAMPLES = 1988
  SAMPLE_TYPE = UNSIGNED_INTEGER
  SAMPLE_BITS = 8
  BANDS = 1
  BAND_STORAGE_TYPE = BAND_SEQUENTIAL
  MAXIMUM = 250
  MEAN = 140.193
  MINIMUM = 5
  STANDARD_DEVIATION = 22.6744
END_OBJECT = IMAGE
/* MAP OBJECT DEFINITIONS */
OBJECT = IMAGE_MAP_PROJECTION
  ^DATA_SET_MAP_PROJECTION_CATALOG= "DSMAP.CAT"
  A_AXIS_RADIUS = 3396.19
  B_AXIS_RADIUS = 3396.19
  C_AXIS_RADIUS = 3396.19
  CENTER_LATITUDE = 0.0
  CENTER_LONGITUDE = 93.0
  COORDINATE_SYSTEM_NAME = PLANETOGRAPHIC
  COORDINATE_SYSTEM_TYPE = "BODY-FIXED ROTATING"
  EASTERNMOST_LONGITUDE = 93.0814
  FIRST_STANDARD_PARALLEL = "N/A"
  LINE_FIRST_PIXEL = 1
  LINE_LAST_PIXEL = 1986
  LINE_PROJECTION_OFFSET = -1984682.0
  MAP_PROJECTION_ROTATION = 0.0
  MAP_PROJECTION_TYPE = SINUSOIDAL
  MAP_RESOLUTION = 23709.8786048756
  MAP_SCALE = 0.0025
  MAXIMUM_LATITUDE = -83.96380000000001
  MINIMUM_LATITUDE = -84.0415
  POSITIVE_LONGITUDE_DIRECTION = EAST
  REFERENCE_LATITUDE = "N/A"
  REFERENCE_LONGITUDE = "N/A"
  SAMPLE_FIRST_PIXEL = 1
  SAMPLE_LAST_PIXEL = 1988
  SAMPLE_PROJECTION_OFFSET = 2395.0
  SECOND_STANDARD_PARALLEL = "N/A"
  WESTERNMOST_LONGITUDE = 92.34229999999999
END_OBJECT = IMAGE_MAP_PROJECTION
END
