PDS_VERSION_ID = PDS3
/* FILE DATA ELEMENTS */
RECORD_TYPE = UNDEFINED
/* POINTERS TO DATA OBJECTS */
^IMAGE = ("H4660_0000_ND4.TIF")
/* IDENTIFICATION DATA ELEMENTS */
DATA_SET_ID = "MEX-M-HRSC-4-REFDR-MAPPROJECT-EXT1-V4.0"
DATA_SET_NAME = "MARS EXPRESS HRSC MAP PROJECTED REFDR EXTENSION1 V4.0"
DETECTOR_ID = MEX_HRSC_NADIR
EVENT_TYPE = "MARS-REGIONAL-MAPPING-Gl-Eo-La"
INSTRUMENT_HOST_ID = MEX
INSTRUMENT_HOST_NAME = "MARS EXPRESS"
INSTRUMENT_ID = HRSC
INSTRUMENT_NAME = "HIGH RESOLUTION STEREO CAMERA"
MISSION_NAME = "MARS EXPRESS"
MISSION_PHASE_NAME = ME_Phase_9
PROCESSING_LEVEL_ID = 4
PRODUCT_CREATION_TIME = 2023-02-11T00:15:54.000Z
PRODUCT_ID = "H4660_0000_ND4.TIF"
RELEASE_ID = 0007
REVISION_ID = 0000
/* QUALITY DATA ELEMENTS */
DATA_QUALITY_ID = 1
DATA_QUALITY_DESC = "Data calculated based on original SPICE kernels"
/* TIME DATA ELEMENTS */
SPACECRAFT_CLOCK_START_COUNT = "1/0135694516.08236"
SPACECRAFT_CLOCK_STOP_COUNT = "1/0135694748.08694"
START_TIME = 2007-08-20T12:55:49.881Z
STOP_TIME = 2007-08-20T12:58:26.858Z
/* ORBITAL DATA ELEMENTS */
ASCENDING_NODE_LONGITUDE = 130.94
MAXIMUM_RESOLUTION = 0.0134
FOOTPRINT_POINT_LATITUDE = (-84.7949,-84.9893,-85.1413,-85.4351, -85.715,-85.7235,-85.7275,-85.6123, -85.4928,-85.3692,-85.242,-85.1115, -84.8413,-84.5607,-84.2712,-83.9742, -83.6709,-83.4397,-83.1275,-82.8113, -82.632,-82.4405,-82.248,-82.0546, -81.8603,-81.6653,-81.4696,-81.2732, -81.0762,-80.8787,-80.6808,-80.4824, -80.2837,-80.0845,-79.885,-79.6852, -79.4852,-79.285,-79.0846,-78.884, -78.6832,-78.4824,-78.2782,-78.0717, -77.8651,-77.6585,-77.4518,-77.2405, -77.0283,-76.9221,-76.9166,-76.8366, -76.7602,-76.7028,-76.6421,-76.583, -76.5068,-76.5018,-76.4996,-76.7057, -77.0151,-77.2165,-77.4175,-77.6182, -77.8189,-78.0172,-78.212,-78.4064, -78.6004,-78.794,-78.9871,-79.1796, -79.3727,-79.5648,-79.756,-79.9465, -80.1362,-80.3251,-80.5132,-80.7003, -80.8865,-81.0716,-81.2556,-81.4383, -81.6196,-81.7994,-81.9773,-82.1433, -82.4358,-82.7228,-83.0026,-83.2779, -83.5437,-83.7991,-84.0438,-84.2759, -84.4941,-84.6962,-84.744,-84.7949)
FOOTPRINT_POINT_LONGITUDE = (74.5818,75.937,77.0872,79.5812,82.3663 ,82.4584,82.4799,84.3448,86.1114, 87.7839,89.3672,90.8658,93.627,96.1044, 98.3322,100.34,102.153,103.401,104.93, 106.322,107.052,107.787,108.484,109.147 ,109.778,110.378,110.951,111.496, 112.017,112.515,112.991,113.446,113.883 ,114.301,114.702,115.087,115.457, 115.812,116.154,116.483,116.8,117.105, 117.404,117.696,117.977,118.248,118.51, 118.768,119.018,119.139,119.145,117.734 ,116.512,115.657,114.803,114.015, 113.052,112.991,112.961,112.648,112.177 ,111.86,111.53,111.187,110.835,110.473, 110.105,109.723,109.326,108.915,108.488 ,108.043,107.595,107.124,106.628, 106.113,105.576,105.016,104.434,103.825 ,103.191,102.528,101.836,101.112, 100.355,99.5626,98.7281,97.895,96.3545, 94.6897,92.8764,90.939,88.8206,86.5105, 84.0011,81.2754,78.3217,75.1252,74.2876 ,74.5818)
ORBIT_NUMBER = 4660
ORBITAL_ECCENTRICITY = 0.57
ORBITAL_INCLINATION = 86.69
ORBITAL_SEMIMAJOR_AXIS = 8533.49
PERIAPSIS_ALTITUDE = 295.99
PERIAPSIS_ARGUMENT_ANGLE = 258.09
PERIAPSIS_TIME = 2007-08-20T12:52:09.000Z
SPACECRAFT_ORIENTATION = (0.0,-1.0,0.0)
^MEX_ORIENTATION_DESC = "MEX_ORIENTATION_DESC.TXT"
SPACECRAFT_POINTING_MODE = ACROSSTRACK
^MEX_POINTING_DESC = "MEX_POINTING_DESC.TXT"
RIGHT_ASCENSION = -1e+32
DECLINATION = -1e+32
OFFSET_ANGLE = 0.58
SPACECRAFT_SOLAR_DISTANCE = 2.12654e+08
TARGET_NAME = MARS
/* CAMERA DATA ELEMENTS */
DETECTOR_TEMPERATURE = 17.9627
FOCAL_PLANE_TEMPERATURE = 8.9911
INST_CMPRS_NAME = "DISCRETE COSINE TRANSFORMATION (DCT)"
INST_CMPRS_RATIO = 6.6574
INST_CMPRS_QUALITY = 0
INST_CMPRS_QUANTZ_TBL_ID = 0
INSTRUMENT_TEMPERATURE = 10.8262
LENS_TEMPERATURE = 9.3989
MACROPIXEL_SIZE = 1
MISSING_FRAMES = 0
PIXEL_SUBSAMPLING_FLAG = N
SIGNAL_CHAIN_ID = 0
/* RADIOMETRIC DATA ELEMENTS */
BANDWIDTH = 177.0
CENTER_FILTER_WAVELENGTH = 677.5
RADIANCE_OFFSET = 3.578
RADIANCE_SCALING_FACTOR = 0.0109975
REFLECTANCE_SCALING_FACTOR = 0.000264198
MEX:REFLECTANCE_OFFSET = 0.0859554
/* IMAGE OBJECT DEFINITIONS */
OBJECT = IMAGE
  INTERCHANGE_FORMAT = BINARY
  LINES = 43763
  LINE_SAMPLES = 28536
  SAMPLE_TYPE = UNSIGNED_INTEGER
  SAMPLE_BITS = 8
  BANDS = 1
  BAND_STORAGE_TYPE = BAND_SEQUENTIAL
  MAXIMUM = 255
  MEAN = 116.859
  MINIMUM = 1
  STANDARD_DEVIATION = 38.5171
END_OBJECT = IMAGE
/* MAP OBJECT DEFINITIONS */
OBJECT = IMAGE_MAP_PROJECTION
  ^DATA_SET_MAP_PROJECTION_CATALOG= "DSMAP.CAT"
  A_AXIS_RADIUS = 3396.0
  B_AXIS_RADIUS = 3396.0
  C_AXIS_RADIUS = 3396.0
  CENTER_LATITUDE = 0.0
  CENTER_LONGITUDE = 105.0
  COORDINATE_SYSTEM_NAME = PLANETOGRAPHIC
  COORDINATE_SYSTEM_TYPE = "BODY-FIXED ROTATING"
  EASTERNMOST_LONGITUDE = 119.145
  FIRST_STANDARD_PARALLEL = "N/A"
  LINE_FIRST_PIXEL = 1
  LINE_LAST_PIXEL = 43763
  LINE_PROJECTION_OFFSET = -362757.0
  MAP_PROJECTION_ROTATION = 0.0
  MAP_PROJECTION_TYPE = SINUSOIDAL
  MAP_RESOLUTION = 4741.71043093333
  MAP_SCALE = 0.0125
  MAXIMUM_LATITUDE = -76.4996
  MINIMUM_LATITUDE = -85.72750000000001
  POSITIVE_LONGITUDE_DIRECTION = EAST
  REFERENCE_LATITUDE = "N/A"
  REFERENCE_LONGITUDE = "N/A"
  SAMPLE_FIRST_PIXEL = 1
  SAMPLE_LAST_PIXEL = 28536
  SAMPLE_PROJECTION_OFFSET = 13338.0
  SECOND_STANDARD_PARALLEL = "N/A"
  WESTERNMOST_LONGITUDE = 74.2876
END_OBJECT = IMAGE_MAP_PROJECTION
END
