PDS_VERSION_ID = PDS3
/* FILE DATA ELEMENTS */
RECORD_TYPE = UNDEFINED
/* POINTERS TO DATA OBJECTS */
^IMAGE = ("H4658_0001_ND4.TIF")
/* IDENTIFICATION DATA ELEMENTS */
DATA_SET_ID = "MEX-M-HRSC-4-REFDR-MAPPROJECT-EXT1-V4.0"
DATA_SET_NAME = "MARS EXPRESS HRSC MAP PROJECTED REFDR EXTENSION1 V4.0"
DETECTOR_ID = MEX_HRSC_NADIR
EVENT_TYPE = "MARS-REGIONAL-COLOR-Im-Fl-Lc"
INSTRUMENT_HOST_ID = MEX
INSTRUMENT_HOST_NAME = "MARS EXPRESS"
INSTRUMENT_ID = HRSC
INSTRUMENT_NAME = "HIGH RESOLUTION STEREO CAMERA"
MISSION_NAME = "MARS EXPRESS"
MISSION_PHASE_NAME = ME_Phase_9
PROCESSING_LEVEL_ID = 4
PRODUCT_CREATION_TIME = 2023-02-11T00:15:54.000Z
PRODUCT_ID = "H4658_0001_ND4.TIF"
RELEASE_ID = 0007
REVISION_ID = 0000
/* QUALITY DATA ELEMENTS */
DATA_QUALITY_ID = 1
DATA_QUALITY_DESC = "Data calculated based on original SPICE kernels"
/* TIME DATA ELEMENTS */
SPACECRAFT_CLOCK_START_COUNT = "1/0135646997.07305"
SPACECRAFT_CLOCK_STOP_COUNT = "1/0135648049.25837"
START_TIME = 2007-08-19T23:46:01.275Z
STOP_TIME = 2007-08-19T23:50:56.255Z
/* ORBITAL DATA ELEMENTS */
ASCENDING_NODE_LONGITUDE = 130.97
MAXIMUM_RESOLUTION = 0.0542
FOOTPRINT_POINT_LATITUDE = (-34.0036,-34.009,-34.0108,-34.0112, -34.01,-34.007,-34.0026,-33.9964, -33.9842,-33.9741,-33.9623,-33.9489, -33.9397,-33.9378,-33.9368,-33.5835, -33.349,-33.1153,-32.8825,-32.6504, -32.4192,-32.1887,-31.9591,-31.7302, -31.5022,-31.2749,-31.0484,-30.8228, -30.3738,-29.9279,-29.485,-29.0452, -28.6085,-28.1747,-27.7439,-27.3161, -26.8912,-26.4692,-26.0501,-25.6338, -25.2204,-24.8097,-24.4019,-23.9968, -23.5944,-23.1947,-23.0952,-23.0801, -23.0976,-23.1231,-23.1396,-23.1672, -23.1823,-23.197,-23.2181,-23.2415, -23.2543,-23.2666,-23.2784,-23.2982, -23.3114,-23.3215,-23.3334,-23.3468, -23.3552,-23.3632,-23.3707,-23.3828, -23.3844,-23.3854,-23.7732,-24.1638, -24.5573,-24.9536,-25.3528,-25.755, -26.1602,-26.5683,-26.9794,-27.3936, -27.8108,-28.2311,-28.6545,-29.081, -29.5106,-29.9435,-30.3796,-30.8189, -31.2614,-31.7072,-32.1564,-32.3822, -32.6088,-32.8363,-33.0646,-33.2938, -33.5238,-33.8706,-33.9865,-34.0036)
FOOTPRINT_POINT_LONGITUDE = (320.897,321.518,321.969,322.419, 322.868,323.318,323.767,324.215,324.888 ,325.336,325.786,326.236,326.517, 326.573,326.614,326.623,326.629,326.634 ,326.64,326.645,326.653,326.655,326.661 ,326.666,326.67,326.675,326.679,326.684 ,326.699,326.707,326.712,326.718, 326.726,326.733,326.741,326.747,326.759 ,326.765,326.77,326.775,326.778,326.78, 326.786,326.791,326.792,326.796,326.797 ,326.797,326.528,326.122,325.851, 325.379,325.11,324.842,324.438,323.969, 323.7,323.432,323.163,322.692,322.355, 322.086,321.749,321.344,321.075,320.805 ,320.534,320.058,319.99,319.957,320.001 ,320.045,320.088,320.13,320.173,320.214 ,320.255,320.296,320.336,320.375, 320.413,320.451,320.488,320.525,320.561 ,320.597,320.632,320.665,320.698, 320.731,320.762,320.778,320.793,320.808 ,320.824,320.839,320.854,320.871, 320.878,320.897)
ORBIT_NUMBER = 4658
ORBITAL_ECCENTRICITY = 0.57
ORBITAL_INCLINATION = 86.7
ORBITAL_SEMIMAJOR_AXIS = 8533.77
PERIAPSIS_ALTITUDE = 295.93
PERIAPSIS_ARGUMENT_ANGLE = 258.46
PERIAPSIS_TIME = 2007-08-19T23:25:45.000Z
SPACECRAFT_ORIENTATION = (0.0,-1.0,0.0)
^MEX_ORIENTATION_DESC = "MEX_ORIENTATION_DESC.TXT"
SPACECRAFT_POINTING_MODE = ACROSSTRACK
^MEX_POINTING_DESC = "MEX_POINTING_DESC.TXT"
RIGHT_ASCENSION = -1e+32
DECLINATION = -1e+32
OFFSET_ANGLE = 0.1
SPACECRAFT_SOLAR_DISTANCE = 2.12573e+08
TARGET_NAME = MARS
/* CAMERA DATA ELEMENTS */
DETECTOR_TEMPERATURE = 20.2056
FOCAL_PLANE_TEMPERATURE = 9.3989
INST_CMPRS_NAME = "DISCRETE COSINE TRANSFORMATION (DCT)"
INST_CMPRS_RATIO = 7.73714
INST_CMPRS_QUALITY = 0
INST_CMPRS_QUANTZ_TBL_ID = 0
INSTRUMENT_TEMPERATURE = 14.0886
LENS_TEMPERATURE = 10.0106
MACROPIXEL_SIZE = 1
MISSING_FRAMES = 0
PIXEL_SUBSAMPLING_FLAG = N
SIGNAL_CHAIN_ID = 0
/* RADIOMETRIC DATA ELEMENTS */
BANDWIDTH = 177.0
CENTER_FILTER_WAVELENGTH = 677.5
RADIANCE_OFFSET = 8.03843
RADIANCE_SCALING_FACTOR = 0.0114215
REFLECTANCE_SCALING_FACTOR = 0.000274176
MEX:REFLECTANCE_OFFSET = 0.192965
/* IMAGE OBJECT DEFINITIONS */
OBJECT = IMAGE
  INTERCHANGE_FORMAT = BINARY
  LINES = 12959
  LINE_SAMPLES = 7450
  SAMPLE_TYPE = UNSIGNED_INTEGER
  SAMPLE_BITS = 8
  BANDS = 1
  BAND_STORAGE_TYPE = BAND_SEQUENTIAL
  MAXIMUM = 254
  MEAN = 111.007
  MINIMUM = 1
  STANDARD_DEVIATION = 39.2426
END_OBJECT = IMAGE
/* MAP OBJECT DEFINITIONS */
OBJECT = IMAGE_MAP_PROJECTION
  ^DATA_SET_MAP_PROJECTION_CATALOG= "DSMAP.CAT"
  A_AXIS_RADIUS = 3396.0
  B_AXIS_RADIUS = 3396.0
  C_AXIS_RADIUS = 3396.0
  CENTER_LATITUDE = 0.0
  CENTER_LONGITUDE = 324.0
  COORDINATE_SYSTEM_NAME = PLANETOGRAPHIC
  COORDINATE_SYSTEM_TYPE = "BODY-FIXED ROTATING"
  EASTERNMOST_LONGITUDE = 326.797
  FIRST_STANDARD_PARALLEL = "N/A"
  LINE_FIRST_PIXEL = 1
  LINE_LAST_PIXEL = 12959
  LINE_PROJECTION_OFFSET = -27361.0
  MAP_PROJECTION_ROTATION = 0.0
  MAP_PROJECTION_TYPE = SINUSOIDAL
  MAP_RESOLUTION = 1185.42760773333
  MAP_SCALE = 0.05
  MAXIMUM_LATITUDE = -23.0801
  MINIMUM_LATITUDE = -34.0112
  POSITIVE_LONGITUDE_DIRECTION = EAST
  REFERENCE_LATITUDE = "N/A"
  REFERENCE_LONGITUDE = "N/A"
  SAMPLE_FIRST_PIXEL = 1
  SAMPLE_LAST_PIXEL = 7450
  SAMPLE_PROJECTION_OFFSET = 4398.0
  SECOND_STANDARD_PARALLEL = "N/A"
  WESTERNMOST_LONGITUDE = 319.957
END_OBJECT = IMAGE_MAP_PROJECTION
END
