PDS_VERSION_ID = PDS3
/* FILE DATA ELEMENTS */
RECORD_TYPE = UNDEFINED
/* POINTERS TO DATA OBJECTS */
^IMAGE = ("H4657_0000_S14.TIF")
/* IDENTIFICATION DATA ELEMENTS */
DATA_SET_ID = "MEX-M-HRSC-4-REFDR-MAPPROJECT-EXT1-V4.0"
DATA_SET_NAME = "MARS EXPRESS HRSC MAP PROJECTED REFDR EXTENSION1 V4.0"
DETECTOR_ID = MEX_HRSC_S1
EVENT_TYPE = "MARS-REGIONAL-MAPPING-Gl-Pf-Eo"
INSTRUMENT_HOST_ID = MEX
INSTRUMENT_HOST_NAME = "MARS EXPRESS"
INSTRUMENT_ID = HRSC
INSTRUMENT_NAME = "HIGH RESOLUTION STEREO CAMERA"
MISSION_NAME = "MARS EXPRESS"
MISSION_PHASE_NAME = ME_Phase_9
PROCESSING_LEVEL_ID = 4
PRODUCT_CREATION_TIME = 2023-02-11T00:15:54.000Z
PRODUCT_ID = "H4657_0000_S14.TIF"
RELEASE_ID = 0007
REVISION_ID = 0000
/* QUALITY DATA ELEMENTS */
DATA_QUALITY_ID = 1
DATA_QUALITY_DESC = "Data calculated based on original SPICE kernels"
/* TIME DATA ELEMENTS */
SPACECRAFT_CLOCK_START_COUNT = "1/0135622034.09063"
SPACECRAFT_CLOCK_STOP_COUNT = "1/0135622269.25461"
START_TIME = 2007-08-19T16:47:18.169Z
STOP_TIME = 2007-08-19T16:49:35.397Z
/* ORBITAL DATA ELEMENTS */
ASCENDING_NODE_LONGITUDE = 130.99
MAXIMUM_RESOLUTION = 0.031
FOOTPRINT_POINT_LATITUDE = (-79.7546,-79.851,-79.9132,-79.9916, -80.0504,-80.1483,-80.1515,-80.0631, -79.8068,-79.55,-79.3786,-79.1261, -78.9517,-78.7794,-78.5209,-78.2665, -78.0939,-77.7502,-77.5773,-77.4049, -77.2324,-76.974,-76.8015,-76.6287, -76.1974,-75.853,-75.5071,-75.3312, -75.1544,-74.9784,-74.7982,-74.6197, -74.4411,-74.2585,-74.0768,-73.8066, -73.6251,-73.4443,-73.2562,-72.976, -72.6948,-72.5078,-72.3172,-72.1262, -71.9354,-71.6493,-71.4573,-71.2623, -71.1647,-71.1519,-71.1171,-71.0897, -71.062,-71.0148,-70.9368,-70.8999, -70.8968,-70.8963,-71.0896,-71.3793, -71.5678,-71.8499,-72.0378,-72.2265, -72.4111,-72.5956,-72.7802,-72.9642, -73.1485,-73.329,-73.509,-73.7795, -73.9597,-74.1396,-74.3144,-74.4898, -74.6649,-74.8395,-75.1011,-75.4411, -75.6965,-75.947,-76.2,-76.5377, -76.8755,-77.1297,-77.2988,-77.5531, -77.7233,-77.8924,-78.3107,-78.5611, -78.7281,-78.8951,-79.0619,-79.2281, -79.3931,-79.5596,-79.6424,-79.7546)
FOOTPRINT_POINT_LONGITUDE = (45.7262,47.0968,48.0459,49.3298, 50.3703,52.2902,52.3571,52.7091,53.1175 ,53.506,53.7543,54.0963,54.3337,54.5565 ,54.8776,55.172,55.369,55.7412,55.9218, 56.0959,56.2651,56.5093,56.667,56.821, 57.1865,57.4607,57.7243,57.8527,57.9781 ,58.0989,58.2246,58.344,58.4609,58.5771 ,58.6883,58.8465,58.9514,59.0526, 59.1583,59.3092,59.4567,59.5516,59.6458 ,59.7377,59.8275,59.9583,60.0427, 60.1272,60.169,60.1745,59.3298,58.7207, 58.1611,57.2778,55.9846,55.4334,55.3876 ,55.3708,55.2642,55.1011,54.9905, 54.8196,54.7021,54.5823,54.4623,54.3394 ,54.2136,54.0844,53.9522,53.82,53.6847, 53.4755,53.3316,53.1841,53.0366,52.8855 ,52.7306,52.5716,52.3254,51.9898, 51.7279,51.4553,51.172,50.7764,50.3589, 50.0302,49.8033,49.4505,49.2065,48.9553 ,48.2945,47.8734,47.5816,47.2805, 46.9697,46.6489,46.3179,45.9752,45.7996 ,45.7262)
ORBIT_NUMBER = 4657
ORBITAL_ECCENTRICITY = 0.57
ORBITAL_INCLINATION = 86.69
ORBITAL_SEMIMAJOR_AXIS = 8532.87
PERIAPSIS_ALTITUDE = 295.27
PERIAPSIS_ARGUMENT_ANGLE = 258.63
PERIAPSIS_TIME = 2007-08-19T16:42:32.000Z
SPACECRAFT_ORIENTATION = (0.0,-1.0,0.0)
^MEX_ORIENTATION_DESC = "MEX_ORIENTATION_DESC.TXT"
SPACECRAFT_POINTING_MODE = NADIR
^MEX_POINTING_DESC = "MEX_POINTING_DESC.TXT"
RIGHT_ASCENSION = -1e+32
DECLINATION = -1e+32
OFFSET_ANGLE = -1e+32
SPACECRAFT_SOLAR_DISTANCE = 2.12533e+08
TARGET_NAME = MARS
/* CAMERA DATA ELEMENTS */
DETECTOR_TEMPERATURE = 17.5549
FOCAL_PLANE_TEMPERATURE = 8.7872
INST_CMPRS_NAME = "DISCRETE COSINE TRANSFORMATION (DCT)"
INST_CMPRS_RATIO = 11.4139
INST_CMPRS_QUALITY = 0
INST_CMPRS_QUANTZ_TBL_ID = 0
INSTRUMENT_TEMPERATURE = 11.4379
LENS_TEMPERATURE = 9.3989
MACROPIXEL_SIZE = 2
MISSING_FRAMES = 0
PIXEL_SUBSAMPLING_FLAG = N
SIGNAL_CHAIN_ID = 1
/* RADIOMETRIC DATA ELEMENTS */
BANDWIDTH = 180.0
CENTER_FILTER_WAVELENGTH = 677.0
RADIANCE_OFFSET = 5.95821
RADIANCE_SCALING_FACTOR = 0.0125517
REFLECTANCE_SCALING_FACTOR = 0.000295801
MEX:REFLECTANCE_OFFSET = 0.140414
/* IMAGE OBJECT DEFINITIONS */
OBJECT = IMAGE
  INTERCHANGE_FORMAT = BINARY
  LINES = 21757
  LINE_SAMPLES = 8081
  SAMPLE_TYPE = UNSIGNED_INTEGER
  SAMPLE_BITS = 8
  BANDS = 1
  BAND_STORAGE_TYPE = BAND_SEQUENTIAL
  MAXIMUM = 255
  MEAN = 138.089
  MINIMUM = 1
  STANDARD_DEVIATION = 34.5545
END_OBJECT = IMAGE
/* MAP OBJECT DEFINITIONS */
OBJECT = IMAGE_MAP_PROJECTION
  ^DATA_SET_MAP_PROJECTION_CATALOG= "DSMAP.CAT"
  A_AXIS_RADIUS = 3396.0
  B_AXIS_RADIUS = 3396.0
  C_AXIS_RADIUS = 3396.0
  CENTER_LATITUDE = 0.0
  CENTER_LONGITUDE = 55.0
  COORDINATE_SYSTEM_NAME = PLANETOGRAPHIC
  COORDINATE_SYSTEM_TYPE = "BODY-FIXED ROTATING"
  EASTERNMOST_LONGITUDE = 60.1745
  FIRST_STANDARD_PARALLEL = "N/A"
  LINE_FIRST_PIXEL = 1
  LINE_LAST_PIXEL = 21757
  LINE_PROJECTION_OFFSET = -168019.25
  MAP_PROJECTION_ROTATION = 0.0
  MAP_PROJECTION_TYPE = SINUSOIDAL
  MAP_RESOLUTION = 2370.85521546667
  MAP_SCALE = 0.025
  MAXIMUM_LATITUDE = -70.8963
  MINIMUM_LATITUDE = -80.1515
  POSITIVE_LONGITUDE_DIRECTION = EAST
  REFERENCE_LATITUDE = "N/A"
  REFERENCE_LONGITUDE = "N/A"
  SAMPLE_FIRST_PIXEL = 1
  SAMPLE_LAST_PIXEL = 8081
  SAMPLE_PROJECTION_OFFSET = 3993.75
  SECOND_STANDARD_PARALLEL = "N/A"
  WESTERNMOST_LONGITUDE = 45.7262
END_OBJECT = IMAGE_MAP_PROJECTION
END
