PDS_VERSION_ID = PDS3
/* FILE DATA ELEMENTS */
RECORD_TYPE = UNDEFINED
/* POINTERS TO DATA OBJECTS */
^IMAGE = ("H4645_0000_GR4.TIF")
/* IDENTIFICATION DATA ELEMENTS */
DATA_SET_ID = "MEX-M-HRSC-4-REFDR-MAPPROJECT-EXT1-V4.0"
DATA_SET_NAME = "MARS EXPRESS HRSC MAP PROJECTED REFDR EXTENSION1 V4.0"
DETECTOR_ID = MEX_HRSC_GREEN
EVENT_TYPE = "MARS-REGIONAL-MAPPING-Im-Fl"
INSTRUMENT_HOST_ID = MEX
INSTRUMENT_HOST_NAME = "MARS EXPRESS"
INSTRUMENT_ID = HRSC
INSTRUMENT_NAME = "HIGH RESOLUTION STEREO CAMERA"
MISSION_NAME = "MARS EXPRESS"
MISSION_PHASE_NAME = ME_Phase_9
PROCESSING_LEVEL_ID = 4
PRODUCT_CREATION_TIME = 2023-02-11T00:15:54.000Z
PRODUCT_ID = "H4645_0000_GR4.TIF"
RELEASE_ID = 0007
REVISION_ID = 0000
/* QUALITY DATA ELEMENTS */
DATA_QUALITY_ID = 1
DATA_QUALITY_DESC = "Data calculated based on original SPICE kernels"
/* TIME DATA ELEMENTS */
SPACECRAFT_CLOCK_START_COUNT = "1/0135332245.07281"
SPACECRAFT_CLOCK_STOP_COUNT = "1/0135332758.46843"
START_TIME = 2007-08-16T08:18:47.890Z
STOP_TIME = 2007-08-16T08:21:48.427Z
/* ORBITAL DATA ELEMENTS */
ASCENDING_NODE_LONGITUDE = 131.24
MAXIMUM_RESOLUTION = 0.0731
FOOTPRINT_POINT_LATITUDE = (-45.289,-45.304,-45.3126,-45.3201, -45.3265,-45.3323,-45.3364,-45.3393, -45.3412,-45.3418,-45.3414,-45.3398, -45.3366,-45.3361,-45.3263,-45.0571, -44.8781,-44.6995,-44.5212,-44.3434, -44.077,-43.8116,-43.635,-43.4588, -43.2829,-43.1074,-42.9322,-42.7572, -42.5825,-42.4082,-42.2342,-42.0607, -41.8874,-41.6277,-41.4554,-41.1971, -40.7691,-40.428,-40.1729,-39.8339, -39.4961,-39.16,-38.8254,-38.4922, -38.1603,-37.8297,-37.5004,-37.1726, -36.8461,-36.7649,-36.7455,-36.7548, -36.7621,-36.7676,-36.7726,-36.7791, -36.7835,-36.7888,-36.7911,-36.792, -36.7921,-36.7911,-36.7888,-36.7865, -36.7821,-36.7787,-36.7779,-36.7783, -37.1008,-37.4247,-37.7499,-38.0767, -38.4043,-38.7336,-39.0643,-39.3965, -39.8146,-40.2334,-40.4866,-40.8246, -41.2484,-41.5893,-41.9328,-42.1907, -42.5355,-42.7086,-42.882,-43.1422, -43.404,-43.5789,-43.8417,-44.0174, -44.1942,-44.3705,-44.5471,-44.8132, -44.9905,-45.1686,-45.2583,-45.289)
FOOTPRINT_POINT_LONGITUDE = (160.012,160.531,160.877,161.223,161.57 ,161.961,162.308,162.657,163.006, 163.355,163.705,164.057,164.454,164.498 ,164.544,164.554,164.561,164.567, 164.574,164.579,164.589,164.598,164.604 ,164.61,164.616,164.622,164.627,164.633 ,164.639,164.645,164.651,164.657, 164.662,164.672,164.677,164.686,164.698 ,164.708,164.716,164.726,164.736, 164.746,164.754,164.762,164.77,164.777, 164.785,164.792,164.798,164.799,164.8, 164.458,164.164,163.92,163.675,163.286, 162.994,162.459,162.072,161.781,161.393 ,161.054,160.715,160.474,160.087, 159.845,159.797,159.78,159.794,159.809, 159.823,159.836,159.849,159.861,159.873 ,159.885,159.9,159.912,159.92,159.93, 159.939,159.947,159.956,159.961,159.967 ,159.97,159.973,159.976,159.98,159.982, 159.985,159.987,159.99,159.991,159.992, 159.994,159.994,159.995,159.996, 160.012)
ORBIT_NUMBER = 4645
ORBITAL_ECCENTRICITY = 0.57
ORBITAL_INCLINATION = 86.68
ORBITAL_SEMIMAJOR_AXIS = 8533.06
PERIAPSIS_ALTITUDE = 296.31
PERIAPSIS_ARGUMENT_ANGLE = 260.69
PERIAPSIS_TIME = 2007-08-16T08:04:01.000Z
SPACECRAFT_ORIENTATION = (0.0,-1.0,0.0)
^MEX_ORIENTATION_DESC = "MEX_ORIENTATION_DESC.TXT"
SPACECRAFT_POINTING_MODE = ACROSSTRACK
^MEX_POINTING_DESC = "MEX_POINTING_DESC.TXT"
RIGHT_ASCENSION = -1e+32
DECLINATION = -1e+32
OFFSET_ANGLE = -0.5
SPACECRAFT_SOLAR_DISTANCE = 2.12057e+08
TARGET_NAME = MARS
/* CAMERA DATA ELEMENTS */
DETECTOR_TEMPERATURE = 18.3705
FOCAL_PLANE_TEMPERATURE = 9.195
INST_CMPRS_NAME = "DISCRETE COSINE TRANSFORMATION (DCT)"
INST_CMPRS_RATIO = 10.5486
INST_CMPRS_QUALITY = 0
INST_CMPRS_QUANTZ_TBL_ID = 0
INSTRUMENT_TEMPERATURE = 11.4379
LENS_TEMPERATURE = 9.6028
MACROPIXEL_SIZE = 2
MISSING_FRAMES = 0
PIXEL_SUBSAMPLING_FLAG = N
SIGNAL_CHAIN_ID = 2
/* RADIOMETRIC DATA ELEMENTS */
BANDWIDTH = 88.0
CENTER_FILTER_WAVELENGTH = 538.0
RADIANCE_OFFSET = 3.3317
RADIANCE_SCALING_FACTOR = 0.00188808
REFLECTANCE_SCALING_FACTOR = 7.31007e-05
MEX:REFLECTANCE_OFFSET = 0.128993
/* IMAGE OBJECT DEFINITIONS */
OBJECT = IMAGE
  INTERCHANGE_FORMAT = BINARY
  LINES = 5090
  LINE_SAMPLES = 2464
  SAMPLE_TYPE = UNSIGNED_INTEGER
  SAMPLE_BITS = 8
  BANDS = 1
  BAND_STORAGE_TYPE = BAND_SEQUENTIAL
  MAXIMUM = 255
  MEAN = 112.78
  MINIMUM = 3
  STANDARD_DEVIATION = 31.1489
END_OBJECT = IMAGE
/* MAP OBJECT DEFINITIONS */
OBJECT = IMAGE_MAP_PROJECTION
  ^DATA_SET_MAP_PROJECTION_CATALOG= "DSMAP.CAT"
  A_AXIS_RADIUS = 3396.0
  B_AXIS_RADIUS = 3396.0
  C_AXIS_RADIUS = 3396.0
  CENTER_LATITUDE = 0.0
  CENTER_LONGITUDE = 162.0
  COORDINATE_SYSTEM_NAME = PLANETOGRAPHIC
  COORDINATE_SYSTEM_TYPE = "BODY-FIXED ROTATING"
  EASTERNMOST_LONGITUDE = 164.8
  FIRST_STANDARD_PARALLEL = "N/A"
  LINE_FIRST_PIXEL = 1
  LINE_LAST_PIXEL = 5090
  LINE_PROJECTION_OFFSET = -21778.75
  MAP_PROJECTION_ROTATION = 0.0
  MAP_PROJECTION_TYPE = SINUSOIDAL
  MAP_RESOLUTION = 592.713803866667
  MAP_SCALE = 0.1
  MAXIMUM_LATITUDE = -36.7455
  MINIMUM_LATITUDE = -45.3418
  POSITIVE_LONGITUDE_DIRECTION = EAST
  REFERENCE_LATITUDE = "N/A"
  REFERENCE_LONGITUDE = "N/A"
  SAMPLE_FIRST_PIXEL = 1
  SAMPLE_LAST_PIXEL = 2464
  SAMPLE_PROJECTION_OFFSET = 1091.25
  SECOND_STANDARD_PARALLEL = "N/A"
  WESTERNMOST_LONGITUDE = 159.78
END_OBJECT = IMAGE_MAP_PROJECTION
END
