PDS_VERSION_ID = PDS3
/* FILE DATA ELEMENTS */
RECORD_TYPE = UNDEFINED
/* POINTERS TO DATA OBJECTS */
^IMAGE = ("H4641_0000_P14.TIF")
/* IDENTIFICATION DATA ELEMENTS */
DATA_SET_ID = "MEX-M-HRSC-4-REFDR-MAPPROJECT-EXT1-V4.0"
DATA_SET_NAME = "MARS EXPRESS HRSC MAP PROJECTED REFDR EXTENSION1 V4.0"
DETECTOR_ID = MEX_HRSC_P1
EVENT_TYPE = "MARS-REGIONAL-MAPPING-Im-Fl-Pf"
INSTRUMENT_HOST_ID = MEX
INSTRUMENT_HOST_NAME = "MARS EXPRESS"
INSTRUMENT_ID = HRSC
INSTRUMENT_NAME = "HIGH RESOLUTION STEREO CAMERA"
MISSION_NAME = "MARS EXPRESS"
MISSION_PHASE_NAME = ME_Phase_9
PROCESSING_LEVEL_ID = 4
PRODUCT_CREATION_TIME = 2023-02-11T00:15:54.000Z
PRODUCT_ID = "H4641_0000_P14.TIF"
RELEASE_ID = 0007
REVISION_ID = 0000
/* QUALITY DATA ELEMENTS */
DATA_QUALITY_ID = 1
DATA_QUALITY_DESC = "Data calculated based on original SPICE kernels"
/* TIME DATA ELEMENTS */
SPACECRAFT_CLOCK_START_COUNT = "1/0135234937.07291"
SPACECRAFT_CLOCK_STOP_COUNT = "1/0135235351.02792"
START_TIME = 2007-08-15T05:15:52.125Z
STOP_TIME = 2007-08-15T05:20:41.410Z
/* ORBITAL DATA ELEMENTS */
ASCENDING_NODE_LONGITUDE = 131.32
MAXIMUM_RESOLUTION = 0.0298
FOOTPRINT_POINT_LATITUDE = (-78.058,-78.1703,-78.3055,-78.3871, -78.3897,-78.3384,-77.8753,-77.5528, -77.2291,-76.905,-76.5811,-76.2568, -75.9327,-75.6088,-75.2853,-74.9608, -74.637,-73.8284,-73.337,-72.8376, -72.5052,-71.9961,-71.6557,-71.3105, -70.9632,-70.6162,-70.2613,-69.7291, -69.1864,-68.8201,-68.2698,-67.7085, -67.3313,-66.7567,-66.3712,-65.9748, -65.5816,-65.182,-64.7875,-64.3775, -63.7632,-63.3484,-62.9289,-62.5036, -61.8589,-61.4266,-60.9845,-60.3153, -60.0904,-60.0776,-60.0357,-60.0103, -59.9693,-59.9085,-59.9062,-59.9061, -60.3527,-60.7958,-61.235,-61.6676, -62.3096,-62.9438,-63.3626,-63.7734, -64.1821,-64.7811,-65.1799,-65.5729, -65.9626,-66.5401,-67.111,-67.4857, -67.859,-68.2277,-68.5945,-68.9554, -69.3135,-69.8439,-70.1954,-70.7156, -71.0599,-71.4018,-71.907,-72.2437, -72.5715,-72.8987,-73.3892,-73.7096, -74.1892,-74.6671,-75.1473,-75.6244, -75.9426,-76.2604,-76.7381,-77.0556, -77.5323,-77.8483,-77.9851,-78.058)
FOOTPRINT_POINT_LONGITUDE = (181.497,183.182,185.513,187.154, 187.211,187.431,187.959,188.298,188.623 ,188.932,189.224,189.503,189.768,190.02 ,190.259,190.491,190.71,191.217,191.502 ,191.775,191.946,192.194,192.353, 192.507,192.656,192.799,192.939,193.139 ,193.331,193.461,193.632,193.805, 193.915,194.076,194.18,194.286,194.385, 194.48,194.565,194.659,194.788,194.872, 194.953,195.034,195.151,195.224,195.298 ,195.406,195.44,195.442,194.09,193.435, 192.588,191.512,191.474,191.46,191.383, 191.304,191.222,191.137,191.005,190.866 ,190.77,190.67,190.568,190.402,190.292, 190.175,190.056,189.87,189.674,189.539, 189.399,189.256,189.106,188.953,188.793 ,188.544,188.371,188.103,187.916, 187.722,187.422,187.21,186.994,186.768, 186.415,186.171,185.784,185.369,184.926 ,184.448,184.11,183.755,183.188,182.786 ,182.141,181.68,181.472,181.497)
ORBIT_NUMBER = 4641
ORBITAL_ECCENTRICITY = 0.57
ORBITAL_INCLINATION = 86.69
ORBITAL_SEMIMAJOR_AXIS = 8532.83
PERIAPSIS_ALTITUDE = 295.33
PERIAPSIS_ARGUMENT_ANGLE = 261.39
PERIAPSIS_TIME = 2007-08-15T05:11:10.000Z
SPACECRAFT_ORIENTATION = (0.0,-1.0,0.0)
^MEX_ORIENTATION_DESC = "MEX_ORIENTATION_DESC.TXT"
SPACECRAFT_POINTING_MODE = NADIR
^MEX_POINTING_DESC = "MEX_POINTING_DESC.TXT"
RIGHT_ASCENSION = -1e+32
DECLINATION = -1e+32
OFFSET_ANGLE = -1e+32
SPACECRAFT_SOLAR_DISTANCE = 2.11902e+08
TARGET_NAME = MARS
/* CAMERA DATA ELEMENTS */
DETECTOR_TEMPERATURE = 17.351
FOCAL_PLANE_TEMPERATURE = 8.5833
INST_CMPRS_NAME = "DISCRETE COSINE TRANSFORMATION (DCT)"
INST_CMPRS_RATIO = 12.9069
INST_CMPRS_QUALITY = 0
INST_CMPRS_QUANTZ_TBL_ID = 0
INSTRUMENT_TEMPERATURE = 11.4379
LENS_TEMPERATURE = 9.195
MACROPIXEL_SIZE = 2
MISSING_FRAMES = 0
PIXEL_SUBSAMPLING_FLAG = N
SIGNAL_CHAIN_ID = 3
/* RADIOMETRIC DATA ELEMENTS */
BANDWIDTH = 174.0
CENTER_FILTER_WAVELENGTH = 675.0
RADIANCE_OFFSET = 5.38364
RADIANCE_SCALING_FACTOR = 0.0176887
REFLECTANCE_SCALING_FACTOR = 0.000427224
MEX:REFLECTANCE_OFFSET = 0.130028
/* IMAGE OBJECT DEFINITIONS */
OBJECT = IMAGE
  INTERCHANGE_FORMAT = BINARY
  LINES = 43709
  LINE_SAMPLES = 10146
  SAMPLE_TYPE = UNSIGNED_INTEGER
  SAMPLE_BITS = 8
  BANDS = 1
  BAND_STORAGE_TYPE = BAND_SEQUENTIAL
  MAXIMUM = 255
  MEAN = 148.998
  MINIMUM = 1
  STANDARD_DEVIATION = 50.6078
END_OBJECT = IMAGE
/* MAP OBJECT DEFINITIONS */
OBJECT = IMAGE_MAP_PROJECTION
  ^DATA_SET_MAP_PROJECTION_CATALOG= "DSMAP.CAT"
  A_AXIS_RADIUS = 3396.0
  B_AXIS_RADIUS = 3396.0
  C_AXIS_RADIUS = 3396.0
  CENTER_LATITUDE = 0.0
  CENTER_LONGITUDE = 191.0
  COORDINATE_SYSTEM_NAME = PLANETOGRAPHIC
  COORDINATE_SYSTEM_TYPE = "BODY-FIXED ROTATING"
  EASTERNMOST_LONGITUDE = 195.442
  FIRST_STANDARD_PARALLEL = "N/A"
  LINE_FIRST_PIXEL = 1
  LINE_LAST_PIXEL = 43709
  LINE_PROJECTION_OFFSET = -141981.75
  MAP_PROJECTION_ROTATION = 0.0
  MAP_PROJECTION_TYPE = SINUSOIDAL
  MAP_RESOLUTION = 2370.85521546667
  MAP_SCALE = 0.025
  MAXIMUM_LATITUDE = -59.9061
  MINIMUM_LATITUDE = -78.3897
  POSITIVE_LONGITUDE_DIRECTION = EAST
  REFERENCE_LATITUDE = "N/A"
  REFERENCE_LONGITUDE = "N/A"
  SAMPLE_FIRST_PIXEL = 1
  SAMPLE_LAST_PIXEL = 10146
  SAMPLE_PROJECTION_OFFSET = 4746.25
  SECOND_STANDARD_PARALLEL = "N/A"
  WESTERNMOST_LONGITUDE = 181.472
END_OBJECT = IMAGE_MAP_PROJECTION
END
