PDS_VERSION_ID = PDS3
/* FILE DATA ELEMENTS */
RECORD_TYPE = UNDEFINED
/* POINTERS TO DATA OBJECTS */
^IMAGE = ("H4638_0002_SR4.TIF")
/* IDENTIFICATION DATA ELEMENTS */
DATA_SET_ID = "MEX-M-HRSC-4-REFDR-MAPPROJECT-EXT1-V4.0"
DATA_SET_NAME = "MARS EXPRESS HRSC MAP PROJECTED REFDR EXTENSION1 V4.0"
DETECTOR_ID = MEX_HRSC_SRC
EVENT_TYPE = "MARS-REGIONAL-MAPPING-Gl-Eo-La"
INSTRUMENT_HOST_ID = MEX
INSTRUMENT_HOST_NAME = "MARS EXPRESS"
INSTRUMENT_ID = HRSC
INSTRUMENT_NAME = "HIGH RESOLUTION STEREO CAMERA"
MISSION_NAME = "MARS EXPRESS"
MISSION_PHASE_NAME = ME_Phase_9
PROCESSING_LEVEL_ID = 4
PRODUCT_CREATION_TIME = 2023-02-11T00:15:54.000Z
PRODUCT_ID = "H4638_0002_SR4.TIF"
RELEASE_ID = 0007
REVISION_ID = 0000
/* QUALITY DATA ELEMENTS */
DATA_QUALITY_ID = 1
DATA_QUALITY_DESC = "Data calculated based on original SPICE kernels"
/* TIME DATA ELEMENTS */
SPACECRAFT_CLOCK_START_COUNT = "1/0135162232.08274"
SPACECRAFT_CLOCK_STOP_COUNT = "1/0135162440.56004"
IMAGE_TIME = 2007-08-14T09:04:39.021Z
START_TIME = 2007-08-14T09:04:39.019Z
STOP_TIME = 2007-08-14T09:04:39.024Z
/* ORBITAL DATA ELEMENTS */
ASCENDING_NODE_LONGITUDE = 131.38
MAXIMUM_RESOLUTION = 0.002962
FOOTPRINT_POINT_LATITUDE = (-84.5396,-84.5423,-84.5441,-84.5456, -84.5479,-84.5493,-84.5513,-84.5531, -84.5544,-84.5569,-84.5589,-84.5603, -84.5617,-84.5631,-84.5648,-84.5677, -84.5698,-84.5716,-84.574,-84.576, -84.5777,-84.5801,-84.5801,-84.5801, -84.5789,-84.5773,-84.5761,-84.5749, -84.5737,-84.5728,-84.5716,-84.5704, -84.5692,-84.5679,-84.5667,-84.5655, -84.5646,-84.5634,-84.5622,-84.561, -84.56,-84.5591,-84.5582,-84.5567, -84.5555,-84.5543,-84.5533,-84.5521, -84.5509,-84.5497,-84.5494,-84.5492, -84.5473,-84.5453,-84.544,-84.5424, -84.5404,-84.5389,-84.5368,-84.5352, -84.533,-84.5314,-84.5294,-84.528, -84.5257,-84.5241,-84.5219,-84.5203, -84.5182,-84.5168,-84.5145,-84.5128, -84.5107,-84.509,-84.509,-84.509, -84.5105,-84.5117,-84.5129,-84.515, -84.5172,-84.5187,-84.5199,-84.5208, -84.5223,-84.5238,-84.525,-84.5262, -84.5274,-84.5286,-84.5298,-84.531, -84.5322,-84.5334,-84.5347,-84.5362, -84.5377,-84.5392,-84.5395,-84.5396)
FOOTPRINT_POINT_LONGITUDE = (98.8333,98.8125,98.7983,98.7866, 98.7682,98.7571,98.7413,98.7274,98.7175 ,98.6975,98.6814,98.6702,98.6597, 98.6483,98.6346,98.6123,98.5951,98.5814 ,98.5616,98.5456,98.5325,98.5136, 98.5133,98.5129,98.4959,98.4747,98.4577 ,98.4408,98.4238,98.4111,98.3942, 98.3773,98.3604,98.3435,98.3266,98.3097 ,98.297,98.2801,98.2632,98.2464,98.2337 ,98.2211,98.2085,98.1874,98.1706, 98.1538,98.1412,98.1244,98.1076,98.0908 ,98.0866,98.084,98.0991,98.1152,98.1258 ,98.1389,98.1547,98.1665,98.1835, 98.1966,98.2139,98.2273,98.2432,98.2541 ,98.2726,98.285,98.3025,98.3153,98.3321 ,98.3436,98.3613,98.3753,98.3915, 98.4051,98.4054,98.4058,98.4268,98.4435 ,98.4603,98.4896,98.519,98.54,98.5568, 98.5694,98.5904,98.6114,98.6282,98.6451 ,98.6619,98.6788,98.6956,98.7125, 98.7294,98.7462,98.7631,98.7843,98.8054 ,98.8265,98.8308,98.8333)
ORBIT_NUMBER = 4638
ORBITAL_ECCENTRICITY = 0.57
ORBITAL_INCLINATION = 86.69
ORBITAL_SEMIMAJOR_AXIS = 8531.73
PERIAPSIS_ALTITUDE = 295.61
PERIAPSIS_ARGUMENT_ANGLE = 261.9
PERIAPSIS_TIME = 2007-08-14T09:01:32.000Z
SPACECRAFT_ORIENTATION = (0.0,-1.0,0.0)
^MEX_ORIENTATION_DESC = "MEX_ORIENTATION_DESC.TXT"
SPACECRAFT_POINTING_MODE = NADIR
^MEX_POINTING_DESC = "MEX_POINTING_DESC.TXT"
RIGHT_ASCENSION = -1e+32
DECLINATION = -1e+32
OFFSET_ANGLE = -1e+32
SPACECRAFT_SOLAR_DISTANCE = 2.11787e+08
TARGET_NAME = MARS
/* CAMERA DATA ELEMENTS */
BUFFER_MODE_ID = BUFFER_8
EXPOSURE_DURATION = 5.04
INST_CMPRS_NAME = NONE
INST_CMPRS_RATIO = 1.0
INST_CMPRS_QUALITY = -2147483648
INST_CMPRS_QUANTZ_TBL_ID = -2147483648
INSTRUMENT_TEMPERATURE = 6.61891
MISSING_FRAMES = 0
START_BIT = 0
/* RADIOMETRIC DATA ELEMENTS */
BANDWIDTH = 250.0
CENTER_FILTER_WAVELENGTH = 600.0
RADIANCE_OFFSET = -9.99e+31
RADIANCE_SCALING_FACTOR = -9.99e+31
REFLECTANCE_SCALING_FACTOR = -9.99e+31
MEX:REFLECTANCE_OFFSET = -9.99e+31
/* IMAGE OBJECT DEFINITIONS */
OBJECT = IMAGE
  INTERCHANGE_FORMAT = BINARY
  LINES = 1830
  LINE_SAMPLES = 1834
  SAMPLE_TYPE = UNSIGNED_INTEGER
  SAMPLE_BITS = 8
  BANDS = 1
  BAND_STORAGE_TYPE = BAND_SEQUENTIAL
  MAXIMUM = 249
  MEAN = 147.934
  MINIMUM = 26
  STANDARD_DEVIATION = 18.9592
END_OBJECT = IMAGE
/* MAP OBJECT DEFINITIONS */
OBJECT = IMAGE_MAP_PROJECTION
  ^DATA_SET_MAP_PROJECTION_CATALOG= "DSMAP.CAT"
  A_AXIS_RADIUS = 3396.19
  B_AXIS_RADIUS = 3396.19
  C_AXIS_RADIUS = 3396.19
  CENTER_LATITUDE = 0.0
  CENTER_LONGITUDE = 98.0
  COORDINATE_SYSTEM_NAME = PLANETOGRAPHIC
  COORDINATE_SYSTEM_TYPE = "BODY-FIXED ROTATING"
  EASTERNMOST_LONGITUDE = 98.83329999999999
  FIRST_STANDARD_PARALLEL = "N/A"
  LINE_FIRST_PIXEL = 1
  LINE_LAST_PIXEL = 1830
  LINE_PROJECTION_OFFSET = -1998118.0
  MAP_PROJECTION_ROTATION = 0.0
  MAP_PROJECTION_TYPE = SINUSOIDAL
  MAP_RESOLUTION = 23709.8786048756
  MAP_SCALE = 0.0025
  MAXIMUM_LATITUDE = -84.509
  MINIMUM_LATITUDE = -84.5801
  POSITIVE_LONGITUDE_DIRECTION = EAST
  REFERENCE_LATITUDE = "N/A"
  REFERENCE_LONGITUDE = "N/A"
  SAMPLE_FIRST_PIXEL = 1
  SAMPLE_LAST_PIXEL = 1834
  SAMPLE_PROJECTION_OFFSET = -100.0
  SECOND_STANDARD_PARALLEL = "N/A"
  WESTERNMOST_LONGITUDE = 98.084
END_OBJECT = IMAGE_MAP_PROJECTION
END
