PDS_VERSION_ID = PDS3
/* FILE DATA ELEMENTS */
RECORD_TYPE = UNDEFINED
/* POINTERS TO DATA OBJECTS */
^IMAGE = ("H4633_0000_S24.TIF")
/* IDENTIFICATION DATA ELEMENTS */
DATA_SET_ID = "MEX-M-HRSC-4-REFDR-MAPPROJECT-EXT1-V4.0"
DATA_SET_NAME = "MARS EXPRESS HRSC MAP PROJECTED REFDR EXTENSION1 V4.0"
DETECTOR_ID = MEX_HRSC_S2
EVENT_TYPE = "MARS-REGIONAL-MAPPING-Gl-Pf-Eo"
INSTRUMENT_HOST_ID = MEX
INSTRUMENT_HOST_NAME = "MARS EXPRESS"
INSTRUMENT_ID = HRSC
INSTRUMENT_NAME = "HIGH RESOLUTION STEREO CAMERA"
MISSION_NAME = "MARS EXPRESS"
MISSION_PHASE_NAME = ME_Phase_9
PROCESSING_LEVEL_ID = 4
PRODUCT_CREATION_TIME = 2023-02-11T00:15:54.000Z
PRODUCT_ID = "H4633_0000_S24.TIF"
RELEASE_ID = 0007
REVISION_ID = 0000
/* QUALITY DATA ELEMENTS */
DATA_QUALITY_ID = 1
DATA_QUALITY_DESC = "Data calculated based on original SPICE kernels"
/* TIME DATA ELEMENTS */
SPACECRAFT_CLOCK_START_COUNT = "1/0135041305.07284"
SPACECRAFT_CLOCK_STOP_COUNT = "1/0135041556.14226"
START_TIME = 2007-08-12T23:29:29.242Z
STOP_TIME = 2007-08-12T23:32:38.258Z
/* ORBITAL DATA ELEMENTS */
ASCENDING_NODE_LONGITUDE = 131.48
MAXIMUM_RESOLUTION = 0.0292
FOOTPRINT_POINT_LATITUDE = (-82.3706,-82.5766,-82.7129,-82.869, -82.8732,-82.9767,-82.6976,-82.5115, -82.3235,-82.1359,-81.9477,-81.571, -81.1948,-80.9103,-80.5299,-80.1498, -79.8188,-79.593,-79.3664,-79.1397, -78.9131,-78.6865,-78.4601,-78.2337, -78.0074,-77.7813,-77.5554,-77.3299, -77.1049,-76.7675,-76.5422,-76.3176, -76.0934,-75.8695,-75.6397,-75.41, -75.1809,-74.8349,-74.6007,-74.3669, -74.1336,-73.7767,-73.538,-73.3003, -73.0581,-72.815,-72.5725,-72.2029, -72.0789,-72.0378,-71.981,-71.9379, -71.9017,-71.8673,-71.7874,-71.7843, -71.7837,-72.0281,-72.2714,-72.5111, -72.7511,-72.9896,-73.2246,-73.5788, -73.8151,-74.0455,-74.3918,-74.6221, -74.8487,-75.1868,-75.4122,-75.6367, -75.8565,-76.0768,-76.2975,-76.5184, -76.7392,-77.0704,-77.2911,-77.5119, -77.7329,-77.9538,-78.1746,-78.3952, -78.6159,-78.8364,-79.0568,-79.2767, -79.4964,-79.8964,-80.3539,-80.8083, -81.0794,-81.4388,-81.6178,-81.7962, -82.0614,-82.3242,-82.4114,-82.3706)
FOOTPRINT_POINT_LONGITUDE = (236.583,239.5,241.688,244.534,244.618, 244.566,245.494,246.072,246.622,247.144 ,247.641,248.567,249.41,249.995,250.718 ,251.382,251.919,252.267,252.598, 252.915,253.219,253.509,253.788,254.055 ,254.311,254.558,254.795,255.023, 255.242,255.557,255.756,255.949,256.136 ,256.316,256.494,256.667,256.833, 257.075,257.232,257.385,257.532,257.749 ,257.888,258.023,258.156,258.286, 258.411,258.595,258.655,258.675,257.287 ,256.349,255.662,255.025,253.661, 253.612,253.595,253.445,253.291,253.135 ,252.973,252.809,252.641,252.375,252.19 ,252.004,251.714,251.514,251.309, 250.991,250.771,250.542,250.311,250.072 ,249.823,249.564,249.296,248.876, 248.582,248.277,247.959,247.628,247.284 ,246.926,246.552,246.162,245.754, 245.329,244.885,244.02,242.932,241.731, 240.949,239.824,239.221,238.59,237.592, 236.524,236.149,236.583)
ORBIT_NUMBER = 4633
ORBITAL_ECCENTRICITY = 0.57
ORBITAL_INCLINATION = 86.69
ORBITAL_SEMIMAJOR_AXIS = 8532.36
PERIAPSIS_ALTITUDE = 295.02
PERIAPSIS_ARGUMENT_ANGLE = 262.77
PERIAPSIS_TIME = 2007-08-12T23:25:31.000Z
SPACECRAFT_ORIENTATION = (0.0,-1.0,0.0)
^MEX_ORIENTATION_DESC = "MEX_ORIENTATION_DESC.TXT"
SPACECRAFT_POINTING_MODE = NADIR
^MEX_POINTING_DESC = "MEX_POINTING_DESC.TXT"
RIGHT_ASCENSION = -1e+32
DECLINATION = -1e+32
OFFSET_ANGLE = -1e+32
SPACECRAFT_SOLAR_DISTANCE = 2.11598e+08
TARGET_NAME = MARS
/* CAMERA DATA ELEMENTS */
DETECTOR_TEMPERATURE = 18.5744
FOCAL_PLANE_TEMPERATURE = 8.5833
INST_CMPRS_NAME = "DISCRETE COSINE TRANSFORMATION (DCT)"
INST_CMPRS_RATIO = 12.308
INST_CMPRS_QUALITY = 0
INST_CMPRS_QUANTZ_TBL_ID = 0
INSTRUMENT_TEMPERATURE = 11.4379
LENS_TEMPERATURE = 8.7872
MACROPIXEL_SIZE = 2
MISSING_FRAMES = 0
PIXEL_SUBSAMPLING_FLAG = N
SIGNAL_CHAIN_ID = 1
/* RADIOMETRIC DATA ELEMENTS */
BANDWIDTH = 178.0
CENTER_FILTER_WAVELENGTH = 679.0
RADIANCE_OFFSET = 4.85543
RADIANCE_SCALING_FACTOR = 0.0169464
REFLECTANCE_SCALING_FACTOR = 0.000401823
MEX:REFLECTANCE_OFFSET = 0.115129
/* IMAGE OBJECT DEFINITIONS */
OBJECT = IMAGE
  INTERCHANGE_FORMAT = BINARY
  LINES = 26531
  LINE_SAMPLES = 10079
  SAMPLE_TYPE = UNSIGNED_INTEGER
  SAMPLE_BITS = 8
  BANDS = 1
  BAND_STORAGE_TYPE = BAND_SEQUENTIAL
  MAXIMUM = 255
  MEAN = 141.124
  MINIMUM = 1
  STANDARD_DEVIATION = 46.5198
END_OBJECT = IMAGE
/* MAP OBJECT DEFINITIONS */
OBJECT = IMAGE_MAP_PROJECTION
  ^DATA_SET_MAP_PROJECTION_CATALOG= "DSMAP.CAT"
  A_AXIS_RADIUS = 3396.0
  B_AXIS_RADIUS = 3396.0
  C_AXIS_RADIUS = 3396.0
  CENTER_LATITUDE = 0.0
  CENTER_LONGITUDE = 251.0
  COORDINATE_SYSTEM_NAME = PLANETOGRAPHIC
  COORDINATE_SYSTEM_TYPE = "BODY-FIXED ROTATING"
  EASTERNMOST_LONGITUDE = 258.675
  FIRST_STANDARD_PARALLEL = "N/A"
  LINE_FIRST_PIXEL = 1
  LINE_LAST_PIXEL = 26531
  LINE_PROJECTION_OFFSET = -170222.75
  MAP_PROJECTION_ROTATION = 0.0
  MAP_PROJECTION_TYPE = SINUSOIDAL
  MAP_RESOLUTION = 2370.85521546667
  MAP_SCALE = 0.025
  MAXIMUM_LATITUDE = -71.7837
  MINIMUM_LATITUDE = -82.97669999999999
  POSITIVE_LONGITUDE_DIRECTION = EAST
  REFERENCE_LATITUDE = "N/A"
  REFERENCE_LONGITUDE = "N/A"
  SAMPLE_FIRST_PIXEL = 1
  SAMPLE_LAST_PIXEL = 10079
  SAMPLE_PROJECTION_OFFSET = 4636.75
  SECOND_STANDARD_PARALLEL = "N/A"
  WESTERNMOST_LONGITUDE = 236.149
END_OBJECT = IMAGE_MAP_PROJECTION
END
