PDS_VERSION_ID = PDS3
/* FILE DATA ELEMENTS */
RECORD_TYPE = UNDEFINED
/* POINTERS TO DATA OBJECTS */
^IMAGE = ("H4629_0005_SR4.TIF")
/* IDENTIFICATION DATA ELEMENTS */
DATA_SET_ID = "MEX-M-HRSC-4-REFDR-MAPPROJECT-EXT1-V4.0"
DATA_SET_NAME = "MARS EXPRESS HRSC MAP PROJECTED REFDR EXTENSION1 V4.0"
DETECTOR_ID = MEX_HRSC_SRC
EVENT_TYPE = "MARS-REGIONAL-MAPPING-Gl-Pf-La"
INSTRUMENT_HOST_ID = MEX
INSTRUMENT_HOST_NAME = "MARS EXPRESS"
INSTRUMENT_ID = HRSC
INSTRUMENT_NAME = "HIGH RESOLUTION STEREO CAMERA"
MISSION_NAME = "MARS EXPRESS"
MISSION_PHASE_NAME = ME_Phase_9
PROCESSING_LEVEL_ID = 4
PRODUCT_CREATION_TIME = 2023-02-11T00:15:54.000Z
PRODUCT_ID = "H4629_0005_SR4.TIF"
RELEASE_ID = 0007
REVISION_ID = 0000
/* QUALITY DATA ELEMENTS */
DATA_QUALITY_ID = 1
DATA_QUALITY_DESC = "Data calculated based on original SPICE kernels"
/* TIME DATA ELEMENTS */
SPACECRAFT_CLOCK_START_COUNT = "1/0134944510.09060"
SPACECRAFT_CLOCK_STOP_COUNT = "1/0134944790.25763"
IMAGE_TIME = 2007-08-11T20:36:28.510Z
START_TIME = 2007-08-11T20:36:28.508Z
STOP_TIME = 2007-08-11T20:36:28.513Z
/* ORBITAL DATA ELEMENTS */
ASCENDING_NODE_LONGITUDE = 131.56
MAXIMUM_RESOLUTION = 0.003095
FOOTPRINT_POINT_LATITUDE = (-80.7066,-80.7084,-80.7108,-80.7123, -80.7143,-80.7164,-80.7197,-80.7213, -80.7236,-80.7269,-80.7298,-80.7314, -80.7332,-80.7356,-80.7384,-80.7412, -80.7447,-80.7471,-80.7498,-80.752, -80.755,-80.7551,-80.7551,-80.7542, -80.7534,-80.7525,-80.7517,-80.7508, -80.75,-80.7491,-80.7483,-80.7474, -80.7466,-80.7457,-80.7449,-80.744, -80.7432,-80.7423,-80.7415,-80.7407, -80.7398,-80.739,-80.7381,-80.7373, -80.7364,-80.7355,-80.7347,-80.7338, -80.7336,-80.7335,-80.7314,-80.7296, -80.7267,-80.7252,-80.7224,-80.7198, -80.7179,-80.7154,-80.7124,-80.7105, -80.7082,-80.7061,-80.7037,-80.7022, -80.7005,-80.698,-80.6962,-80.6948, -80.6926,-80.6898,-80.6879,-80.6852, -80.6851,-80.6852,-80.6864,-80.6873, -80.6881,-80.689,-80.6898,-80.6907, -80.6915,-80.6924,-80.6932,-80.6941, -80.6953,-80.6962,-80.697,-80.6979, -80.6987,-80.6995,-80.7004,-80.7012, -80.7021,-80.7029,-80.7038,-80.7046, -80.7054,-80.7063,-80.7065,-80.7066)
FOOTPRINT_POINT_LONGITUDE = (276.196,276.191,276.185,276.18,276.175 ,276.169,276.161,276.156,276.15,276.141 ,276.133,276.129,276.124,276.118,276.11 ,276.103,276.094,276.087,276.08,276.074 ,276.066,276.066,276.065,276.053, 276.041,276.029,276.016,276.004,275.992 ,275.98,275.968,275.956,275.944,275.932 ,275.92,275.908,275.896,275.884,275.872 ,275.86,275.848,275.836,275.824,275.812 ,275.8,275.788,275.777,275.765,275.762, 275.76,275.765,275.77,275.778,275.783, 275.79,275.797,275.802,275.81,275.818, 275.823,275.829,275.835,275.841,275.845 ,275.85,275.857,275.862,275.866,275.872 ,275.879,275.884,275.892,275.892, 275.892,275.91,275.922,275.934,275.946, 275.958,275.97,275.982,275.994,276.006, 276.018,276.036,276.047,276.059,276.071 ,276.083,276.095,276.107,276.119, 276.131,276.143,276.155,276.167,276.179 ,276.191,276.194,276.196)
ORBIT_NUMBER = 4629
ORBITAL_ECCENTRICITY = 0.57
ORBITAL_INCLINATION = 86.68
ORBITAL_SEMIMAJOR_AXIS = 8532.17
PERIAPSIS_ALTITUDE = 295.36
PERIAPSIS_ARGUMENT_ANGLE = 263.48
PERIAPSIS_TIME = 2007-08-11T20:32:42.000Z
SPACECRAFT_ORIENTATION = (0.0,-1.0,0.0)
^MEX_ORIENTATION_DESC = "MEX_ORIENTATION_DESC.TXT"
SPACECRAFT_POINTING_MODE = ACROSSTRACK
^MEX_POINTING_DESC = "MEX_POINTING_DESC.TXT"
RIGHT_ASCENSION = -1e+32
DECLINATION = -1e+32
OFFSET_ANGLE = 0.46
SPACECRAFT_SOLAR_DISTANCE = 2.11449e+08
TARGET_NAME = MARS
/* CAMERA DATA ELEMENTS */
BUFFER_MODE_ID = BUFFER_8
EXPOSURE_DURATION = 5.04
INST_CMPRS_NAME = NONE
INST_CMPRS_RATIO = 1.0
INST_CMPRS_QUALITY = -2147483648
INST_CMPRS_QUANTZ_TBL_ID = -2147483648
INSTRUMENT_TEMPERATURE = 8.28777
MISSING_FRAMES = 0
START_BIT = 0
/* RADIOMETRIC DATA ELEMENTS */
BANDWIDTH = 250.0
CENTER_FILTER_WAVELENGTH = 600.0
RADIANCE_OFFSET = -9.99e+31
RADIANCE_SCALING_FACTOR = -9.99e+31
REFLECTANCE_SCALING_FACTOR = -9.99e+31
MEX:REFLECTANCE_OFFSET = -9.99e+31
/* IMAGE OBJECT DEFINITIONS */
OBJECT = IMAGE
  INTERCHANGE_FORMAT = BINARY
  LINES = 1795
  LINE_SAMPLES = 1803
  SAMPLE_TYPE = UNSIGNED_INTEGER
  SAMPLE_BITS = 8
  BANDS = 1
  BAND_STORAGE_TYPE = BAND_SEQUENTIAL
  MAXIMUM = 249
  MEAN = 152.24
  MINIMUM = 13
  STANDARD_DEVIATION = 18.8727
END_OBJECT = IMAGE
/* MAP OBJECT DEFINITIONS */
OBJECT = IMAGE_MAP_PROJECTION
  ^DATA_SET_MAP_PROJECTION_CATALOG= "DSMAP.CAT"
  A_AXIS_RADIUS = 3396.19
  B_AXIS_RADIUS = 3396.19
  C_AXIS_RADIUS = 3396.19
  CENTER_LATITUDE = 0.0
  CENTER_LONGITUDE = 276.0
  COORDINATE_SYSTEM_NAME = PLANETOGRAPHIC
  COORDINATE_SYSTEM_TYPE = "BODY-FIXED ROTATING"
  EASTERNMOST_LONGITUDE = 276.196
  FIRST_STANDARD_PARALLEL = "N/A"
  LINE_FIRST_PIXEL = 1
  LINE_LAST_PIXEL = 1795
  LINE_PROJECTION_OFFSET = -1907695.0
  MAP_PROJECTION_ROTATION = 0.0
  MAP_PROJECTION_TYPE = SINUSOIDAL
  MAP_RESOLUTION = 23709.8786048756
  MAP_SCALE = 0.0025
  MAXIMUM_LATITUDE = -80.68510000000001
  MINIMUM_LATITUDE = -80.7551
  POSITIVE_LONGITUDE_DIRECTION = EAST
  REFERENCE_LATITUDE = "N/A"
  REFERENCE_LONGITUDE = "N/A"
  SAMPLE_FIRST_PIXEL = 1
  SAMPLE_LAST_PIXEL = 1803
  SAMPLE_PROJECTION_OFFSET = 1658.0
  SECOND_STANDARD_PARALLEL = "N/A"
  WESTERNMOST_LONGITUDE = 275.76
END_OBJECT = IMAGE_MAP_PROJECTION
END
