PDS_VERSION_ID = PDS3
/* FILE DATA ELEMENTS */
RECORD_TYPE = UNDEFINED
/* POINTERS TO DATA OBJECTS */
^IMAGE = ("H4629_0004_SR4.TIF")
/* IDENTIFICATION DATA ELEMENTS */
DATA_SET_ID = "MEX-M-HRSC-4-REFDR-MAPPROJECT-EXT1-V4.0"
DATA_SET_NAME = "MARS EXPRESS HRSC MAP PROJECTED REFDR EXTENSION1 V4.0"
DETECTOR_ID = MEX_HRSC_SRC
EVENT_TYPE = "MARS-REGIONAL-MAPPING-Gl-Pf-La"
INSTRUMENT_HOST_ID = MEX
INSTRUMENT_HOST_NAME = "MARS EXPRESS"
INSTRUMENT_ID = HRSC
INSTRUMENT_NAME = "HIGH RESOLUTION STEREO CAMERA"
MISSION_NAME = "MARS EXPRESS"
MISSION_PHASE_NAME = ME_Phase_9
PROCESSING_LEVEL_ID = 4
PRODUCT_CREATION_TIME = 2023-02-11T00:15:54.000Z
PRODUCT_ID = "H4629_0004_SR4.TIF"
RELEASE_ID = 0007
REVISION_ID = 0000
/* QUALITY DATA ELEMENTS */
DATA_QUALITY_ID = 1
DATA_QUALITY_DESC = "Data calculated based on original SPICE kernels"
/* TIME DATA ELEMENTS */
SPACECRAFT_CLOCK_START_COUNT = "1/0134944510.09060"
SPACECRAFT_CLOCK_STOP_COUNT = "1/0134944790.25763"
IMAGE_TIME = 2007-08-11T20:36:27.965Z
START_TIME = 2007-08-11T20:36:27.963Z
STOP_TIME = 2007-08-11T20:36:27.968Z
/* ORBITAL DATA ELEMENTS */
ASCENDING_NODE_LONGITUDE = 131.56
MAXIMUM_RESOLUTION = 0.003092
FOOTPRINT_POINT_LATITUDE = (-80.739,-80.7411,-80.7431,-80.7472, -80.7499,-80.7518,-80.755,-80.7576, -80.7599,-80.763,-80.7651,-80.7673, -80.7697,-80.7713,-80.773,-80.7752, -80.7774,-80.7803,-80.783,-80.7852, -80.7873,-80.7874,-80.7873,-80.7865, -80.7857,-80.7848,-80.784,-80.7831, -80.7823,-80.7814,-80.7806,-80.7797, -80.7789,-80.778,-80.7772,-80.7763, -80.7755,-80.7746,-80.7738,-80.7729, -80.7721,-80.7712,-80.7704,-80.7695, -80.7687,-80.7678,-80.767,-80.7661, -80.7659,-80.7657,-80.7642,-80.7619, -80.76,-80.7576,-80.7559,-80.7534, -80.7504,-80.7481,-80.7466,-80.744, -80.7419,-80.7404,-80.7377,-80.7357, -80.7342,-80.7317,-80.73,-80.727, -80.7235,-80.7208,-80.719,-80.7175, -80.7175,-80.7175,-80.719,-80.7198, -80.7207,-80.7215,-80.7224,-80.7232, -80.7241,-80.7249,-80.7258,-80.7266, -80.7275,-80.7283,-80.7292,-80.73, -80.7309,-80.7317,-80.7326,-80.7336, -80.7345,-80.7353,-80.7361,-80.737, -80.7378,-80.7387,-80.7389,-80.739)
FOOTPRINT_POINT_LONGITUDE = (276.108,276.103,276.098,276.087, 276.079,276.074,276.065,276.058,276.052 ,276.044,276.038,276.032,276.025, 276.021,276.016,276.01,276.004,275.996, 275.988,275.982,275.976,275.976,275.976 ,275.964,275.952,275.94,275.928,275.916 ,275.904,275.892,275.88,275.868,275.856 ,275.844,275.832,275.82,275.807,275.795 ,275.783,275.771,275.759,275.747, 275.735,275.723,275.711,275.699,275.687 ,275.675,275.672,275.67,275.674,275.68, 275.686,275.693,275.698,275.705,275.713 ,275.719,275.724,275.731,275.736, 275.741,275.748,275.753,275.758,275.765 ,275.769,275.778,275.787,275.795, 275.799,275.803,275.804,275.804,275.825 ,275.837,275.849,275.861,275.873, 275.885,275.897,275.909,275.921,275.933 ,275.945,275.956,275.968,275.98,275.992 ,276.004,276.016,276.031,276.043, 276.055,276.067,276.079,276.091,276.103 ,276.106,276.108)
ORBIT_NUMBER = 4629
ORBITAL_ECCENTRICITY = 0.57
ORBITAL_INCLINATION = 86.68
ORBITAL_SEMIMAJOR_AXIS = 8532.17
PERIAPSIS_ALTITUDE = 295.36
PERIAPSIS_ARGUMENT_ANGLE = 263.48
PERIAPSIS_TIME = 2007-08-11T20:32:42.000Z
SPACECRAFT_ORIENTATION = (0.0,-1.0,0.0)
^MEX_ORIENTATION_DESC = "MEX_ORIENTATION_DESC.TXT"
SPACECRAFT_POINTING_MODE = ACROSSTRACK
^MEX_POINTING_DESC = "MEX_POINTING_DESC.TXT"
RIGHT_ASCENSION = -1e+32
DECLINATION = -1e+32
OFFSET_ANGLE = 0.46
SPACECRAFT_SOLAR_DISTANCE = 2.11449e+08
TARGET_NAME = MARS
/* CAMERA DATA ELEMENTS */
BUFFER_MODE_ID = BUFFER_8
EXPOSURE_DURATION = 5.04
INST_CMPRS_NAME = NONE
INST_CMPRS_RATIO = 1.0
INST_CMPRS_QUALITY = -2147483648
INST_CMPRS_QUANTZ_TBL_ID = -2147483648
INSTRUMENT_TEMPERATURE = 8.27486
MISSING_FRAMES = 0
START_BIT = 0
/* RADIOMETRIC DATA ELEMENTS */
BANDWIDTH = 250.0
CENTER_FILTER_WAVELENGTH = 600.0
RADIANCE_OFFSET = -9.99e+31
RADIANCE_SCALING_FACTOR = -9.99e+31
REFLECTANCE_SCALING_FACTOR = -9.99e+31
MEX:REFLECTANCE_OFFSET = -9.99e+31
/* IMAGE OBJECT DEFINITIONS */
OBJECT = IMAGE
  INTERCHANGE_FORMAT = BINARY
  LINES = 1796
  LINE_SAMPLES = 1803
  SAMPLE_TYPE = UNSIGNED_INTEGER
  SAMPLE_BITS = 8
  BANDS = 1
  BAND_STORAGE_TYPE = BAND_SEQUENTIAL
  MAXIMUM = 244
  MEAN = 151.305
  MINIMUM = 17
  STANDARD_DEVIATION = 18.7589
END_OBJECT = IMAGE
/* MAP OBJECT DEFINITIONS */
OBJECT = IMAGE_MAP_PROJECTION
  ^DATA_SET_MAP_PROJECTION_CATALOG= "DSMAP.CAT"
  A_AXIS_RADIUS = 3396.19
  B_AXIS_RADIUS = 3396.19
  C_AXIS_RADIUS = 3396.19
  CENTER_LATITUDE = 0.0
  CENTER_LONGITUDE = 276.0
  COORDINATE_SYSTEM_NAME = PLANETOGRAPHIC
  COORDINATE_SYSTEM_TYPE = "BODY-FIXED ROTATING"
  EASTERNMOST_LONGITUDE = 276.108
  FIRST_STANDARD_PARALLEL = "N/A"
  LINE_FIRST_PIXEL = 1
  LINE_LAST_PIXEL = 1796
  LINE_PROJECTION_OFFSET = -1908454.0
  MAP_PROJECTION_ROTATION = 0.0
  MAP_PROJECTION_TYPE = SINUSOIDAL
  MAP_RESOLUTION = 23709.8786048756
  MAP_SCALE = 0.0025
  MAXIMUM_LATITUDE = -80.7175
  MINIMUM_LATITUDE = -80.78740000000001
  POSITIVE_LONGITUDE_DIRECTION = EAST
  REFERENCE_LATITUDE = "N/A"
  REFERENCE_LONGITUDE = "N/A"
  SAMPLE_FIRST_PIXEL = 1
  SAMPLE_LAST_PIXEL = 1803
  SAMPLE_PROJECTION_OFFSET = 1995.0
  SECOND_STANDARD_PARALLEL = "N/A"
  WESTERNMOST_LONGITUDE = 275.67
END_OBJECT = IMAGE_MAP_PROJECTION
END
