PDS_VERSION_ID = PDS3
/* FILE DATA ELEMENTS */
RECORD_TYPE = UNDEFINED
/* POINTERS TO DATA OBJECTS */
^IMAGE = ("H4622_0000_P24.TIF")
/* IDENTIFICATION DATA ELEMENTS */
DATA_SET_ID = "MEX-M-HRSC-4-REFDR-MAPPROJECT-EXT1-V4.0"
DATA_SET_NAME = "MARS EXPRESS HRSC MAP PROJECTED REFDR EXTENSION1 V4.0"
DETECTOR_ID = MEX_HRSC_P2
EVENT_TYPE = "MARS-REGIONAL-MAPPING-Im-Eo"
INSTRUMENT_HOST_ID = MEX
INSTRUMENT_HOST_NAME = "MARS EXPRESS"
INSTRUMENT_ID = HRSC
INSTRUMENT_NAME = "HIGH RESOLUTION STEREO CAMERA"
MISSION_NAME = "MARS EXPRESS"
MISSION_PHASE_NAME = ME_Phase_9
PROCESSING_LEVEL_ID = 4
PRODUCT_CREATION_TIME = 2023-02-11T00:15:54.000Z
PRODUCT_ID = "H4622_0000_P24.TIF"
RELEASE_ID = 0007
REVISION_ID = 0000
/* QUALITY DATA ELEMENTS */
DATA_QUALITY_ID = 1
DATA_QUALITY_DESC = "Data calculated based on original SPICE kernels"
/* TIME DATA ELEMENTS */
SPACECRAFT_CLOCK_START_COUNT = "1/0134775314.09074"
SPACECRAFT_CLOCK_STOP_COUNT = "1/0134775586.53788"
START_TIME = 2007-08-09T21:36:18.042Z
STOP_TIME = 2007-08-09T21:39:27.246Z
/* ORBITAL DATA ELEMENTS */
ASCENDING_NODE_LONGITUDE = 131.7
MAXIMUM_RESOLUTION = 0.0336
FOOTPRINT_POINT_LATITUDE = (-72.6848,-72.7637,-72.8628,-72.9204, -72.9222,-72.9907,-72.7005,-72.3144, -71.9218,-71.6265,-71.2372,-71.0328, -70.7291,-70.4282,-70.2235,-70.0184, -69.8136,-69.6093,-69.4004,-69.0874, -68.8817,-68.6685,-68.35,-68.138, -67.8156,-67.5997,-67.3842,-67.0559, -66.8365,-66.6175,-66.3945,-66.1713, -65.9489,-65.7226,-65.4958,-65.2698, -65.04,-64.8098,-64.4633,-64.2298, -63.8784,-63.6427,-63.4052,-63.0453, -62.685,-62.3215,-62.1989,-62.1977, -62.1812,-62.1468,-62.122,-62.0852, -62.0335,-62.0313,-62.0311,-62.2723, -62.5141,-62.8738,-63.1135,-63.3474, -63.5828,-63.8174,-64.0503,-64.2806, -64.5117,-64.7399,-64.9685,-65.3096, -65.5361,-65.7609,-65.982,-66.3134, -66.5303,-66.748,-66.9666,-67.1836, -67.3975,-67.6121,-67.8266,-68.1426, -68.3532,-68.6678,-68.874,-69.081, -69.2881,-69.5937,-69.7968,-70.0003, -70.2034,-70.4027,-70.6019,-70.9007, -71.0989,-71.2935,-71.4879,-71.6838, -71.9764,-72.6453,-72.7411,-72.6848)
FOOTPRINT_POINT_LONGITUDE = (254.416,255.737,257.647,258.947, 258.992,259.075,259.229,259.425,259.615 ,259.754,259.936,260.02,260.146,260.269 ,260.35,260.43,260.508,260.584,260.66, 260.771,260.845,260.914,261.02,261.088, 261.188,261.254,261.319,261.414,261.477 ,261.538,261.599,261.658,261.717, 261.775,261.832,261.887,261.943,261.998 ,262.078,262.131,262.207,262.259, 262.308,262.382,262.455,262.527,262.549 ,262.55,261.987,260.983,260.343,259.503 ,258.465,258.425,258.411,258.362, 258.311,258.232,258.177,258.125,258.07, 258.013,257.954,257.897,257.836,257.775 ,257.713,257.614,257.547,257.48,257.412 ,257.309,257.243,257.171,257.096,257.02 ,256.944,256.866,256.786,256.664, 256.581,256.453,256.367,256.278,256.186 ,256.049,255.953,255.855,255.756, 255.655,255.552,255.394,255.286,255.177 ,255.067,254.95,254.773,254.34,254.275, 254.416)
ORBIT_NUMBER = 4622
ORBITAL_ECCENTRICITY = 0.57
ORBITAL_INCLINATION = 86.69
ORBITAL_SEMIMAJOR_AXIS = 8531.56
PERIAPSIS_ALTITUDE = 294.79
PERIAPSIS_ARGUMENT_ANGLE = 264.67
PERIAPSIS_TIME = 2007-08-09T21:30:15.000Z
SPACECRAFT_ORIENTATION = (0.0,-1.0,0.0)
^MEX_ORIENTATION_DESC = "MEX_ORIENTATION_DESC.TXT"
SPACECRAFT_POINTING_MODE = NADIR
^MEX_POINTING_DESC = "MEX_POINTING_DESC.TXT"
RIGHT_ASCENSION = -1e+32
DECLINATION = -1e+32
OFFSET_ANGLE = -1e+32
SPACECRAFT_SOLAR_DISTANCE = 2.11192e+08
TARGET_NAME = MARS
/* CAMERA DATA ELEMENTS */
DETECTOR_TEMPERATURE = 18.5744
FOCAL_PLANE_TEMPERATURE = 8.5833
INST_CMPRS_NAME = "DISCRETE COSINE TRANSFORMATION (DCT)"
INST_CMPRS_RATIO = 7.79607
INST_CMPRS_QUALITY = 0
INST_CMPRS_QUANTZ_TBL_ID = 0
INSTRUMENT_TEMPERATURE = 10.2145
LENS_TEMPERATURE = 9.195
MACROPIXEL_SIZE = 2
MISSING_FRAMES = 0
PIXEL_SUBSAMPLING_FLAG = N
SIGNAL_CHAIN_ID = 3
/* RADIOMETRIC DATA ELEMENTS */
BANDWIDTH = 177.0
CENTER_FILTER_WAVELENGTH = 676.5
RADIANCE_OFFSET = 6.32209
RADIANCE_SCALING_FACTOR = 0.0155345
REFLECTANCE_SCALING_FACTOR = 0.000367378
MEX:REFLECTANCE_OFFSET = 0.149512
/* IMAGE OBJECT DEFINITIONS */
OBJECT = IMAGE
  INTERCHANGE_FORMAT = BINARY
  LINES = 25998
  LINE_SAMPLES = 7029
  SAMPLE_TYPE = UNSIGNED_INTEGER
  SAMPLE_BITS = 8
  BANDS = 1
  BAND_STORAGE_TYPE = BAND_SEQUENTIAL
  MAXIMUM = 255
  MEAN = 176.331
  MINIMUM = 1
  STANDARD_DEVIATION = 44.5771
END_OBJECT = IMAGE
/* MAP OBJECT DEFINITIONS */
OBJECT = IMAGE_MAP_PROJECTION
  ^DATA_SET_MAP_PROJECTION_CATALOG= "DSMAP.CAT"
  A_AXIS_RADIUS = 3396.0
  B_AXIS_RADIUS = 3396.0
  C_AXIS_RADIUS = 3396.0
  CENTER_LATITUDE = 0.0
  CENTER_LONGITUDE = 259.0
  COORDINATE_SYSTEM_NAME = PLANETOGRAPHIC
  COORDINATE_SYSTEM_TYPE = "BODY-FIXED ROTATING"
  EASTERNMOST_LONGITUDE = 262.55
  FIRST_STANDARD_PARALLEL = "N/A"
  LINE_FIRST_PIXEL = 1
  LINE_LAST_PIXEL = 25998
  LINE_PROJECTION_OFFSET = -147080.75
  MAP_PROJECTION_ROTATION = 0.0
  MAP_PROJECTION_TYPE = SINUSOIDAL
  MAP_RESOLUTION = 2370.85521546667
  MAP_SCALE = 0.025
  MAXIMUM_LATITUDE = -62.0311
  MINIMUM_LATITUDE = -72.9907
  POSITIVE_LONGITUDE_DIRECTION = EAST
  REFERENCE_LATITUDE = "N/A"
  REFERENCE_LONGITUDE = "N/A"
  SAMPLE_FIRST_PIXEL = 1
  SAMPLE_LAST_PIXEL = 7029
  SAMPLE_PROJECTION_OFFSET = 3266.25
  SECOND_STANDARD_PARALLEL = "N/A"
  WESTERNMOST_LONGITUDE = 254.275
END_OBJECT = IMAGE_MAP_PROJECTION
END
