PDS_VERSION_ID = PDS3
/* FILE DATA ELEMENTS */
RECORD_TYPE = UNDEFINED
/* POINTERS TO DATA OBJECTS */
^IMAGE = ("H4616_0000_IR4.TIF")
/* IDENTIFICATION DATA ELEMENTS */
DATA_SET_ID = "MEX-M-HRSC-4-REFDR-MAPPROJECT-EXT1-V4.0"
DATA_SET_NAME = "MARS EXPRESS HRSC MAP PROJECTED REFDR EXTENSION1 V4.0"
DETECTOR_ID = MEX_HRSC_IR
EVENT_TYPE = "MARS-REGIONAL-MAPPING-Gl-Pf-Eo"
INSTRUMENT_HOST_ID = MEX
INSTRUMENT_HOST_NAME = "MARS EXPRESS"
INSTRUMENT_ID = HRSC
INSTRUMENT_NAME = "HIGH RESOLUTION STEREO CAMERA"
MISSION_NAME = "MARS EXPRESS"
MISSION_PHASE_NAME = ME_Phase_9
PROCESSING_LEVEL_ID = 4
PRODUCT_CREATION_TIME = 2023-02-11T00:15:54.000Z
PRODUCT_ID = "H4616_0000_IR4.TIF"
RELEASE_ID = 0007
REVISION_ID = 0000
/* QUALITY DATA ELEMENTS */
DATA_QUALITY_ID = 1
DATA_QUALITY_DESC = "Data calculated based on original SPICE kernels"
/* TIME DATA ELEMENTS */
SPACECRAFT_CLOCK_START_COUNT = "1/0134630050.09066"
SPACECRAFT_CLOCK_STOP_COUNT = "1/0134630317.48338"
START_TIME = 2007-08-08T05:14:19.046Z
STOP_TIME = 2007-08-08T05:17:20.640Z
/* ORBITAL DATA ELEMENTS */
ASCENDING_NODE_LONGITUDE = 131.82
MAXIMUM_RESOLUTION = 0.0546
FOOTPRINT_POINT_LATITUDE = (-78.8988,-78.9753,-79.0697,-79.199, -79.2014,-79.1349,-78.8206,-78.4017, -77.983,-77.7681,-77.4478,-77.2287, -76.9034,-76.6847,-76.468,-76.1427, -75.817,-75.4914,-75.2752,-75.0567, -74.8395,-74.5135,-74.2963,-74.0788, -73.8615,-73.6443,-73.4274,-73.0503, -72.6616,-72.4023,-72.1449,-71.8831, -71.623,-71.364,-71.1061,-70.7192, -70.4607,-70.0738,-69.8165,-69.5581, -69.3006,-68.9152,-68.6585,-68.3972, -68.1318,-67.8679,-67.4694,-67.3349, -67.2463,-67.2121,-67.1752,-67.1497, -67.113,-67.0787,-67.0767,-67.077, -67.4775,-67.7401,-68.0019,-68.2651, -68.527,-68.7871,-69.1736,-69.5478, -69.802,-70.0578,-70.3138,-70.5702, -70.8265,-71.0819,-71.3381,-71.595, -71.8514,-72.1103,-72.3698,-72.7573, -73.0119,-73.247,-73.4598,-73.6752, -73.889,-74.103,-74.3174,-74.6385, -74.853,-75.0694,-75.4929,-75.7067, -75.9204,-76.134,-76.3481,-76.6732, -76.9926,-77.3071,-77.5187,-77.7284, -78.1385,-78.6513,-78.7533,-78.8988)
FOOTPRINT_POINT_LONGITUDE = (118.12,119.32,120.951,123.564,123.617, 123.906,124.31,124.812,125.274,125.498, 125.806,126.02,126.317,126.512,126.694, 126.956,127.207,127.445,127.595,127.747 ,127.891,128.099,128.232,128.363, 128.489,128.611,128.729,128.929,129.124 ,129.25,129.369,129.492,129.608,129.719 ,129.825,129.979,130.079,130.223, 130.314,130.405,130.493,130.619,130.7, 130.779,130.861,130.938,131.052,131.089 ,131.113,130.159,129.278,128.717, 128.019,127.393,127.359,127.347,127.208 ,127.114,127.017,126.918,126.817, 126.716,126.557,126.386,126.27,126.15, 126.027,125.901,125.77,125.635,125.495, 125.352,125.204,125.051,124.894,124.647 ,124.474,124.309,124.155,123.997, 123.835,123.667,123.494,123.225,123.039 ,122.847,122.444,122.233,122.015, 121.789,121.557,121.192,120.808,120.404 ,120.123,119.834,119.237,118.427, 118.256,118.12)
ORBIT_NUMBER = 4616
ORBITAL_ECCENTRICITY = 0.57
ORBITAL_INCLINATION = 86.69
ORBITAL_SEMIMAJOR_AXIS = 8530.76
PERIAPSIS_ALTITUDE = 295.21
PERIAPSIS_ARGUMENT_ANGLE = 265.71
PERIAPSIS_TIME = 2007-08-08T05:10:59.000Z
SPACECRAFT_ORIENTATION = (0.0,-1.0,0.0)
^MEX_ORIENTATION_DESC = "MEX_ORIENTATION_DESC.TXT"
SPACECRAFT_POINTING_MODE = ACROSSTRACK
^MEX_POINTING_DESC = "MEX_POINTING_DESC.TXT"
RIGHT_ASCENSION = -1e+32
DECLINATION = -1e+32
OFFSET_ANGLE = -0.12
SPACECRAFT_SOLAR_DISTANCE = 2.10977e+08
TARGET_NAME = MARS
/* CAMERA DATA ELEMENTS */
DETECTOR_TEMPERATURE = 17.5549
FOCAL_PLANE_TEMPERATURE = 9.3989
INST_CMPRS_NAME = "DISCRETE COSINE TRANSFORMATION (DCT)"
INST_CMPRS_RATIO = 14.6298
INST_CMPRS_QUALITY = 0
INST_CMPRS_QUANTZ_TBL_ID = 0
INSTRUMENT_TEMPERATURE = 11.6418
LENS_TEMPERATURE = 8.9911
MACROPIXEL_SIZE = 4
MISSING_FRAMES = 0
PIXEL_SUBSAMPLING_FLAG = N
SIGNAL_CHAIN_ID = 2
/* RADIOMETRIC DATA ELEMENTS */
BANDWIDTH = 81.0
CENTER_FILTER_WAVELENGTH = 955.5
RADIANCE_OFFSET = 1.24709
RADIANCE_SCALING_FACTOR = 0.00440149
REFLECTANCE_SCALING_FACTOR = 0.000422665
MEX:REFLECTANCE_OFFSET = 0.119755
/* IMAGE OBJECT DEFINITIONS */
OBJECT = IMAGE
  INTERCHANGE_FORMAT = BINARY
  LINES = 14294
  LINE_SAMPLES = 4211
  SAMPLE_TYPE = UNSIGNED_INTEGER
  SAMPLE_BITS = 8
  BANDS = 1
  BAND_STORAGE_TYPE = BAND_SEQUENTIAL
  MAXIMUM = 255
  MEAN = 159.302
  MINIMUM = 1
  STANDARD_DEVIATION = 43.3045
END_OBJECT = IMAGE
/* MAP OBJECT DEFINITIONS */
OBJECT = IMAGE_MAP_PROJECTION
  ^DATA_SET_MAP_PROJECTION_CATALOG= "DSMAP.CAT"
  A_AXIS_RADIUS = 3396.0
  B_AXIS_RADIUS = 3396.0
  C_AXIS_RADIUS = 3396.0
  CENTER_LATITUDE = 0.0
  CENTER_LONGITUDE = 126.0
  COORDINATE_SYSTEM_NAME = PLANETOGRAPHIC
  COORDINATE_SYSTEM_TYPE = "BODY-FIXED ROTATING"
  EASTERNMOST_LONGITUDE = 131.113
  FIRST_STANDARD_PARALLEL = "N/A"
  LINE_FIRST_PIXEL = 1
  LINE_LAST_PIXEL = 14294
  LINE_PROJECTION_OFFSET = -79501.625
  MAP_PROJECTION_ROTATION = 0.0
  MAP_PROJECTION_TYPE = SINUSOIDAL
  MAP_RESOLUTION = 1185.42760773333
  MAP_SCALE = 0.05
  MAXIMUM_LATITUDE = -67.0767
  MINIMUM_LATITUDE = -79.20140000000001
  POSITIVE_LONGITUDE_DIRECTION = EAST
  REFERENCE_LATITUDE = "N/A"
  REFERENCE_LONGITUDE = "N/A"
  SAMPLE_FIRST_PIXEL = 1
  SAMPLE_LAST_PIXEL = 4211
  SAMPLE_PROJECTION_OFFSET = 1821.875
  SECOND_STANDARD_PARALLEL = "N/A"
  WESTERNMOST_LONGITUDE = 118.12
END_OBJECT = IMAGE_MAP_PROJECTION
END
