PDS_VERSION_ID = PDS3
/* FILE DATA ELEMENTS */
RECORD_TYPE = UNDEFINED
/* POINTERS TO DATA OBJECTS */
^IMAGE = ("H4615_0007_SR4.TIF")
/* IDENTIFICATION DATA ELEMENTS */
DATA_SET_ID = "MEX-M-HRSC-4-REFDR-MAPPROJECT-EXT1-V4.0"
DATA_SET_NAME = "MARS EXPRESS HRSC MAP PROJECTED REFDR EXTENSION1 V4.0"
DETECTOR_ID = MEX_HRSC_SRC
EVENT_TYPE = "MARS-REGIONAL-MAPPING-Im-Pf-Eo"
INSTRUMENT_HOST_ID = MEX
INSTRUMENT_HOST_NAME = "MARS EXPRESS"
INSTRUMENT_ID = HRSC
INSTRUMENT_NAME = "HIGH RESOLUTION STEREO CAMERA"
MISSION_NAME = "MARS EXPRESS"
MISSION_PHASE_NAME = ME_Phase_9
PROCESSING_LEVEL_ID = 4
PRODUCT_CREATION_TIME = 2023-02-11T00:15:54.000Z
PRODUCT_ID = "H4615_0007_SR4.TIF"
RELEASE_ID = 0007
REVISION_ID = 0000
/* QUALITY DATA ELEMENTS */
DATA_QUALITY_ID = 1
DATA_QUALITY_DESC = "Data calculated based on original SPICE kernels"
/* TIME DATA ELEMENTS */
SPACECRAFT_CLOCK_START_COUNT = "1/0134605873.07303"
SPACECRAFT_CLOCK_STOP_COUNT = "1/0134606052.21565"
IMAGE_TIME = 2007-08-07T22:33:03.140Z
START_TIME = 2007-08-07T22:33:03.137Z
STOP_TIME = 2007-08-07T22:33:03.142Z
/* ORBITAL DATA ELEMENTS */
ASCENDING_NODE_LONGITUDE = 131.84
MAXIMUM_RESOLUTION = 0.003465
FOOTPRINT_POINT_LATITUDE = (-72.8705,-72.8737,-72.8758,-72.8794, -72.8814,-72.885,-72.8872,-72.8911, -72.8941,-72.8962,-72.8981,-72.9002, -72.9039,-72.9072,-72.9117,-72.9142, -72.9162,-72.919,-72.9224,-72.9262, -72.9286,-72.9287,-72.9287,-72.9283, -72.9279,-72.9274,-72.927,-72.9266, -72.9262,-72.9257,-72.9253,-72.9249, -72.9245,-72.924,-72.9236,-72.9232, -72.9228,-72.9225,-72.922,-72.9216, -72.9212,-72.9208,-72.9203,-72.9199, -72.9195,-72.9191,-72.9186,-72.9181, -72.918,-72.9179,-72.9161,-72.9138, -72.9099,-72.9059,-72.902,-72.8999, -72.8981,-72.8959,-72.8937,-72.8903, -72.8859,-72.8841,-72.8813,-72.8795, -72.8766,-72.8747,-72.8717,-72.8683, -72.8653,-72.8632,-72.8598,-72.8598, -72.8598,-72.8602,-72.8606,-72.8611, -72.8615,-72.8619,-72.8624,-72.8628, -72.8632,-72.8636,-72.8641,-72.8645, -72.8649,-72.8653,-72.8657,-72.8662, -72.8666,-72.867,-72.8674,-72.8679, -72.8683,-72.8687,-72.8691,-72.8695, -72.87,-72.8704,-72.8705,-72.8705)
FOOTPRINT_POINT_LONGITUDE = (224.543,224.541,224.539,224.537, 224.536,224.534,224.532,224.53,224.528, 224.527,224.526,224.524,224.522,224.52, 224.517,224.516,224.514,224.513,224.511 ,224.508,224.507,224.507,224.506, 224.499,224.491,224.483,224.475,224.467 ,224.459,224.451,224.444,224.436, 224.428,224.42,224.412,224.404,224.396, 224.39,224.383,224.375,224.367,224.359, 224.351,224.343,224.335,224.327,224.32, 224.31,224.308,224.307,224.308,224.309, 224.312,224.314,224.317,224.318,224.319 ,224.321,224.322,224.324,224.327, 224.328,224.33,224.331,224.333,224.334, 224.336,224.338,224.34,224.341,224.343, 224.343,224.343,224.351,224.359,224.367 ,224.375,224.383,224.39,224.398,224.406 ,224.414,224.422,224.43,224.438,224.445 ,224.453,224.461,224.469,224.477, 224.485,224.492,224.5,224.508,224.516, 224.524,224.532,224.539,224.541, 224.543)
ORBIT_NUMBER = 4615
ORBITAL_ECCENTRICITY = 0.57
ORBITAL_INCLINATION = 86.7
ORBITAL_SEMIMAJOR_AXIS = 8530.53
PERIAPSIS_ALTITUDE = 294.15
PERIAPSIS_ARGUMENT_ANGLE = 265.89
PERIAPSIS_TIME = 2007-08-07T22:27:45.000Z
SPACECRAFT_ORIENTATION = (0.0,-1.0,0.0)
^MEX_ORIENTATION_DESC = "MEX_ORIENTATION_DESC.TXT"
SPACECRAFT_POINTING_MODE = ACROSSTRACK
^MEX_POINTING_DESC = "MEX_POINTING_DESC.TXT"
RIGHT_ASCENSION = -1e+32
DECLINATION = -1e+32
OFFSET_ANGLE = 0.06
SPACECRAFT_SOLAR_DISTANCE = 2.10941e+08
TARGET_NAME = MARS
/* CAMERA DATA ELEMENTS */
BUFFER_MODE_ID = BUFFER_8
EXPOSURE_DURATION = 5.04
INST_CMPRS_NAME = NONE
INST_CMPRS_RATIO = 1.0
INST_CMPRS_QUALITY = -2147483648
INST_CMPRS_QUANTZ_TBL_ID = -2147483648
INSTRUMENT_TEMPERATURE = 7.21367
MISSING_FRAMES = 0
START_BIT = 0
/* RADIOMETRIC DATA ELEMENTS */
BANDWIDTH = 250.0
CENTER_FILTER_WAVELENGTH = 600.0
RADIANCE_OFFSET = -9.99e+31
RADIANCE_SCALING_FACTOR = -9.99e+31
REFLECTANCE_SCALING_FACTOR = -9.99e+31
MEX:REFLECTANCE_OFFSET = -9.99e+31
/* IMAGE OBJECT DEFINITIONS */
OBJECT = IMAGE
  INTERCHANGE_FORMAT = BINARY
  LINES = 1754
  LINE_SAMPLES = 1773
  SAMPLE_TYPE = UNSIGNED_INTEGER
  SAMPLE_BITS = 8
  BANDS = 1
  BAND_STORAGE_TYPE = BAND_SEQUENTIAL
  MAXIMUM = 247
  MEAN = 146.013
  MINIMUM = 14
  STANDARD_DEVIATION = 25.1967
END_OBJECT = IMAGE
/* MAP OBJECT DEFINITIONS */
OBJECT = IMAGE_MAP_PROJECTION
  ^DATA_SET_MAP_PROJECTION_CATALOG= "DSMAP.CAT"
  A_AXIS_RADIUS = 3396.19
  B_AXIS_RADIUS = 3396.19
  C_AXIS_RADIUS = 3396.19
  CENTER_LATITUDE = 0.0
  CENTER_LONGITUDE = 224.0
  COORDINATE_SYSTEM_NAME = PLANETOGRAPHIC
  COORDINATE_SYSTEM_TYPE = "BODY-FIXED ROTATING"
  EASTERNMOST_LONGITUDE = 224.543
  FIRST_STANDARD_PARALLEL = "N/A"
  LINE_FIRST_PIXEL = 1
  LINE_LAST_PIXEL = 1754
  LINE_PROJECTION_OFFSET = -1723480.0
  MAP_PROJECTION_ROTATION = 0.0
  MAP_PROJECTION_TYPE = SINUSOIDAL
  MAP_RESOLUTION = 23709.8786048756
  MAP_SCALE = 0.0025
  MAXIMUM_LATITUDE = -72.85980000000001
  MINIMUM_LATITUDE = -72.92870000000001
  POSITIVE_LONGITUDE_DIRECTION = EAST
  REFERENCE_LATITUDE = "N/A"
  REFERENCE_LONGITUDE = "N/A"
  SAMPLE_FIRST_PIXEL = 1
  SAMPLE_LAST_PIXEL = 1773
  SAMPLE_PROJECTION_OFFSET = -1976.0
  SECOND_STANDARD_PARALLEL = "N/A"
  WESTERNMOST_LONGITUDE = 224.307
END_OBJECT = IMAGE_MAP_PROJECTION
END
