PDS_VERSION_ID = PDS3
/* FILE DATA ELEMENTS */
RECORD_TYPE = UNDEFINED
/* POINTERS TO DATA OBJECTS */
^IMAGE = ("H4612_0000_ND4.TIF")
/* IDENTIFICATION DATA ELEMENTS */
DATA_SET_ID = "MEX-M-HRSC-4-REFDR-MAPPROJECT-EXT1-V4.0"
DATA_SET_NAME = "MARS EXPRESS HRSC MAP PROJECTED REFDR EXTENSION1 V4.0"
DETECTOR_ID = MEX_HRSC_NADIR
EVENT_TYPE = "MARS-REGIONAL-MAPPING-Im-Fl"
INSTRUMENT_HOST_ID = MEX
INSTRUMENT_HOST_NAME = "MARS EXPRESS"
INSTRUMENT_ID = HRSC
INSTRUMENT_NAME = "HIGH RESOLUTION STEREO CAMERA"
MISSION_NAME = "MARS EXPRESS"
MISSION_PHASE_NAME = ME_Phase_9
PROCESSING_LEVEL_ID = 4
PRODUCT_CREATION_TIME = 2023-02-11T00:15:54.000Z
PRODUCT_ID = "H4612_0000_ND4.TIF"
RELEASE_ID = 0007
REVISION_ID = 0000
/* QUALITY DATA ELEMENTS */
DATA_QUALITY_ID = 1
DATA_QUALITY_DESC = "Data calculated based on original SPICE kernels"
/* TIME DATA ELEMENTS */
SPACECRAFT_CLOCK_START_COUNT = "1/0134533785.07305"
SPACECRAFT_CLOCK_STOP_COUNT = "1/0134534223.50856"
START_TIME = 2007-08-07T02:31:05.983Z
STOP_TIME = 2007-08-07T02:34:17.976Z
/* ORBITAL DATA ELEMENTS */
ASCENDING_NODE_LONGITUDE = 131.9
MAXIMUM_RESOLUTION = 0.031
FOOTPRINT_POINT_LATITUDE = (-46.1138,-46.1238,-46.1364,-46.1431, -46.1491,-46.1542,-46.1586,-46.1621, -46.1648,-46.1667,-46.1678,-46.1677, -46.1676,-46.168,-45.9689,-45.7702, -45.5719,-45.3741,-45.1766,-44.9796, -44.783,-44.5868,-44.391,-44.1956, -44.0007,-43.8061,-43.612,-43.4183, -43.225,-43.0321,-42.8396,-42.6476, -42.4559,-42.2647,-42.0739,-41.6935, -41.3148,-40.9377,-40.5622,-40.1884, -39.8162,-39.4457,-39.0768,-38.7095, -38.3438,-37.9798,-37.6174,-37.2566, -36.8974,-36.8078,-36.719,-36.7263, -36.7325,-36.7377,-36.7419,-36.745, -36.7472,-36.7483,-36.7484,-36.7475, -36.7456,-36.7436,-36.7366,-36.736, -36.736,-37.091,-37.4478,-37.8061, -38.1662,-38.5279,-38.8913,-39.2563, -39.6229,-39.9913,-40.3614,-40.7331, -41.1065,-41.4816,-41.8585,-42.2369, -42.6171,-42.8079,-42.9991,-43.1906, -43.3826,-43.5749,-43.7678,-43.9611, -44.1548,-44.3489,-44.5434,-44.7384, -44.9338,-45.1296,-45.3258,-45.5224, -45.7195,-45.917,-46.0159,-46.1138)
FOOTPRINT_POINT_LONGITUDE = (163.73,164.071,164.564,164.869,165.174 ,165.479,165.785,166.092,166.399, 166.706,167.015,167.557,167.596,167.646 ,167.655,167.664,167.674,167.683, 167.692,167.701,167.71,167.719,167.728, 167.736,167.744,167.752,167.761,167.769 ,167.776,167.784,167.791,167.799, 167.806,167.813,167.82,167.834,167.847, 167.86,167.874,167.887,167.899,167.911, 167.922,167.933,167.943,167.954,167.964 ,167.974,167.983,167.985,167.987, 167.636,167.284,166.933,166.583,166.233 ,165.885,165.536,165.188,164.84,164.493 ,164.232,163.625,163.582,163.561, 163.574,163.587,163.6,163.611,163.623, 163.634,163.645,163.655,163.665,163.673 ,163.681,163.689,163.696,163.699, 163.708,163.71,163.711,163.712,163.714, 163.716,163.719,163.719,163.719,163.72, 163.72,163.72,163.72,163.719,163.719, 163.719,163.718,163.716,163.716,163.714 ,163.73)
ORBIT_NUMBER = 4612
ORBITAL_ECCENTRICITY = 0.57
ORBITAL_INCLINATION = 86.68
ORBITAL_SEMIMAJOR_AXIS = 8531.13
PERIAPSIS_ALTITUDE = 295.57
PERIAPSIS_ARGUMENT_ANGLE = 266.41
PERIAPSIS_TIME = 2007-08-07T02:18:12.000Z
SPACECRAFT_ORIENTATION = (0.0,-1.0,0.0)
^MEX_ORIENTATION_DESC = "MEX_ORIENTATION_DESC.TXT"
SPACECRAFT_POINTING_MODE = ACROSSTRACK
^MEX_POINTING_DESC = "MEX_POINTING_DESC.TXT"
RIGHT_ASCENSION = -1e+32
DECLINATION = -1e+32
OFFSET_ANGLE = -0.5
SPACECRAFT_SOLAR_DISTANCE = 2.10836e+08
TARGET_NAME = MARS
/* CAMERA DATA ELEMENTS */
DETECTOR_TEMPERATURE = 18.3705
FOCAL_PLANE_TEMPERATURE = 9.195
INST_CMPRS_NAME = "DISCRETE COSINE TRANSFORMATION (DCT)"
INST_CMPRS_RATIO = 7.88246
INST_CMPRS_QUALITY = 0
INST_CMPRS_QUANTZ_TBL_ID = 0
INSTRUMENT_TEMPERATURE = 11.4379
LENS_TEMPERATURE = 9.6028
MACROPIXEL_SIZE = 1
MISSING_FRAMES = 0
PIXEL_SUBSAMPLING_FLAG = N
SIGNAL_CHAIN_ID = 0
/* RADIOMETRIC DATA ELEMENTS */
BANDWIDTH = 177.0
CENTER_FILTER_WAVELENGTH = 677.5
RADIANCE_OFFSET = 10.5256
RADIANCE_SCALING_FACTOR = 0.0100965
REFLECTANCE_SCALING_FACTOR = 0.000238421
MEX:REFLECTANCE_OFFSET = 0.248554
/* IMAGE OBJECT DEFINITIONS */
OBJECT = IMAGE
  INTERCHANGE_FORMAT = BINARY
  LINES = 22405
  LINE_SAMPLES = 8412
  SAMPLE_TYPE = UNSIGNED_INTEGER
  SAMPLE_BITS = 8
  BANDS = 1
  BAND_STORAGE_TYPE = BAND_SEQUENTIAL
  MAXIMUM = 254
  MEAN = 131.251
  MINIMUM = 1
  STANDARD_DEVIATION = 39.4093
END_OBJECT = IMAGE
/* MAP OBJECT DEFINITIONS */
OBJECT = IMAGE_MAP_PROJECTION
  ^DATA_SET_MAP_PROJECTION_CATALOG= "DSMAP.CAT"
  A_AXIS_RADIUS = 3396.0
  B_AXIS_RADIUS = 3396.0
  C_AXIS_RADIUS = 3396.0
  CENTER_LATITUDE = 0.0
  CENTER_LONGITUDE = 166.0
  COORDINATE_SYSTEM_NAME = PLANETOGRAPHIC
  COORDINATE_SYSTEM_TYPE = "BODY-FIXED ROTATING"
  EASTERNMOST_LONGITUDE = 167.987
  FIRST_STANDARD_PARALLEL = "N/A"
  LINE_FIRST_PIXEL = 1
  LINE_LAST_PIXEL = 22405
  LINE_PROJECTION_OFFSET = -87057.0
  MAP_PROJECTION_ROTATION = 0.0
  MAP_PROJECTION_TYPE = SINUSOIDAL
  MAP_RESOLUTION = 2370.85521546667
  MAP_SCALE = 0.025
  MAXIMUM_LATITUDE = -36.719
  MINIMUM_LATITUDE = -46.168
  POSITIVE_LONGITUDE_DIRECTION = EAST
  REFERENCE_LATITUDE = "N/A"
  REFERENCE_LONGITUDE = "N/A"
  SAMPLE_FIRST_PIXEL = 1
  SAMPLE_LAST_PIXEL = 8412
  SAMPLE_PROJECTION_OFFSET = 4634.0
  SECOND_STANDARD_PARALLEL = "N/A"
  WESTERNMOST_LONGITUDE = 163.561
END_OBJECT = IMAGE_MAP_PROJECTION
END
