PDS_VERSION_ID = PDS3
/* FILE DATA ELEMENTS */
RECORD_TYPE = UNDEFINED
/* POINTERS TO DATA OBJECTS */
^IMAGE = ("H4611_0007_SR4.TIF")
/* IDENTIFICATION DATA ELEMENTS */
DATA_SET_ID = "MEX-M-HRSC-4-REFDR-MAPPROJECT-EXT1-V4.0"
DATA_SET_NAME = "MARS EXPRESS HRSC MAP PROJECTED REFDR EXTENSION1 V4.0"
DETECTOR_ID = MEX_HRSC_SRC
EVENT_TYPE = "MARS-REGIONAL-MAPPING-Gl-Pf-Eo"
INSTRUMENT_HOST_ID = MEX
INSTRUMENT_HOST_NAME = "MARS EXPRESS"
INSTRUMENT_ID = HRSC
INSTRUMENT_NAME = "HIGH RESOLUTION STEREO CAMERA"
MISSION_NAME = "MARS EXPRESS"
MISSION_PHASE_NAME = ME_Phase_9
PROCESSING_LEVEL_ID = 4
PRODUCT_CREATION_TIME = 2023-02-11T00:15:54.000Z
PRODUCT_ID = "H4611_0007_SR4.TIF"
RELEASE_ID = 0007
REVISION_ID = 0000
/* QUALITY DATA ELEMENTS */
DATA_QUALITY_ID = 1
DATA_QUALITY_DESC = "Data calculated based on original SPICE kernels"
/* TIME DATA ELEMENTS */
SPACECRAFT_CLOCK_START_COUNT = "1/0134509040.08246"
SPACECRAFT_CLOCK_STOP_COUNT = "1/0134509307.55976"
IMAGE_TIME = 2007-08-06T19:38:27.194Z
START_TIME = 2007-08-06T19:38:27.191Z
STOP_TIME = 2007-08-06T19:38:27.196Z
/* ORBITAL DATA ELEMENTS */
ASCENDING_NODE_LONGITUDE = 131.92
MAXIMUM_RESOLUTION = 0.003025
FOOTPRINT_POINT_LATITUDE = (-79.3218,-79.3246,-79.3274,-79.3298, -79.3314,-79.3339,-79.336,-79.3381, -79.3405,-79.3421,-79.3442,-79.3465, -79.348,-79.3501,-79.3534,-79.356, -79.3581,-79.3596,-79.3613,-79.3629, -79.3663,-79.3698,-79.3718,-79.3719, -79.3719,-79.3711,-79.3706,-79.3701, -79.3693,-79.3688,-79.3683,-79.3678, -79.3673,-79.3668,-79.3663,-79.3658, -79.3652,-79.3647,-79.3642,-79.3637, -79.3632,-79.3627,-79.3622,-79.3617, -79.3611,-79.3606,-79.3601,-79.3596, -79.3591,-79.359,-79.3589,-79.3566, -79.355,-79.3523,-79.3505,-79.3484, -79.347,-79.3447,-79.342,-79.3396, -79.3374,-79.334,-79.3312,-79.3288, -79.3264,-79.3247,-79.3226,-79.3201, -79.3182,-79.3151,-79.3129,-79.3089, -79.3089,-79.3089,-79.3094,-79.3099, -79.3104,-79.3109,-79.3114,-79.312, -79.3125,-79.313,-79.3135,-79.314, -79.3145,-79.315,-79.3155,-79.316, -79.3168,-79.3173,-79.3178,-79.3183, -79.3188,-79.3193,-79.3198,-79.3203, -79.3208,-79.3216,-79.3217,-79.3218)
FOOTPRINT_POINT_LONGITUDE = (254.531,254.528,254.524,254.52,254.518 ,254.515,254.512,254.509,254.506, 254.504,254.501,254.498,254.496,254.493 ,254.488,254.485,254.482,254.48,254.477 ,254.475,254.471,254.466,254.463, 254.463,254.463,254.446,254.436,254.425 ,254.408,254.398,254.387,254.376, 254.365,254.354,254.343,254.332,254.322 ,254.311,254.3,254.289,254.278,254.267, 254.257,254.246,254.235,254.224,254.213 ,254.202,254.192,254.189,254.187,254.19 ,254.193,254.196,254.199,254.202, 254.204,254.207,254.211,254.214,254.217 ,254.222,254.226,254.229,254.233, 254.235,254.238,254.241,254.244,254.248 ,254.251,254.257,254.257,254.257, 254.268,254.279,254.289,254.3,254.311, 254.322,254.332,254.343,254.354,254.365 ,254.376,254.386,254.397,254.408, 254.424,254.435,254.446,254.457,254.467 ,254.478,254.489,254.5,254.511,254.527, 254.53,254.531)
ORBIT_NUMBER = 4611
ORBITAL_ECCENTRICITY = 0.57
ORBITAL_INCLINATION = 86.69
ORBITAL_SEMIMAJOR_AXIS = 8530.97
PERIAPSIS_ALTITUDE = 294.58
PERIAPSIS_ARGUMENT_ANGLE = 266.58
PERIAPSIS_TIME = 2007-08-06T19:35:00.000Z
SPACECRAFT_ORIENTATION = (0.0,-1.0,0.0)
^MEX_ORIENTATION_DESC = "MEX_ORIENTATION_DESC.TXT"
SPACECRAFT_POINTING_MODE = ACROSSTRACK
^MEX_POINTING_DESC = "MEX_POINTING_DESC.TXT"
RIGHT_ASCENSION = -1e+32
DECLINATION = -1e+32
OFFSET_ANGLE = -0.55
SPACECRAFT_SOLAR_DISTANCE = 2.10801e+08
TARGET_NAME = MARS
/* CAMERA DATA ELEMENTS */
BUFFER_MODE_ID = BUFFER_8
EXPOSURE_DURATION = 5.04
INST_CMPRS_NAME = NONE
INST_CMPRS_RATIO = 1.0
INST_CMPRS_QUALITY = -2147483648
INST_CMPRS_QUANTZ_TBL_ID = -2147483648
INSTRUMENT_TEMPERATURE = 7.68824
MISSING_FRAMES = 0
START_BIT = 0
/* RADIOMETRIC DATA ELEMENTS */
BANDWIDTH = 250.0
CENTER_FILTER_WAVELENGTH = 600.0
RADIANCE_OFFSET = -9.99e+31
RADIANCE_SCALING_FACTOR = -9.99e+31
REFLECTANCE_SCALING_FACTOR = -9.99e+31
MEX:REFLECTANCE_OFFSET = -9.99e+31
/* IMAGE OBJECT DEFINITIONS */
OBJECT = IMAGE
  INTERCHANGE_FORMAT = BINARY
  LINES = 1619
  LINE_SAMPLES = 1643
  SAMPLE_TYPE = UNSIGNED_INTEGER
  SAMPLE_BITS = 8
  BANDS = 1
  BAND_STORAGE_TYPE = BAND_SEQUENTIAL
  MAXIMUM = 246
  MEAN = 155.116
  MINIMUM = 28
  STANDARD_DEVIATION = 18.5364
END_OBJECT = IMAGE
/* MAP OBJECT DEFINITIONS */
OBJECT = IMAGE_MAP_PROJECTION
  ^DATA_SET_MAP_PROJECTION_CATALOG= "DSMAP.CAT"
  A_AXIS_RADIUS = 3396.19
  B_AXIS_RADIUS = 3396.19
  C_AXIS_RADIUS = 3396.19
  CENTER_LATITUDE = 0.0
  CENTER_LONGITUDE = 254.0
  COORDINATE_SYSTEM_NAME = PLANETOGRAPHIC
  COORDINATE_SYSTEM_TYPE = "BODY-FIXED ROTATING"
  EASTERNMOST_LONGITUDE = 254.531
  FIRST_STANDARD_PARALLEL = "N/A"
  LINE_FIRST_PIXEL = 1
  LINE_LAST_PIXEL = 1619
  LINE_PROJECTION_OFFSET = -1875767.0
  MAP_PROJECTION_ROTATION = 0.0
  MAP_PROJECTION_TYPE = SINUSOIDAL
  MAP_RESOLUTION = 23709.8786048756
  MAP_SCALE = 0.0025
  MAXIMUM_LATITUDE = -79.30889999999999
  MINIMUM_LATITUDE = -79.3719
  POSITIVE_LONGITUDE_DIRECTION = EAST
  REFERENCE_LATITUDE = "N/A"
  REFERENCE_LONGITUDE = "N/A"
  SAMPLE_FIRST_PIXEL = 1
  SAMPLE_LAST_PIXEL = 1643
  SAMPLE_PROJECTION_OFFSET = -1592.0
  SECOND_STANDARD_PARALLEL = "N/A"
  WESTERNMOST_LONGITUDE = 254.187
END_OBJECT = IMAGE_MAP_PROJECTION
END
