PDS_VERSION_ID = PDS3
/* FILE DATA ELEMENTS */
RECORD_TYPE = UNDEFINED
/* POINTERS TO DATA OBJECTS */
^IMAGE = ("H4611_0000_IR4.TIF")
/* IDENTIFICATION DATA ELEMENTS */
DATA_SET_ID = "MEX-M-HRSC-4-REFDR-MAPPROJECT-EXT1-V4.0"
DATA_SET_NAME = "MARS EXPRESS HRSC MAP PROJECTED REFDR EXTENSION1 V4.0"
DETECTOR_ID = MEX_HRSC_IR
EVENT_TYPE = "MARS-REGIONAL-MAPPING-Gl-Pf-Eo"
INSTRUMENT_HOST_ID = MEX
INSTRUMENT_HOST_NAME = "MARS EXPRESS"
INSTRUMENT_ID = HRSC
INSTRUMENT_NAME = "HIGH RESOLUTION STEREO CAMERA"
MISSION_NAME = "MARS EXPRESS"
MISSION_PHASE_NAME = ME_Phase_9
PROCESSING_LEVEL_ID = 4
PRODUCT_CREATION_TIME = 2023-02-11T00:15:54.000Z
PRODUCT_ID = "H4611_0000_IR4.TIF"
RELEASE_ID = 0007
REVISION_ID = 0000
/* QUALITY DATA ELEMENTS */
DATA_QUALITY_ID = 1
DATA_QUALITY_DESC = "Data calculated based on original SPICE kernels"
/* TIME DATA ELEMENTS */
SPACECRAFT_CLOCK_START_COUNT = "1/0134509040.08246"
SPACECRAFT_CLOCK_STOP_COUNT = "1/0134509307.55976"
START_TIME = 2007-08-06T19:37:28.889Z
STOP_TIME = 2007-08-06T19:40:37.558Z
/* ORBITAL DATA ELEMENTS */
ASCENDING_NODE_LONGITUDE = 131.92
MAXIMUM_RESOLUTION = 0.0518
FOOTPRINT_POINT_LATITUDE = (-81.4823,-81.5845,-81.6777,-81.7851, -81.7874,-81.726,-81.2812,-80.9449, -80.72,-80.3828,-80.157,-79.8175, -79.4782,-79.2493,-79.0147,-78.7805, -78.5454,-78.3108,-78.0762,-77.8412, -77.6062,-77.371,-77.1284,-76.8852, -76.6422,-76.2775,-75.9127,-75.548, -75.3048,-75.0616,-74.6971,-74.4537, -74.2105,-73.9674,-73.7242,-73.4812, -73.2383,-72.9953,-72.7525,-72.3308, -72.0411,-71.7516,-71.4623,-71.1745, -70.8862,-70.4534,-70.1637,-69.7292, -69.4408,-69.2968,-69.2947,-69.2654, -69.2329,-69.1725,-69.171,-69.1715, -69.6009,-69.8883,-70.3179,-70.6045, -70.8916,-71.3224,-71.7531,-72.0409, -72.3285,-72.6022,-72.8424,-73.0826, -73.3241,-73.6846,-73.9246,-74.2855, -74.526,-74.7664,-75.1275,-75.4874, -75.7271,-75.9669,-76.2067,-76.5668, -76.9251,-77.1641,-77.3951,-77.6261, -77.9718,-78.202,-78.4319,-78.6616, -78.8909,-79.1185,-79.4493,-79.7792, -79.9986,-80.2187,-80.5464,-80.7639, -80.9807,-81.3045,-81.4087,-81.4823)
FOOTPRINT_POINT_LONGITUDE = (246.722,248.681,250.719,253.511, 253.579,254.154,254.951,255.494,255.836 ,256.313,256.617,257.051,257.45,257.706 ,257.957,258.194,258.425,258.643, 258.852,259.054,259.247,259.434,259.619 ,259.797,259.968,260.213,260.445, 260.663,260.804,260.938,261.132,261.257 ,261.377,261.494,261.606,261.716, 261.821,261.924,262.023,262.189,262.298 ,262.403,262.505,262.599,262.693, 262.829,262.919,263.049,263.131,263.17, 263.171,261.917,260.863,259.329,259.293 ,259.281,259.121,259.009,258.834, 258.712,258.586,258.388,258.179,258.033 ,257.882,257.732,257.597,257.456, 257.311,257.085,256.928,256.682,256.511 ,256.334,256.056,255.763,255.56,255.348 ,255.128,254.782,254.417,254.16,253.903 ,253.634,253.212,252.915,252.606, 252.284,251.948,251.599,251.062,250.489 ,250.084,249.659,248.985,248.509, 248.009,247.211,246.94,246.722)
ORBIT_NUMBER = 4611
ORBITAL_ECCENTRICITY = 0.57
ORBITAL_INCLINATION = 86.69
ORBITAL_SEMIMAJOR_AXIS = 8530.97
PERIAPSIS_ALTITUDE = 294.58
PERIAPSIS_ARGUMENT_ANGLE = 266.58
PERIAPSIS_TIME = 2007-08-06T19:35:00.000Z
SPACECRAFT_ORIENTATION = (0.0,-1.0,0.0)
^MEX_ORIENTATION_DESC = "MEX_ORIENTATION_DESC.TXT"
SPACECRAFT_POINTING_MODE = ACROSSTRACK
^MEX_POINTING_DESC = "MEX_POINTING_DESC.TXT"
RIGHT_ASCENSION = -1e+32
DECLINATION = -1e+32
OFFSET_ANGLE = -0.55
SPACECRAFT_SOLAR_DISTANCE = 2.10801e+08
TARGET_NAME = MARS
/* CAMERA DATA ELEMENTS */
DETECTOR_TEMPERATURE = 17.351
FOCAL_PLANE_TEMPERATURE = 8.3794
INST_CMPRS_NAME = "DISCRETE COSINE TRANSFORMATION (DCT)"
INST_CMPRS_RATIO = 12.7131
INST_CMPRS_QUALITY = 0
INST_CMPRS_QUANTZ_TBL_ID = 0
INSTRUMENT_TEMPERATURE = 11.4379
LENS_TEMPERATURE = 9.8067
MACROPIXEL_SIZE = 4
MISSING_FRAMES = 0
PIXEL_SUBSAMPLING_FLAG = N
SIGNAL_CHAIN_ID = 2
/* RADIOMETRIC DATA ELEMENTS */
BANDWIDTH = 81.0
CENTER_FILTER_WAVELENGTH = 955.5
RADIANCE_OFFSET = 1.44662
RADIANCE_SCALING_FACTOR = 0.00464602
REFLECTANCE_SCALING_FACTOR = 0.000445405
MEX:REFLECTANCE_OFFSET = 0.138685
/* IMAGE OBJECT DEFINITIONS */
OBJECT = IMAGE
  INTERCHANGE_FORMAT = BINARY
  LINES = 14934
  LINE_SAMPLES = 4170
  SAMPLE_TYPE = UNSIGNED_INTEGER
  SAMPLE_BITS = 8
  BANDS = 1
  BAND_STORAGE_TYPE = BAND_SEQUENTIAL
  MAXIMUM = 255
  MEAN = 144.191
  MINIMUM = 1
  STANDARD_DEVIATION = 48.9118
END_OBJECT = IMAGE
/* MAP OBJECT DEFINITIONS */
OBJECT = IMAGE_MAP_PROJECTION
  ^DATA_SET_MAP_PROJECTION_CATALOG= "DSMAP.CAT"
  A_AXIS_RADIUS = 3396.0
  B_AXIS_RADIUS = 3396.0
  C_AXIS_RADIUS = 3396.0
  CENTER_LATITUDE = 0.0
  CENTER_LONGITUDE = 258.0
  COORDINATE_SYSTEM_NAME = PLANETOGRAPHIC
  COORDINATE_SYSTEM_TYPE = "BODY-FIXED ROTATING"
  EASTERNMOST_LONGITUDE = 263.171
  FIRST_STANDARD_PARALLEL = "N/A"
  LINE_FIRST_PIXEL = 1
  LINE_LAST_PIXEL = 14934
  LINE_PROJECTION_OFFSET = -81962.875
  MAP_PROJECTION_ROTATION = 0.0
  MAP_PROJECTION_TYPE = SINUSOIDAL
  MAP_RESOLUTION = 1185.42760773333
  MAP_SCALE = 0.05
  MAXIMUM_LATITUDE = -69.17100000000001
  MINIMUM_LATITUDE = -81.78740000000001
  POSITIVE_LONGITUDE_DIRECTION = EAST
  REFERENCE_LATITUDE = "N/A"
  REFERENCE_LONGITUDE = "N/A"
  SAMPLE_FIRST_PIXEL = 1
  SAMPLE_LAST_PIXEL = 4170
  SAMPLE_PROJECTION_OFFSET = 1971.125
  SECOND_STANDARD_PARALLEL = "N/A"
  WESTERNMOST_LONGITUDE = 246.722
END_OBJECT = IMAGE_MAP_PROJECTION
END
