PDS_VERSION_ID = PDS3
/* FILE DATA ELEMENTS */
RECORD_TYPE = UNDEFINED
/* POINTERS TO DATA OBJECTS */
^IMAGE = ("H4608_0000_S24.TIF")
/* IDENTIFICATION DATA ELEMENTS */
DATA_SET_ID = "MEX-M-HRSC-4-REFDR-MAPPROJECT-EXT1-V4.0"
DATA_SET_NAME = "MARS EXPRESS HRSC MAP PROJECTED REFDR EXTENSION1 V4.0"
DETECTOR_ID = MEX_HRSC_S2
EVENT_TYPE = "MARS-REGIONAL-MAPPING-Im-Fl-Pf"
INSTRUMENT_HOST_ID = MEX
INSTRUMENT_HOST_NAME = "MARS EXPRESS"
INSTRUMENT_ID = HRSC
INSTRUMENT_NAME = "HIGH RESOLUTION STEREO CAMERA"
MISSION_NAME = "MARS EXPRESS"
MISSION_PHASE_NAME = ME_Phase_9
PROCESSING_LEVEL_ID = 4
PRODUCT_CREATION_TIME = 2023-02-11T00:15:54.000Z
PRODUCT_ID = "H4608_0000_S24.TIF"
RELEASE_ID = 0007
REVISION_ID = 0000
/* QUALITY DATA ELEMENTS */
DATA_QUALITY_ID = 1
DATA_QUALITY_DESC = "Data calculated based on original SPICE kernels"
/* TIME DATA ELEMENTS */
SPACECRAFT_CLOCK_START_COUNT = "1/0134436526.09067"
SPACECRAFT_CLOCK_STOP_COUNT = "1/0134436819.21104"
START_TIME = 2007-08-05T23:29:53.015Z
STOP_TIME = 2007-08-05T23:33:41.377Z
/* ORBITAL DATA ELEMENTS */
ASCENDING_NODE_LONGITUDE = 131.98
MAXIMUM_RESOLUTION = 0.0304
FOOTPRINT_POINT_LATITUDE = (-76.4704,-76.5854,-76.6602,-76.7443, -76.7465,-76.8465,-76.5258,-76.0951, -75.6154,-75.2296,-74.8495,-74.5964, -74.3447,-74.0839,-73.8304,-73.579, -73.3265,-72.948,-72.4511,-72.0747, -71.6994,-71.4441,-71.1889,-70.8058, -70.4154,-70.1538,-69.8956,-69.6304, -69.3656,-69.1007,-68.8318,-68.5615, -68.2919,-68.0182,-67.7435,-67.4697, -67.1898,-66.7718,-66.4888,-66.205, -65.9242,-65.6317,-65.3441,-64.9054, -64.6131,-64.3154,-63.8686,-63.7182, -63.7171,-63.6772,-63.6549,-63.6268, -63.5962,-63.5493,-63.5473,-63.5471, -63.8465,-64.2877,-64.5812,-64.8711, -65.1703,-65.4566,-65.7413,-66.1597, -66.4415,-66.7196,-66.9962,-67.4087, -67.6783,-67.9568,-68.3663,-68.635, -68.9017,-69.2975,-69.6844,-69.9428, -70.2015,-70.5883,-70.8409,-71.0942, -71.347,-71.597,-72.0912,-72.3393, -72.5854,-72.8336,-73.0825,-73.4589, -73.7094,-73.9596,-74.2099,-74.4598, -74.8422,-75.0938,-75.3399,-75.7081, -76.0256,-76.4483,-76.5541,-76.4704)
FOOTPRINT_POINT_LONGITUDE = (187.123,189.006,190.375,192.107, 192.157,192.217,192.509,192.875,193.258 ,193.543,193.815,193.988,194.156, 194.313,194.469,194.619,194.765,194.973 ,195.24,195.426,195.604,195.721,195.835 ,195.999,196.159,196.262,196.364, 196.464,196.561,196.656,196.749,196.841 ,196.929,197.017,197.103,197.187, 197.269,197.39,197.468,197.545,197.623, 197.695,197.768,197.875,197.944,198.012 ,198.112,198.146,198.146,197.012, 196.428,195.767,195.067,194.177,194.138 ,194.124,194.051,193.942,193.865, 193.787,193.697,193.615,193.533,193.408 ,193.319,193.228,193.135,192.99,192.894 ,192.785,192.619,192.509,192.397, 192.223,192.054,191.931,191.805,191.608 ,191.475,191.338,191.197,191.051, 190.754,190.596,190.438,190.271,190.097 ,189.821,189.629,189.432,189.229, 189.018,188.672,188.438,188.209,187.836 ,187.498,187.02,186.895,187.123)
ORBIT_NUMBER = 4608
ORBITAL_ECCENTRICITY = 0.57
ORBITAL_INCLINATION = 86.69
ORBITAL_SEMIMAJOR_AXIS = 8530.75
PERIAPSIS_ALTITUDE = 294.55
PERIAPSIS_ARGUMENT_ANGLE = 267.1
PERIAPSIS_TIME = 2007-08-05T23:25:22.000Z
SPACECRAFT_ORIENTATION = (0.0,-1.0,0.0)
^MEX_ORIENTATION_DESC = "MEX_ORIENTATION_DESC.TXT"
SPACECRAFT_POINTING_MODE = NADIR
^MEX_POINTING_DESC = "MEX_POINTING_DESC.TXT"
RIGHT_ASCENSION = -1e+32
DECLINATION = -1e+32
OFFSET_ANGLE = -1e+32
SPACECRAFT_SOLAR_DISTANCE = 2.10697e+08
TARGET_NAME = MARS
/* CAMERA DATA ELEMENTS */
DETECTOR_TEMPERATURE = 18.3705
FOCAL_PLANE_TEMPERATURE = 8.3794
INST_CMPRS_NAME = "DISCRETE COSINE TRANSFORMATION (DCT)"
INST_CMPRS_RATIO = 12.9911
INST_CMPRS_QUALITY = 0
INST_CMPRS_QUANTZ_TBL_ID = 0
INSTRUMENT_TEMPERATURE = 11.234
LENS_TEMPERATURE = 8.7872
MACROPIXEL_SIZE = 2
MISSING_FRAMES = 0
PIXEL_SUBSAMPLING_FLAG = N
SIGNAL_CHAIN_ID = 1
/* RADIOMETRIC DATA ELEMENTS */
BANDWIDTH = 178.0
CENTER_FILTER_WAVELENGTH = 679.0
RADIANCE_OFFSET = 6.41698
RADIANCE_SCALING_FACTOR = 0.0182567
REFLECTANCE_SCALING_FACTOR = 0.000429209
MEX:REFLECTANCE_OFFSET = 0.150861
/* IMAGE OBJECT DEFINITIONS */
OBJECT = IMAGE
  INTERCHANGE_FORMAT = BINARY
  LINES = 31515
  LINE_SAMPLES = 7993
  SAMPLE_TYPE = UNSIGNED_INTEGER
  SAMPLE_BITS = 8
  BANDS = 1
  BAND_STORAGE_TYPE = BAND_SEQUENTIAL
  MAXIMUM = 254
  MEAN = 148.417
  MINIMUM = 1
  STANDARD_DEVIATION = 51.634
END_OBJECT = IMAGE
/* MAP OBJECT DEFINITIONS */
OBJECT = IMAGE_MAP_PROJECTION
  ^DATA_SET_MAP_PROJECTION_CATALOG= "DSMAP.CAT"
  A_AXIS_RADIUS = 3396.0
  B_AXIS_RADIUS = 3396.0
  C_AXIS_RADIUS = 3396.0
  CENTER_LATITUDE = 0.0
  CENTER_LONGITUDE = 194.0
  COORDINATE_SYSTEM_NAME = PLANETOGRAPHIC
  COORDINATE_SYSTEM_TYPE = "BODY-FIXED ROTATING"
  EASTERNMOST_LONGITUDE = 198.146
  FIRST_STANDARD_PARALLEL = "N/A"
  LINE_FIRST_PIXEL = 1
  LINE_LAST_PIXEL = 31515
  LINE_PROJECTION_OFFSET = -150739.75
  MAP_PROJECTION_ROTATION = 0.0
  MAP_PROJECTION_TYPE = SINUSOIDAL
  MAP_RESOLUTION = 2370.85521546667
  MAP_SCALE = 0.025
  MAXIMUM_LATITUDE = -63.5471
  MINIMUM_LATITUDE = -76.84650000000001
  POSITIVE_LONGITUDE_DIRECTION = EAST
  REFERENCE_LATITUDE = "N/A"
  REFERENCE_LONGITUDE = "N/A"
  SAMPLE_FIRST_PIXEL = 1
  SAMPLE_LAST_PIXEL = 7993
  SAMPLE_PROJECTION_OFFSET = 3868.25
  SECOND_STANDARD_PARALLEL = "N/A"
  WESTERNMOST_LONGITUDE = 186.895
END_OBJECT = IMAGE_MAP_PROJECTION
END
