PDS_VERSION_ID = PDS3
/* FILE DATA ELEMENTS */
RECORD_TYPE = UNDEFINED
/* POINTERS TO DATA OBJECTS */
^IMAGE = ("H4608_0000_RE4.TIF")
/* IDENTIFICATION DATA ELEMENTS */
DATA_SET_ID = "MEX-M-HRSC-4-REFDR-MAPPROJECT-EXT1-V4.0"
DATA_SET_NAME = "MARS EXPRESS HRSC MAP PROJECTED REFDR EXTENSION1 V4.0"
DETECTOR_ID = MEX_HRSC_RED
EVENT_TYPE = "MARS-REGIONAL-MAPPING-Im-Fl-Pf"
INSTRUMENT_HOST_ID = MEX
INSTRUMENT_HOST_NAME = "MARS EXPRESS"
INSTRUMENT_ID = HRSC
INSTRUMENT_NAME = "HIGH RESOLUTION STEREO CAMERA"
MISSION_NAME = "MARS EXPRESS"
MISSION_PHASE_NAME = ME_Phase_9
PROCESSING_LEVEL_ID = 4
PRODUCT_CREATION_TIME = 2023-02-11T00:15:54.000Z
PRODUCT_ID = "H4608_0000_RE4.TIF"
RELEASE_ID = 0007
REVISION_ID = 0000
/* QUALITY DATA ELEMENTS */
DATA_QUALITY_ID = 1
DATA_QUALITY_DESC = "Data calculated based on original SPICE kernels"
/* TIME DATA ELEMENTS */
SPACECRAFT_CLOCK_START_COUNT = "1/0134436526.09067"
SPACECRAFT_CLOCK_STOP_COUNT = "1/0134436819.21104"
START_TIME = 2007-08-05T23:29:47.086Z
STOP_TIME = 2007-08-05T23:33:31.802Z
/* ORBITAL DATA ELEMENTS */
ASCENDING_NODE_LONGITUDE = 131.98
MAXIMUM_RESOLUTION = 0.0591
FOOTPRINT_POINT_LATITUDE = (-76.494,-76.5716,-76.6686,-76.7659, -76.768,-76.8508,-76.4197,-75.7736, -75.2925,-75.0351,-74.7807,-74.5251, -74.1372,-73.8813,-73.6272,-73.3723, -73.1177,-72.8642,-72.4876,-72.2336, -71.9809,-71.7283,-71.224,-70.9656, -70.708,-70.4505,-70.1894,-69.9279, -69.6644,-69.403,-69.1349,-68.8673, -68.6,-68.3272,-68.0544,-67.7827, -67.5055,-67.2275,-66.8094,-66.5268, -66.1005,-65.8149,-65.529,-65.2375, -64.8004,-64.5039,-64.2081,-63.9087, -63.7588,-63.73,-63.71,-63.6744, -63.6474,-63.6052,-63.5642,-63.5622, -63.5627,-64.0095,-64.3029,-64.598, -64.8885,-65.1839,-65.4716,-65.7555, -66.0354,-66.3155,-66.5952,-66.874, -67.149,-67.5609,-67.831,-68.1076, -68.5148,-68.7799,-69.0454,-69.3114, -69.5639,-69.8255,-70.0873,-70.3426, -70.598,-70.8534,-71.1072,-71.6064, -72.106,-72.6056,-72.8567,-73.108, -73.4875,-73.7401,-74.1189,-74.3711, -74.6242,-74.8815,-75.2598,-75.6903, -76.01,-76.4358,-76.5422,-76.494)
FOOTPRINT_POINT_LONGITUDE = (187.119,188.356,190.072,192.047, 192.095,192.162,192.552,193.089,193.448 ,193.634,193.814,193.987,194.232, 194.389,194.543,194.69,194.833,194.971, 195.172,195.299,195.423,195.542,195.771 ,195.882,195.991,196.096,196.199, 196.302,196.401,196.498,196.594,196.687 ,196.777,196.867,196.954,197.04,197.124 ,197.206,197.327,197.405,197.519, 197.595,197.668,197.74,197.845,197.914, 197.982,198.048,198.081,198.087,197.499 ,196.543,195.92,194.967,194.201,194.165 ,194.152,194.043,193.969,193.891, 193.812,193.724,193.641,193.558,193.477 ,193.389,193.299,193.205,193.111, 192.965,192.865,192.752,192.586,192.476 ,192.363,192.244,192.138,192.015, 191.888,191.761,191.63,191.495,191.357, 191.072,190.771,190.451,190.281,190.105 ,189.825,189.631,189.329,189.119,188.9, 188.662,188.309,187.88,187.54,187.06, 186.934,187.119)
ORBIT_NUMBER = 4608
ORBITAL_ECCENTRICITY = 0.57
ORBITAL_INCLINATION = 86.69
ORBITAL_SEMIMAJOR_AXIS = 8530.75
PERIAPSIS_ALTITUDE = 294.55
PERIAPSIS_ARGUMENT_ANGLE = 267.1
PERIAPSIS_TIME = 2007-08-05T23:25:22.000Z
SPACECRAFT_ORIENTATION = (0.0,-1.0,0.0)
^MEX_ORIENTATION_DESC = "MEX_ORIENTATION_DESC.TXT"
SPACECRAFT_POINTING_MODE = NADIR
^MEX_POINTING_DESC = "MEX_POINTING_DESC.TXT"
RIGHT_ASCENSION = -1e+32
DECLINATION = -1e+32
OFFSET_ANGLE = -1e+32
SPACECRAFT_SOLAR_DISTANCE = 2.10697e+08
TARGET_NAME = MARS
/* CAMERA DATA ELEMENTS */
DETECTOR_TEMPERATURE = 18.3705
FOCAL_PLANE_TEMPERATURE = 8.3794
INST_CMPRS_NAME = "DISCRETE COSINE TRANSFORMATION (DCT)"
INST_CMPRS_RATIO = 29.2145
INST_CMPRS_QUALITY = 0
INST_CMPRS_QUANTZ_TBL_ID = 0
INSTRUMENT_TEMPERATURE = 11.234
LENS_TEMPERATURE = 8.7872
MACROPIXEL_SIZE = 4
MISSING_FRAMES = 0
PIXEL_SUBSAMPLING_FLAG = N
SIGNAL_CHAIN_ID = 2
/* RADIOMETRIC DATA ELEMENTS */
BANDWIDTH = 48.0
CENTER_FILTER_WAVELENGTH = 748.0
RADIANCE_OFFSET = 1.66964
RADIANCE_SCALING_FACTOR = 0.00483955
REFLECTANCE_SCALING_FACTOR = 0.000490283
MEX:REFLECTANCE_OFFSET = 0.169148
/* IMAGE OBJECT DEFINITIONS */
OBJECT = IMAGE
  INTERCHANGE_FORMAT = BINARY
  LINES = 15758
  LINE_SAMPLES = 3997
  SAMPLE_TYPE = UNSIGNED_INTEGER
  SAMPLE_BITS = 8
  BANDS = 1
  BAND_STORAGE_TYPE = BAND_SEQUENTIAL
  MAXIMUM = 255
  MEAN = 151.027
  MINIMUM = 1
  STANDARD_DEVIATION = 53.014
END_OBJECT = IMAGE
/* MAP OBJECT DEFINITIONS */
OBJECT = IMAGE_MAP_PROJECTION
  ^DATA_SET_MAP_PROJECTION_CATALOG= "DSMAP.CAT"
  A_AXIS_RADIUS = 3396.0
  B_AXIS_RADIUS = 3396.0
  C_AXIS_RADIUS = 3396.0
  CENTER_LATITUDE = 0.0
  CENTER_LONGITUDE = 194.0
  COORDINATE_SYSTEM_NAME = PLANETOGRAPHIC
  COORDINATE_SYSTEM_TYPE = "BODY-FIXED ROTATING"
  EASTERNMOST_LONGITUDE = 198.087
  FIRST_STANDARD_PARALLEL = "N/A"
  LINE_FIRST_PIXEL = 1
  LINE_LAST_PIXEL = 15758
  LINE_PROJECTION_OFFSET = -75370.125
  MAP_PROJECTION_ROTATION = 0.0
  MAP_PROJECTION_TYPE = SINUSOIDAL
  MAP_RESOLUTION = 1185.42760773333
  MAP_SCALE = 0.05
  MAXIMUM_LATITUDE = -63.5622
  MINIMUM_LATITUDE = -76.85080000000001
  POSITIVE_LONGITUDE_DIRECTION = EAST
  REFERENCE_LATITUDE = "N/A"
  REFERENCE_LONGITUDE = "N/A"
  SAMPLE_FIRST_PIXEL = 1
  SAMPLE_LAST_PIXEL = 3997
  SAMPLE_PROJECTION_OFFSET = 1933.875
  SECOND_STANDARD_PARALLEL = "N/A"
  WESTERNMOST_LONGITUDE = 186.934
END_OBJECT = IMAGE_MAP_PROJECTION
END
