PDS_VERSION_ID = PDS3
/* FILE DATA ELEMENTS */
RECORD_TYPE = UNDEFINED
/* POINTERS TO DATA OBJECTS */
^IMAGE = ("H4608_0000_IR4.TIF")
/* IDENTIFICATION DATA ELEMENTS */
DATA_SET_ID = "MEX-M-HRSC-4-REFDR-MAPPROJECT-EXT1-V4.0"
DATA_SET_NAME = "MARS EXPRESS HRSC MAP PROJECTED REFDR EXTENSION1 V4.0"
DETECTOR_ID = MEX_HRSC_IR
EVENT_TYPE = "MARS-REGIONAL-MAPPING-Im-Fl-Pf"
INSTRUMENT_HOST_ID = MEX
INSTRUMENT_HOST_NAME = "MARS EXPRESS"
INSTRUMENT_ID = HRSC
INSTRUMENT_NAME = "HIGH RESOLUTION STEREO CAMERA"
MISSION_NAME = "MARS EXPRESS"
MISSION_PHASE_NAME = ME_Phase_9
PROCESSING_LEVEL_ID = 4
PRODUCT_CREATION_TIME = 2023-02-11T00:15:54.000Z
PRODUCT_ID = "H4608_0000_IR4.TIF"
RELEASE_ID = 0007
REVISION_ID = 0000
/* QUALITY DATA ELEMENTS */
DATA_QUALITY_ID = 1
DATA_QUALITY_DESC = "Data calculated based on original SPICE kernels"
/* TIME DATA ELEMENTS */
SPACECRAFT_CLOCK_START_COUNT = "1/0134436526.09067"
SPACECRAFT_CLOCK_STOP_COUNT = "1/0134436819.21104"
START_TIME = 2007-08-05T23:28:55.050Z
STOP_TIME = 2007-08-05T23:32:15.857Z
/* ORBITAL DATA ELEMENTS */
ASCENDING_NODE_LONGITUDE = 131.98
MAXIMUM_RESOLUTION = 0.0552
FOOTPRINT_POINT_LATITUDE = (-76.6962,-76.8573,-76.9615,-76.9636, -76.8963,-76.4381,-76.0899,-75.7378, -75.3915,-75.1597,-74.9254,-74.6895, -74.3388,-73.9937,-73.6431,-73.4099, -73.177,-72.8247,-72.5895,-72.1234, -71.8539,-71.5759,-71.1595,-70.8815, -70.6038,-70.3269,-69.9105,-69.6313, -69.2177,-68.9408,-68.6641,-68.3879, -68.1113,-67.835,-67.4213,-67.1411, -66.8581,-66.5751,-66.2917,-66.0031, -65.7131,-65.4235,-65.1291,-64.6857, -64.3901,-63.9363,-63.7851,-63.7603, -63.7058,-63.678,-63.6377,-63.6018, -63.5999,-63.6004,-63.9015,-64.2031, -64.4982,-64.7935,-65.2257,-65.5133, -65.802,-66.2371,-66.5187,-66.9409, -67.3589,-67.6346,-67.9087,-68.1763, -68.448,-68.7225,-68.9977,-69.2726, -69.5543,-69.8281,-70.1025,-70.3775, -70.7904,-71.0656,-71.3414,-71.6167, -71.8872,-72.1197,-72.3507,-72.5831, -72.9305,-73.1615,-73.6216,-73.8516, -74.0822,-74.3128,-74.6583,-75.0005, -75.233,-75.4635,-75.692,-75.9207, -76.1494,-76.4881,-76.5986,-76.6962)
FOOTPRINT_POINT_LONGITUDE = (187.039,189.643,191.68,191.725,191.921 ,192.337,192.631,192.918,193.177, 193.344,193.512,193.677,193.91,194.119, 194.331,194.465,194.595,194.789,194.914 ,195.147,195.275,195.403,195.588, 195.707,195.822,195.932,196.093,196.199 ,196.345,196.441,196.534,196.624, 196.712,196.798,196.921,197.002,197.082 ,197.159,197.235,197.309,197.383, 197.455,197.526,197.628,197.694,197.793 ,197.825,197.83,196.407,195.793,195.053 ,194.412,194.379,194.368,194.293, 194.216,194.137,194.057,193.928,193.843 ,193.756,193.623,193.531,193.388,193.24 ,193.14,193.035,192.924,192.812,192.697 ,192.579,192.458,192.335,192.205, 192.071,191.932,191.716,191.566,191.411 ,191.25,191.087,190.944,190.796,190.644 ,190.408,190.244,189.9,189.719,189.534, 189.342,189.042,188.727,188.509,188.283 ,188.049,187.807,187.556,187.167, 187.036,187.039)
ORBIT_NUMBER = 4608
ORBITAL_ECCENTRICITY = 0.57
ORBITAL_INCLINATION = 86.69
ORBITAL_SEMIMAJOR_AXIS = 8530.75
PERIAPSIS_ALTITUDE = 294.55
PERIAPSIS_ARGUMENT_ANGLE = 267.1
PERIAPSIS_TIME = 2007-08-05T23:25:22.000Z
SPACECRAFT_ORIENTATION = (0.0,-1.0,0.0)
^MEX_ORIENTATION_DESC = "MEX_ORIENTATION_DESC.TXT"
SPACECRAFT_POINTING_MODE = NADIR
^MEX_POINTING_DESC = "MEX_POINTING_DESC.TXT"
RIGHT_ASCENSION = -1e+32
DECLINATION = -1e+32
OFFSET_ANGLE = -1e+32
SPACECRAFT_SOLAR_DISTANCE = 2.10697e+08
TARGET_NAME = MARS
/* CAMERA DATA ELEMENTS */
DETECTOR_TEMPERATURE = 17.1471
FOCAL_PLANE_TEMPERATURE = 8.3794
INST_CMPRS_NAME = "DISCRETE COSINE TRANSFORMATION (DCT)"
INST_CMPRS_RATIO = 21.5407
INST_CMPRS_QUALITY = 0
INST_CMPRS_QUANTZ_TBL_ID = 0
INSTRUMENT_TEMPERATURE = 11.234
LENS_TEMPERATURE = 8.7872
MACROPIXEL_SIZE = 4
MISSING_FRAMES = 0
PIXEL_SUBSAMPLING_FLAG = N
SIGNAL_CHAIN_ID = 2
/* RADIOMETRIC DATA ELEMENTS */
BANDWIDTH = 81.0
CENTER_FILTER_WAVELENGTH = 955.5
RADIANCE_OFFSET = 1.52529
RADIANCE_SCALING_FACTOR = 0.00472957
REFLECTANCE_SCALING_FACTOR = 0.000452968
MEX:REFLECTANCE_OFFSET = 0.146082
/* IMAGE OBJECT DEFINITIONS */
OBJECT = IMAGE
  INTERCHANGE_FORMAT = BINARY
  LINES = 15758
  LINE_SAMPLES = 3997
  SAMPLE_TYPE = UNSIGNED_INTEGER
  SAMPLE_BITS = 8
  BANDS = 1
  BAND_STORAGE_TYPE = BAND_SEQUENTIAL
  MAXIMUM = 255
  MEAN = 148.29
  MINIMUM = 1
  STANDARD_DEVIATION = 53.4496
END_OBJECT = IMAGE
/* MAP OBJECT DEFINITIONS */
OBJECT = IMAGE_MAP_PROJECTION
  ^DATA_SET_MAP_PROJECTION_CATALOG= "DSMAP.CAT"
  A_AXIS_RADIUS = 3396.0
  B_AXIS_RADIUS = 3396.0
  C_AXIS_RADIUS = 3396.0
  CENTER_LATITUDE = 0.0
  CENTER_LONGITUDE = 194.0
  COORDINATE_SYSTEM_NAME = PLANETOGRAPHIC
  COORDINATE_SYSTEM_TYPE = "BODY-FIXED ROTATING"
  EASTERNMOST_LONGITUDE = 197.83
  FIRST_STANDARD_PARALLEL = "N/A"
  LINE_FIRST_PIXEL = 1
  LINE_LAST_PIXEL = 15758
  LINE_PROJECTION_OFFSET = -75370.125
  MAP_PROJECTION_ROTATION = 0.0
  MAP_PROJECTION_TYPE = SINUSOIDAL
  MAP_RESOLUTION = 1185.42760773333
  MAP_SCALE = 0.05
  MAXIMUM_LATITUDE = -63.5999
  MINIMUM_LATITUDE = -76.9636
  POSITIVE_LONGITUDE_DIRECTION = EAST
  REFERENCE_LATITUDE = "N/A"
  REFERENCE_LONGITUDE = "N/A"
  SAMPLE_FIRST_PIXEL = 1
  SAMPLE_LAST_PIXEL = 3997
  SAMPLE_PROJECTION_OFFSET = 1933.875
  SECOND_STANDARD_PARALLEL = "N/A"
  WESTERNMOST_LONGITUDE = 187.036
END_OBJECT = IMAGE_MAP_PROJECTION
END
