PDS_VERSION_ID = PDS3
/* FILE DATA ELEMENTS */
RECORD_TYPE = UNDEFINED
/* POINTERS TO DATA OBJECTS */
^IMAGE = ("H4606_0000_S14.TIF")
/* IDENTIFICATION DATA ELEMENTS */
DATA_SET_ID = "MEX-M-HRSC-4-REFDR-MAPPROJECT-EXT1-V4.0"
DATA_SET_NAME = "MARS EXPRESS HRSC MAP PROJECTED REFDR EXTENSION1 V4.0"
DETECTOR_ID = MEX_HRSC_S1
EVENT_TYPE = "MARS-REGIONAL-MAPPING-Im-Gl-Eo"
INSTRUMENT_HOST_ID = MEX
INSTRUMENT_HOST_NAME = "MARS EXPRESS"
INSTRUMENT_ID = HRSC
INSTRUMENT_NAME = "HIGH RESOLUTION STEREO CAMERA"
MISSION_NAME = "MARS EXPRESS"
MISSION_PHASE_NAME = ME_Phase_9
PROCESSING_LEVEL_ID = 4
PRODUCT_CREATION_TIME = 2023-02-11T00:15:54.000Z
PRODUCT_ID = "H4606_0000_S14.TIF"
RELEASE_ID = 0007
REVISION_ID = 0000
/* QUALITY DATA ELEMENTS */
DATA_QUALITY_ID = 1
DATA_QUALITY_DESC = "Data calculated based on original SPICE kernels"
/* TIME DATA ELEMENTS */
SPACECRAFT_CLOCK_START_COUNT = "1/0134388077.07294"
SPACECRAFT_CLOCK_STOP_COUNT = "1/0134388339.46122"
START_TIME = 2007-08-05T10:01:21.138Z
STOP_TIME = 2007-08-05T10:04:23.773Z
/* ORBITAL DATA ELEMENTS */
ASCENDING_NODE_LONGITUDE = 132.02
MAXIMUM_RESOLUTION = 0.0262
FOOTPRINT_POINT_LATITUDE = (-80.3632,-80.5171,-80.6096,-80.716, -80.7189,-80.6395,-80.1124,-79.7868, -79.4579,-79.2385,-79.0193,-78.7994, -78.5788,-78.3591,-78.1386,-77.9178, -77.6917,-77.4622,-77.2328,-76.8886, -76.6592,-76.4291,-76.1996,-75.9704, -75.7346,-75.4974,-75.2587,-75.0202, -74.7815,-74.5434,-74.3052,-74.0667, -73.8283,-73.5898,-73.2322,-72.9941, -72.6379,-72.281,-72.0431,-71.8038, -71.5651,-71.3269,-71.0433,-70.7589, -70.4749,-70.1935,-69.9094,-69.6284, -69.3435,-69.0593,-68.7746,-68.632, -68.6038,-68.5715,-68.5184,-68.4757, -68.4185,-68.4162,-68.4159,-68.6969, -68.9751,-69.2564,-69.5383,-69.9614, -70.3845,-70.8076,-71.09,-71.3295, -71.6829,-71.919,-72.2729,-72.5087, -72.7446,-72.9808,-73.2167,-73.4521, -73.6877,-73.9233,-74.1586,-74.5131, -74.7487,-74.9831,-75.3338,-75.568, -75.798,-76.1372,-76.5799,-76.8073, -77.1463,-77.5874,-77.8144,-78.0318, -78.3532,-78.5675,-78.7826,-79.208, -79.7376,-80.1466,-80.248,-80.3632)
FOOTPRINT_POINT_LONGITUDE = (17.2515,19.5344,21.077,23.0638,23.123, 23.4782,24.4258,24.958,25.4602,25.7768, 26.0788,26.3702,26.6513,26.9181,27.1765 ,27.4256,27.6721,27.9125,28.1433, 28.4735,28.6832,28.8871,29.0821,29.2697 ,29.4562,29.6375,29.8156,29.9871, 30.1535,30.3131,30.4676,30.6179,30.7634 ,30.9043,31.1077,31.2377,31.4242, 31.6038,31.7193,31.8337,31.9441,32.0507 ,32.1746,32.2946,32.4103,32.5191, 32.6283,32.7303,32.8342,32.9343,33.0322 ,33.0804,33.0898,32.3044,31.1662, 30.3877,29.4714,29.4362,29.4234,29.3059 ,29.1837,29.0587,28.9298,28.7284, 28.5169,28.2946,28.1401,28.0046,27.7963 ,27.6525,27.4286,27.2737,27.1141, 26.9496,26.78,26.6048,26.4242,26.2378, 26.0452,25.7448,25.5359,25.3197,24.9814 ,24.7461,24.5071,24.1379,23.6142, 23.3386,22.9057,22.2938,21.9785,21.6516 ,21.1379,20.7786,20.4047,19.6115, 18.5266,17.6024,17.3592,17.2515)
ORBIT_NUMBER = 4606
ORBITAL_ECCENTRICITY = 0.57
ORBITAL_INCLINATION = 86.68
ORBITAL_SEMIMAJOR_AXIS = 8530.5
PERIAPSIS_ALTITUDE = 294.81
PERIAPSIS_ARGUMENT_ANGLE = 267.44
PERIAPSIS_TIME = 2007-08-05T09:58:55.000Z
SPACECRAFT_ORIENTATION = (0.0,-1.0,0.0)
^MEX_ORIENTATION_DESC = "MEX_ORIENTATION_DESC.TXT"
SPACECRAFT_POINTING_MODE = NADIR
^MEX_POINTING_DESC = "MEX_POINTING_DESC.TXT"
RIGHT_ASCENSION = -1e+32
DECLINATION = -1e+32
OFFSET_ANGLE = -1e+32
SPACECRAFT_SOLAR_DISTANCE = 2.10628e+08
TARGET_NAME = MARS
/* CAMERA DATA ELEMENTS */
DETECTOR_TEMPERATURE = 17.351
FOCAL_PLANE_TEMPERATURE = 8.1755
INST_CMPRS_NAME = "DISCRETE COSINE TRANSFORMATION (DCT)"
INST_CMPRS_RATIO = 11.0091
INST_CMPRS_QUALITY = 0
INST_CMPRS_QUANTZ_TBL_ID = 0
INSTRUMENT_TEMPERATURE = 11.234
LENS_TEMPERATURE = 8.5833
MACROPIXEL_SIZE = 2
MISSING_FRAMES = 0
PIXEL_SUBSAMPLING_FLAG = N
SIGNAL_CHAIN_ID = 1
/* RADIOMETRIC DATA ELEMENTS */
BANDWIDTH = 180.0
CENTER_FILTER_WAVELENGTH = 677.0
RADIANCE_OFFSET = 6.88006
RADIANCE_SCALING_FACTOR = 0.0184799
REFLECTANCE_SCALING_FACTOR = 0.000427733
MEX:REFLECTANCE_OFFSET = 0.159245
/* IMAGE OBJECT DEFINITIONS */
OBJECT = IMAGE
  INTERCHANGE_FORMAT = BINARY
  LINES = 28992
  LINE_SAMPLES = 8798
  SAMPLE_TYPE = UNSIGNED_INTEGER
  SAMPLE_BITS = 8
  BANDS = 1
  BAND_STORAGE_TYPE = BAND_SEQUENTIAL
  MAXIMUM = 255
  MEAN = 120.463
  MINIMUM = 1
  STANDARD_DEVIATION = 53.2989
END_OBJECT = IMAGE
/* MAP OBJECT DEFINITIONS */
OBJECT = IMAGE_MAP_PROJECTION
  ^DATA_SET_MAP_PROJECTION_CATALOG= "DSMAP.CAT"
  A_AXIS_RADIUS = 3396.0
  B_AXIS_RADIUS = 3396.0
  C_AXIS_RADIUS = 3396.0
  CENTER_LATITUDE = 0.0
  CENTER_LONGITUDE = 28.0
  COORDINATE_SYSTEM_NAME = PLANETOGRAPHIC
  COORDINATE_SYSTEM_TYPE = "BODY-FIXED ROTATING"
  EASTERNMOST_LONGITUDE = 33.0898
  FIRST_STANDARD_PARALLEL = "N/A"
  LINE_FIRST_PIXEL = 1
  LINE_LAST_PIXEL = 28992
  LINE_PROJECTION_OFFSET = -162122.25
  MAP_PROJECTION_ROTATION = 0.0
  MAP_PROJECTION_TYPE = SINUSOIDAL
  MAP_RESOLUTION = 2370.85521546667
  MAP_SCALE = 0.025
  MAXIMUM_LATITUDE = -68.41589999999999
  MINIMUM_LATITUDE = -80.7189
  POSITIVE_LONGITUDE_DIRECTION = EAST
  REFERENCE_LATITUDE = "N/A"
  REFERENCE_LONGITUDE = "N/A"
  SAMPLE_FIRST_PIXEL = 1
  SAMPLE_LAST_PIXEL = 8798
  SAMPLE_PROJECTION_OFFSET = 4303.75
  SECOND_STANDARD_PARALLEL = "N/A"
  WESTERNMOST_LONGITUDE = 17.2515
END_OBJECT = IMAGE_MAP_PROJECTION
END
