PDS_VERSION_ID = PDS3
/* FILE DATA ELEMENTS */
RECORD_TYPE = UNDEFINED
/* POINTERS TO DATA OBJECTS */
^IMAGE = ("H4604_0000_BL4.TIF")
/* IDENTIFICATION DATA ELEMENTS */
DATA_SET_ID = "MEX-M-HRSC-4-REFDR-MAPPROJECT-EXT1-V4.0"
DATA_SET_NAME = "MARS EXPRESS HRSC MAP PROJECTED REFDR EXTENSION1 V4.0"
DETECTOR_ID = MEX_HRSC_BLUE
EVENT_TYPE = "MARS-REGIONAL-MAPPING-Gl-Eo-La"
INSTRUMENT_HOST_ID = MEX
INSTRUMENT_HOST_NAME = "MARS EXPRESS"
INSTRUMENT_ID = HRSC
INSTRUMENT_NAME = "HIGH RESOLUTION STEREO CAMERA"
MISSION_NAME = "MARS EXPRESS"
MISSION_PHASE_NAME = ME_Phase_9
PROCESSING_LEVEL_ID = 4
PRODUCT_CREATION_TIME = 2023-02-11T00:15:54.000Z
PRODUCT_ID = "H4604_0000_BL4.TIF"
RELEASE_ID = 0007
REVISION_ID = 0000
/* QUALITY DATA ELEMENTS */
DATA_QUALITY_ID = 1
DATA_QUALITY_DESC = "Data calculated based on original SPICE kernels"
/* TIME DATA ELEMENTS */
SPACECRAFT_CLOCK_START_COUNT = "1/0134339648.08577"
SPACECRAFT_CLOCK_STOP_COUNT = "1/0134339796.22689"
START_TIME = 2007-08-04T20:34:43.548Z
STOP_TIME = 2007-08-04T20:36:12.031Z
/* ORBITAL DATA ELEMENTS */
ASCENDING_NODE_LONGITUDE = 132.06
MAXIMUM_RESOLUTION = 0.0244
FOOTPRINT_POINT_LATITUDE = (-82.6379,-82.7693,-82.8392,-82.9112, -82.9804,-83.0948,-83.0987,-83.1267, -83.0244,-82.819,-82.6128,-82.4056, -82.1978,-81.9892,-81.78,-81.5702, -81.4631,-81.3542,-81.2451,-81.1359, -81.0265,-80.9171,-80.8075,-80.6979, -80.5882,-80.4235,-80.2589,-80.1488, -80.0387,-79.9285,-79.7631,-79.6527, -79.5423,-79.4319,-79.3176,-79.2033, -79.0889,-78.9171,-78.7453,-78.6308, -78.5162,-78.4017,-78.2872,-78.1726, -78.058,-77.9435,-77.8288,-77.7141, -77.6567,-77.6178,-77.5819,-77.5379, -77.5023,-77.4418,-77.393,-77.3286, -77.3253,-77.3245,-77.4379,-77.5501, -77.6623,-77.8306,-77.9427,-78.0548, -78.223,-78.3349,-78.4466,-78.558, -78.6694,-78.7809,-78.8923,-79.0035, -79.1141,-79.2214,-79.3286,-79.4357, -79.5427,-79.6498,-79.7565,-79.9163, -80.0758,-80.1819,-80.2879,-80.3937, -80.4994,-80.6048,-80.7101,-80.8151, -80.92,-81.0246,-81.1285,-81.3294, -81.5293,-81.7281,-81.9258,-82.1222, -82.3172,-82.559,-82.607,-82.6379)
FOOTPRINT_POINT_LONGITUDE = (206.207,208.013,209.044,210.166,211.31 ,213.367,213.441,213.619,213.99,214.698 ,215.367,215.999,216.596,217.162, 217.699,218.208,218.458,218.705,218.946 ,219.181,219.41,219.633,219.851,220.064 ,220.272,220.574,220.867,221.056, 221.241,221.421,221.684,221.854,222.021 ,222.184,222.349,222.511,222.669, 222.899,223.122,223.267,223.409,223.549 ,223.685,223.819,223.95,224.079,224.205 ,224.328,224.388,224.43,223.662,222.794 ,222.135,221.077,220.278,219.288, 219.239,219.221,219.066,218.91,218.751, 218.505,218.338,218.165,217.896,217.714 ,217.531,217.35,217.161,216.966,216.767 ,216.564,216.356,216.15,215.943,215.729 ,215.509,215.281,215.052,214.701, 214.338,214.089,213.834,213.572,213.305 ,213.032,212.751,212.465,212.171,211.87 ,211.563,210.946,210.298,209.618, 208.904,208.153,207.362,206.314,206.096 ,206.207)
ORBIT_NUMBER = 4604
ORBITAL_ECCENTRICITY = 0.57
ORBITAL_INCLINATION = 86.7
ORBITAL_SEMIMAJOR_AXIS = 8530.07
PERIAPSIS_ALTITUDE = 293.94
PERIAPSIS_ARGUMENT_ANGLE = 267.79
PERIAPSIS_TIME = 2007-08-04T20:32:31.000Z
SPACECRAFT_ORIENTATION = (0.0,-1.0,0.0)
^MEX_ORIENTATION_DESC = "MEX_ORIENTATION_DESC.TXT"
SPACECRAFT_POINTING_MODE = NADIR
^MEX_POINTING_DESC = "MEX_POINTING_DESC.TXT"
RIGHT_ASCENSION = -1e+32
DECLINATION = -1e+32
OFFSET_ANGLE = -1e+32
SPACECRAFT_SOLAR_DISTANCE = 2.1056e+08
TARGET_NAME = MARS
/* CAMERA DATA ELEMENTS */
DETECTOR_TEMPERATURE = 18.1666
FOCAL_PLANE_TEMPERATURE = 9.3989
INST_CMPRS_NAME = "DISCRETE COSINE TRANSFORMATION (DCT)"
INST_CMPRS_RATIO = 2.92139
INST_CMPRS_QUALITY = 0
INST_CMPRS_QUANTZ_TBL_ID = 0
INSTRUMENT_TEMPERATURE = 11.4379
LENS_TEMPERATURE = 9.3989
MACROPIXEL_SIZE = 2
MISSING_FRAMES = 0
PIXEL_SUBSAMPLING_FLAG = N
SIGNAL_CHAIN_ID = 2
/* RADIOMETRIC DATA ELEMENTS */
BANDWIDTH = 76.0
CENTER_FILTER_WAVELENGTH = 444.0
RADIANCE_OFFSET = 0.71016
RADIANCE_SCALING_FACTOR = 0.00216028
REFLECTANCE_SCALING_FACTOR = 9.84051e-05
MEX:REFLECTANCE_OFFSET = 0.0323492
/* IMAGE OBJECT DEFINITIONS */
OBJECT = IMAGE
  INTERCHANGE_FORMAT = BINARY
  LINES = 13758
  LINE_SAMPLES = 7129
  SAMPLE_TYPE = UNSIGNED_INTEGER
  SAMPLE_BITS = 8
  BANDS = 1
  BAND_STORAGE_TYPE = BAND_SEQUENTIAL
  MAXIMUM = 255
  MEAN = 136.86
  MINIMUM = 3
  STANDARD_DEVIATION = 20.5459
END_OBJECT = IMAGE
/* MAP OBJECT DEFINITIONS */
OBJECT = IMAGE_MAP_PROJECTION
  ^DATA_SET_MAP_PROJECTION_CATALOG= "DSMAP.CAT"
  A_AXIS_RADIUS = 3396.0
  B_AXIS_RADIUS = 3396.0
  C_AXIS_RADIUS = 3396.0
  CENTER_LATITUDE = 0.0
  CENTER_LONGITUDE = 217.0
  COORDINATE_SYSTEM_NAME = PLANETOGRAPHIC
  COORDINATE_SYSTEM_TYPE = "BODY-FIXED ROTATING"
  EASTERNMOST_LONGITUDE = 224.43
  FIRST_STANDARD_PARALLEL = "N/A"
  LINE_FIRST_PIXEL = 1
  LINE_LAST_PIXEL = 13758
  LINE_PROJECTION_OFFSET = -183335.25
  MAP_PROJECTION_ROTATION = 0.0
  MAP_PROJECTION_TYPE = SINUSOIDAL
  MAP_RESOLUTION = 2370.85521546667
  MAP_SCALE = 0.025
  MAXIMUM_LATITUDE = -77.3245
  MINIMUM_LATITUDE = -83.1267
  POSITIVE_LONGITUDE_DIRECTION = EAST
  REFERENCE_LATITUDE = "N/A"
  REFERENCE_LONGITUDE = "N/A"
  SAMPLE_FIRST_PIXEL = 1
  SAMPLE_LAST_PIXEL = 7129
  SAMPLE_PROJECTION_OFFSET = 3354.25
  SECOND_STANDARD_PARALLEL = "N/A"
  WESTERNMOST_LONGITUDE = 206.096
END_OBJECT = IMAGE_MAP_PROJECTION
END
