PDS_VERSION_ID = PDS3
/* FILE DATA ELEMENTS */
RECORD_TYPE = UNDEFINED
/* POINTERS TO DATA OBJECTS */
^IMAGE = ("H4600_0000_RE4.TIF")
/* IDENTIFICATION DATA ELEMENTS */
DATA_SET_ID = "MEX-M-HRSC-4-REFDR-MAPPROJECT-EXT1-V4.0"
DATA_SET_NAME = "MARS EXPRESS HRSC MAP PROJECTED REFDR EXTENSION1 V4.0"
DETECTOR_ID = MEX_HRSC_RED
EVENT_TYPE = "MARS-REGIONAL-MAPPING-Im-Eo"
INSTRUMENT_HOST_ID = MEX
INSTRUMENT_HOST_NAME = "MARS EXPRESS"
INSTRUMENT_ID = HRSC
INSTRUMENT_NAME = "HIGH RESOLUTION STEREO CAMERA"
MISSION_NAME = "MARS EXPRESS"
MISSION_PHASE_NAME = ME_Phase_9
PROCESSING_LEVEL_ID = 4
PRODUCT_CREATION_TIME = 2023-02-11T00:15:54.000Z
PRODUCT_ID = "H4600_0000_RE4.TIF"
RELEASE_ID = 0007
REVISION_ID = 0000
/* QUALITY DATA ELEMENTS */
DATA_QUALITY_ID = 1
DATA_QUALITY_DESC = "Data calculated based on original SPICE kernels"
/* TIME DATA ELEMENTS */
SPACECRAFT_CLOCK_START_COUNT = "1/0134243120.08262"
SPACECRAFT_CLOCK_STOP_COUNT = "1/0134243343.13694"
START_TIME = 2007-08-03T17:46:35.496Z
STOP_TIME = 2007-08-03T17:48:54.493Z
/* ORBITAL DATA ELEMENTS */
ASCENDING_NODE_LONGITUDE = 132.14
MAXIMUM_RESOLUTION = 0.0732
FOOTPRINT_POINT_LATITUDE = (-66.7416,-66.7724,-66.8017,-66.8295, -66.8557,-66.8803,-66.9168,-66.9182, -66.9985,-66.7107,-66.4236,-66.1322, -65.8396,-65.5476,-65.3241,-65.175, -64.8779,-64.7281,-64.5767,-64.4252, -64.2741,-64.1237,-63.8945,-63.7411, -63.5868,-63.4306,-63.277,-63.0431, -62.887,-62.6527,-62.4153,-62.2567, -62.0988,-61.8591,-61.6983,-61.5375, -61.3773,-61.2143,-60.9698,-60.8074, -60.6432,-60.4787,-60.3141,-60.0655, -59.8986,-59.7317,-59.5651,-59.311, -59.2264,-59.224,-59.2076,-59.1805, -59.1611,-59.1481,-59.1248,-59.0932, -59.0778,-59.0755,-59.0761,-59.2456, -59.4145,-59.5807,-59.7465,-59.9129, -60.1598,-60.3237,-60.4879,-60.7328, -60.8949,-61.0576,-61.2209,-61.4609, -61.6203,-61.7812,-61.9412,-62.0968, -62.2543,-62.4123,-62.5688,-62.7235, -62.8785,-63.0341,-63.1893,-63.4186, -63.5717,-63.7243,-63.8777,-64.0281, -64.1781,-64.3288,-64.4796,-64.63, -64.9265,-65.3712,-65.8072,-66.1714, -66.5281,-66.7427,-66.8142,-66.7416)
FOOTPRINT_POINT_LONGITUDE = (260.837,261.388,261.941,262.499,263.06 ,263.625,264.553,264.589,264.7,264.766, 264.831,264.894,264.957,265.017,265.063 ,265.092,265.15,265.179,265.208,265.236 ,265.264,265.292,265.334,265.362, 265.388,265.411,265.438,265.478,265.504 ,265.541,265.58,265.604,265.629,265.665 ,265.69,265.713,265.737,265.761,265.796 ,265.819,265.842,265.866,265.889, 265.922,265.945,265.967,265.989,266.022 ,266.033,266.033,265.465,264.653, 264.127,263.812,263.29,262.633,262.322, 262.288,262.277,262.256,262.234,262.213 ,262.192,262.17,262.137,262.114,262.091 ,262.056,262.032,262.007,261.982, 261.944,261.918,261.892,261.865,261.839 ,261.812,261.784,261.756,261.728,261.7, 261.671,261.641,261.597,261.566,261.536 ,261.504,261.473,261.441,261.408, 261.375,261.342,261.274,261.168,261.06, 260.965,260.868,260.808,260.788, 260.837)
ORBIT_NUMBER = 4600
ORBITAL_ECCENTRICITY = 0.57
ORBITAL_INCLINATION = 86.69
ORBITAL_SEMIMAJOR_AXIS = 8530.56
PERIAPSIS_ALTITUDE = 294.37
PERIAPSIS_ARGUMENT_ANGLE = 268.48
PERIAPSIS_TIME = 2007-08-03T17:39:46.000Z
SPACECRAFT_ORIENTATION = (0.0,-1.0,0.0)
^MEX_ORIENTATION_DESC = "MEX_ORIENTATION_DESC.TXT"
SPACECRAFT_POINTING_MODE = ACROSSTRACK
^MEX_POINTING_DESC = "MEX_POINTING_DESC.TXT"
RIGHT_ASCENSION = -1e+32
DECLINATION = -1e+32
OFFSET_ANGLE = -0.458
SPACECRAFT_SOLAR_DISTANCE = 2.10425e+08
TARGET_NAME = MARS
/* CAMERA DATA ELEMENTS */
DETECTOR_TEMPERATURE = 19.5939
FOCAL_PLANE_TEMPERATURE = 7.7677
INST_CMPRS_NAME = "DISCRETE COSINE TRANSFORMATION (DCT)"
INST_CMPRS_RATIO = 22.3425
INST_CMPRS_QUALITY = 0
INST_CMPRS_QUANTZ_TBL_ID = 0
INSTRUMENT_TEMPERATURE = 11.0301
LENS_TEMPERATURE = 8.3794
MACROPIXEL_SIZE = 4
MISSING_FRAMES = 0
PIXEL_SUBSAMPLING_FLAG = N
SIGNAL_CHAIN_ID = 2
/* RADIOMETRIC DATA ELEMENTS */
BANDWIDTH = 48.0
CENTER_FILTER_WAVELENGTH = 748.0
RADIANCE_OFFSET = 2.30399
RADIANCE_SCALING_FACTOR = 0.00299394
REFLECTANCE_SCALING_FACTOR = 0.000302525
MEX:REFLECTANCE_OFFSET = 0.232809
/* IMAGE OBJECT DEFINITIONS */
OBJECT = IMAGE
  INTERCHANGE_FORMAT = BINARY
  LINES = 9352
  LINE_SAMPLES = 2592
  SAMPLE_TYPE = UNSIGNED_INTEGER
  SAMPLE_BITS = 8
  BANDS = 1
  BAND_STORAGE_TYPE = BAND_SEQUENTIAL
  MAXIMUM = 255
  MEAN = 181.438
  MINIMUM = 1
  STANDARD_DEVIATION = 31.8814
END_OBJECT = IMAGE
/* MAP OBJECT DEFINITIONS */
OBJECT = IMAGE_MAP_PROJECTION
  ^DATA_SET_MAP_PROJECTION_CATALOG= "DSMAP.CAT"
  A_AXIS_RADIUS = 3396.0
  B_AXIS_RADIUS = 3396.0
  C_AXIS_RADIUS = 3396.0
  CENTER_LATITUDE = 0.0
  CENTER_LONGITUDE = 264.0
  COORDINATE_SYSTEM_NAME = PLANETOGRAPHIC
  COORDINATE_SYSTEM_TYPE = "BODY-FIXED ROTATING"
  EASTERNMOST_LONGITUDE = 266.033
  FIRST_STANDARD_PARALLEL = "N/A"
  LINE_FIRST_PIXEL = 1
  LINE_LAST_PIXEL = 9352
  LINE_PROJECTION_OFFSET = -70058.375
  MAP_PROJECTION_ROTATION = 0.0
  MAP_PROJECTION_TYPE = SINUSOIDAL
  MAP_RESOLUTION = 1185.42760773333
  MAP_SCALE = 0.05
  MAXIMUM_LATITUDE = -59.0755
  MINIMUM_LATITUDE = -66.99850000000001
  POSITIVE_LONGITUDE_DIRECTION = EAST
  REFERENCE_LATITUDE = "N/A"
  REFERENCE_LONGITUDE = "N/A"
  SAMPLE_FIRST_PIXEL = 1
  SAMPLE_LAST_PIXEL = 2592
  SAMPLE_PROJECTION_OFFSET = 1457.875
  SECOND_STANDARD_PARALLEL = "N/A"
  WESTERNMOST_LONGITUDE = 260.788
END_OBJECT = IMAGE_MAP_PROJECTION
END
