PDS_VERSION_ID = PDS3
/* FILE DATA ELEMENTS */
RECORD_TYPE = UNDEFINED
/* POINTERS TO DATA OBJECTS */
^IMAGE = ("H4597_0005_SR4.TIF")
/* IDENTIFICATION DATA ELEMENTS */
DATA_SET_ID = "MEX-M-HRSC-4-REFDR-MAPPROJECT-EXT1-V4.0"
DATA_SET_NAME = "MARS EXPRESS HRSC MAP PROJECTED REFDR EXTENSION1 V4.0"
DETECTOR_ID = MEX_HRSC_SRC
EVENT_TYPE = "MARS-REGIONAL-MAPPING-Gl-Eo-La"
INSTRUMENT_HOST_ID = MEX
INSTRUMENT_HOST_NAME = "MARS EXPRESS"
INSTRUMENT_ID = HRSC
INSTRUMENT_NAME = "HIGH RESOLUTION STEREO CAMERA"
MISSION_NAME = "MARS EXPRESS"
MISSION_PHASE_NAME = ME_Phase_9
PROCESSING_LEVEL_ID = 4
PRODUCT_CREATION_TIME = 2023-02-11T00:15:54.000Z
PRODUCT_ID = "H4597_0005_SR4.TIF"
RELEASE_ID = 0007
REVISION_ID = 0000
/* QUALITY DATA ELEMENTS */
DATA_QUALITY_ID = 1
DATA_QUALITY_DESC = "Data calculated based on original SPICE kernels"
/* TIME DATA ELEMENTS */
SPACECRAFT_CLOCK_START_COUNT = "1/0134170277.07281"
SPACECRAFT_CLOCK_STOP_COUNT = "1/0134170433.07241"
IMAGE_TIME = 2007-08-02T21:32:53.523Z
START_TIME = 2007-08-02T21:32:53.520Z
STOP_TIME = 2007-08-02T21:32:53.525Z
/* ORBITAL DATA ELEMENTS */
ASCENDING_NODE_LONGITUDE = 132.2
MAXIMUM_RESOLUTION = 0.002871
FOOTPRINT_POINT_LATITUDE = (-79.3807,-79.3841,-79.387,-79.3887, -79.3911,-79.3933,-79.3951,-79.3978, -79.4005,-79.4026,-79.4057,-79.4093, -79.4124,-79.4144,-79.4163,-79.4191, -79.4212,-79.4228,-79.4256,-79.4271, -79.4271,-79.4271,-79.4265,-79.4259, -79.4252,-79.4246,-79.424,-79.4234, -79.4227,-79.4221,-79.4215,-79.4209, -79.4202,-79.4196,-79.419,-79.4183, -79.4177,-79.4171,-79.4165,-79.4158, -79.4152,-79.4146,-79.4139,-79.4133, -79.4127,-79.412,-79.4114,-79.4112, -79.4111,-79.4092,-79.4077,-79.406, -79.4039,-79.4013,-79.3994,-79.3966, -79.3949,-79.3933,-79.3913,-79.3897, -79.3877,-79.3859,-79.3841,-79.3818, -79.3793,-79.3759,-79.3731,-79.3716, -79.3689,-79.3669,-79.3648,-79.3648, -79.3648,-79.3654,-79.3661,-79.3667, -79.3673,-79.368,-79.3686,-79.3692, -79.3698,-79.3705,-79.3711,-79.3717, -79.3724,-79.373,-79.3736,-79.3742, -79.3749,-79.3755,-79.3761,-79.3767, -79.3774,-79.378,-79.3786,-79.3792, -79.3799,-79.3805,-79.3806,-79.3807)
FOOTPRINT_POINT_LONGITUDE = (185.905,185.898,185.893,185.89,185.885 ,185.881,185.878,185.873,185.868, 185.864,185.859,185.852,185.846,185.843 ,185.839,185.834,185.83,185.827,185.822 ,185.819,185.819,185.819,185.809, 185.799,185.789,185.779,185.769,185.759 ,185.749,185.738,185.728,185.718, 185.708,185.698,185.688,185.678,185.668 ,185.658,185.648,185.638,185.628, 185.618,185.608,185.598,185.588,185.578 ,185.568,185.566,185.564,185.568, 185.571,185.574,185.578,185.583,185.586 ,185.591,185.594,185.597,185.601, 185.604,185.608,185.611,185.614,185.619 ,185.623,185.63,185.635,185.638,185.643 ,185.647,185.65,185.65,185.651,185.661, 185.671,185.681,185.691,185.701,185.711 ,185.721,185.731,185.741,185.751, 185.761,185.771,185.781,185.791,185.801 ,185.811,185.821,185.831,185.841, 185.851,185.861,185.871,185.881,185.891 ,185.901,185.903,185.905)
ORBIT_NUMBER = 4597
ORBITAL_ECCENTRICITY = 0.57
ORBITAL_INCLINATION = 86.69
ORBITAL_SEMIMAJOR_AXIS = 8530.44
PERIAPSIS_ALTITUDE = 294.3
PERIAPSIS_ARGUMENT_ANGLE = 269.01
PERIAPSIS_TIME = 2007-08-02T21:30:08.000Z
SPACECRAFT_ORIENTATION = (0.0,-1.0,0.0)
^MEX_ORIENTATION_DESC = "MEX_ORIENTATION_DESC.TXT"
SPACECRAFT_POINTING_MODE = ACROSSTRACK
^MEX_POINTING_DESC = "MEX_POINTING_DESC.TXT"
RIGHT_ASCENSION = -1e+32
DECLINATION = -1e+32
OFFSET_ANGLE = 0.2
SPACECRAFT_SOLAR_DISTANCE = 2.10325e+08
TARGET_NAME = MARS
/* CAMERA DATA ELEMENTS */
BUFFER_MODE_ID = BUFFER_8
EXPOSURE_DURATION = 5.04
INST_CMPRS_NAME = NONE
INST_CMPRS_RATIO = 1.0
INST_CMPRS_QUALITY = -2147483648
INST_CMPRS_QUANTZ_TBL_ID = -2147483648
INSTRUMENT_TEMPERATURE = 8.18182
MISSING_FRAMES = 0
START_BIT = 0
/* RADIOMETRIC DATA ELEMENTS */
BANDWIDTH = 250.0
CENTER_FILTER_WAVELENGTH = 600.0
RADIANCE_OFFSET = -9.99e+31
RADIANCE_SCALING_FACTOR = -9.99e+31
REFLECTANCE_SCALING_FACTOR = -9.99e+31
MEX:REFLECTANCE_OFFSET = -9.99e+31
/* IMAGE OBJECT DEFINITIONS */
OBJECT = IMAGE
  INTERCHANGE_FORMAT = BINARY
  LINES = 1610
  LINE_SAMPLES = 1614
  SAMPLE_TYPE = UNSIGNED_INTEGER
  SAMPLE_BITS = 8
  BANDS = 1
  BAND_STORAGE_TYPE = BAND_SEQUENTIAL
  MAXIMUM = 244
  MEAN = 150.845
  MINIMUM = 5
  STANDARD_DEVIATION = 26.2034
END_OBJECT = IMAGE
/* MAP OBJECT DEFINITIONS */
OBJECT = IMAGE_MAP_PROJECTION
  ^DATA_SET_MAP_PROJECTION_CATALOG= "DSMAP.CAT"
  A_AXIS_RADIUS = 3396.19
  B_AXIS_RADIUS = 3396.19
  C_AXIS_RADIUS = 3396.19
  CENTER_LATITUDE = 0.0
  CENTER_LONGITUDE = 186.0
  COORDINATE_SYSTEM_NAME = PLANETOGRAPHIC
  COORDINATE_SYSTEM_TYPE = "BODY-FIXED ROTATING"
  EASTERNMOST_LONGITUDE = 185.905
  FIRST_STANDARD_PARALLEL = "N/A"
  LINE_FIRST_PIXEL = 1
  LINE_LAST_PIXEL = 1610
  LINE_PROJECTION_OFFSET = -1876766.0
  MAP_PROJECTION_ROTATION = 0.0
  MAP_PROJECTION_TYPE = SINUSOIDAL
  MAP_RESOLUTION = 23709.8786048756
  MAP_SCALE = 0.0025
  MAXIMUM_LATITUDE = -79.3648
  MINIMUM_LATITUDE = -79.4271
  POSITIVE_LONGITUDE_DIRECTION = EAST
  REFERENCE_LATITUDE = "N/A"
  REFERENCE_LONGITUDE = "N/A"
  SAMPLE_FIRST_PIXEL = 1
  SAMPLE_LAST_PIXEL = 1614
  SAMPLE_PROJECTION_OFFSET = 2286.0
  SECOND_STANDARD_PARALLEL = "N/A"
  WESTERNMOST_LONGITUDE = 185.564
END_OBJECT = IMAGE_MAP_PROJECTION
END
