PDS_VERSION_ID = PDS3
/* FILE DATA ELEMENTS */
RECORD_TYPE = UNDEFINED
/* POINTERS TO DATA OBJECTS */
^IMAGE = ("H4592_0009_S24.TIF")
/* IDENTIFICATION DATA ELEMENTS */
DATA_SET_ID = "MEX-M-HRSC-4-REFDR-MAPPROJECT-EXT1-V4.0"
DATA_SET_NAME = "MARS EXPRESS HRSC MAP PROJECTED REFDR EXTENSION1 V4.0"
DETECTOR_ID = MEX_HRSC_S2
EVENT_TYPE = "MARS-REGIONAL-COLOR-Te-Fl-Lc"
INSTRUMENT_HOST_ID = MEX
INSTRUMENT_HOST_NAME = "MARS EXPRESS"
INSTRUMENT_ID = HRSC
INSTRUMENT_NAME = "HIGH RESOLUTION STEREO CAMERA"
MISSION_NAME = "MARS EXPRESS"
MISSION_PHASE_NAME = ME_Phase_9
PROCESSING_LEVEL_ID = 4
PRODUCT_CREATION_TIME = 2023-02-11T00:15:54.000Z
PRODUCT_ID = "H4592_0009_S24.TIF"
RELEASE_ID = 0007
REVISION_ID = 0000
/* QUALITY DATA ELEMENTS */
DATA_QUALITY_ID = 1
DATA_QUALITY_DESC = "Data calculated based on original SPICE kernels"
/* TIME DATA ELEMENTS */
SPACECRAFT_CLOCK_START_COUNT = "1/0134050168.08261"
SPACECRAFT_CLOCK_STOP_COUNT = "1/0134050929.05065"
START_TIME = 2007-08-01T12:14:57.965Z
STOP_TIME = 2007-08-01T12:22:11.150Z
/* ORBITAL DATA ELEMENTS */
ASCENDING_NODE_LONGITUDE = 132.3
MAXIMUM_RESOLUTION = 0.1222
FOOTPRINT_POINT_LATITUDE = (-29.7201,-29.6964,-29.6791,-29.6617, -29.6442,-29.6267,-29.6091,-29.5915, -29.5739,-29.5629,-29.5495,-29.5316, -29.5113,-29.4954,-29.4931,-29.5297, -29.1388,-28.881,-28.4967,-28.2429, -27.9916,-27.7418,-27.4949,-27.2493, -27.006,-26.7639,-26.5243,-26.286, -26.0501,-25.6971,-25.4645,-25.0036, -24.5577,-24.0004,-23.559,-23.1306, -22.7066,-22.2888,-21.879,-21.5735, -21.175,-20.781,-20.3948,-20.0143, -19.6475,-19.1813,-18.734,-18.6471, -18.6427,-18.6597,-18.6836,-18.7102, -18.7314,-18.7533,-18.7745,-18.799, -18.8215,-18.8445,-18.8899,-18.9139, -18.9627,-18.9945,-19.0426,-19.0711, -19.0984,-19.1268,-19.1558,-19.1871, -19.2294,-19.2728,-19.2805,-19.2835, -19.7857,-20.3167,-20.6753,-21.0386, -21.408,-21.784,-22.1659,-22.4608, -22.8591,-23.2619,-23.6716,-24.0919, -24.5055,-24.9367,-25.6057,-26.0554, -26.7245,-27.186,-27.4237,-27.7758, -28.0158,-28.38,-28.6241,-28.9937, -29.3729,-29.6271,-29.752,-29.7201)
FOOTPRINT_POINT_LONGITUDE = (327.442,328.065,328.517,328.968, 329.418,329.866,330.314,330.761,331.207 ,331.485,331.82,332.266,332.768,333.159 ,333.215,333.245,333.274,333.292,333.32 ,333.338,333.357,333.375,333.394, 333.412,333.431,333.449,333.467,333.486 ,333.504,333.531,333.549,333.584, 333.623,333.667,333.702,333.739,333.775 ,333.812,333.849,333.876,333.913,333.95 ,333.987,334.025,334.066,334.111, 334.161,334.171,334.172,333.866,333.48, 333.175,332.868,332.561,332.255,331.949 ,331.643,331.337,330.803,330.42,329.884 ,329.501,328.963,328.655,328.347, 328.039,327.73,327.344,326.803,326.336, 326.258,326.23,326.312,326.388,326.44, 326.492,326.543,326.594,326.645,326.682 ,326.731,326.78,326.828,326.875,326.926 ,326.973,327.039,327.084,327.157, 327.203,327.225,327.259,327.281,327.313 ,327.334,327.366,327.395,327.415, 327.426,327.442)
ORBIT_NUMBER = 4592
ORBITAL_ECCENTRICITY = 0.57
ORBITAL_INCLINATION = 86.7
ORBITAL_SEMIMAJOR_AXIS = 8529.36
PERIAPSIS_ALTITUDE = 294.54
PERIAPSIS_ARGUMENT_ANGLE = 269.88
PERIAPSIS_TIME = 2007-08-01T11:54:08.000Z
SPACECRAFT_ORIENTATION = (0.0,-1.0,0.0)
^MEX_ORIENTATION_DESC = "MEX_ORIENTATION_DESC.TXT"
SPACECRAFT_POINTING_MODE = ACROSSTRACK
^MEX_POINTING_DESC = "MEX_POINTING_DESC.TXT"
RIGHT_ASCENSION = -1e+32
DECLINATION = -1e+32
OFFSET_ANGLE = 0.5
SPACECRAFT_SOLAR_DISTANCE = 2.10161e+08
TARGET_NAME = MARS
/* CAMERA DATA ELEMENTS */
DETECTOR_TEMPERATURE = 22.0407
FOCAL_PLANE_TEMPERATURE = 9.3989
INST_CMPRS_NAME = "DISCRETE COSINE TRANSFORMATION (DCT)"
INST_CMPRS_RATIO = 11.8626
INST_CMPRS_QUALITY = 0
INST_CMPRS_QUANTZ_TBL_ID = 0
INSTRUMENT_TEMPERATURE = 14.7003
LENS_TEMPERATURE = 8.3794
MACROPIXEL_SIZE = 2
MISSING_FRAMES = 0
PIXEL_SUBSAMPLING_FLAG = N
SIGNAL_CHAIN_ID = 1
/* RADIOMETRIC DATA ELEMENTS */
BANDWIDTH = 178.0
CENTER_FILTER_WAVELENGTH = 679.0
RADIANCE_OFFSET = 12.0449
RADIANCE_SCALING_FACTOR = 0.0124944
REFLECTANCE_SCALING_FACTOR = 0.00029225
MEX:REFLECTANCE_OFFSET = 0.281736
/* IMAGE OBJECT DEFINITIONS */
OBJECT = IMAGE
  INTERCHANGE_FORMAT = BINARY
  LINES = 6441
  LINE_SAMPLES = 3102
  SAMPLE_TYPE = UNSIGNED_INTEGER
  SAMPLE_BITS = 8
  BANDS = 1
  BAND_STORAGE_TYPE = BAND_SEQUENTIAL
  MAXIMUM = 251
  MEAN = 121.696
  MINIMUM = 1
  STANDARD_DEVIATION = 48.4676
END_OBJECT = IMAGE
/* MAP OBJECT DEFINITIONS */
OBJECT = IMAGE_MAP_PROJECTION
  ^DATA_SET_MAP_PROJECTION_CATALOG= "DSMAP.CAT"
  A_AXIS_RADIUS = 3396.0
  B_AXIS_RADIUS = 3396.0
  C_AXIS_RADIUS = 3396.0
  CENTER_LATITUDE = 0.0
  CENTER_LONGITUDE = 330.0
  COORDINATE_SYSTEM_NAME = PLANETOGRAPHIC
  COORDINATE_SYSTEM_TYPE = "BODY-FIXED ROTATING"
  EASTERNMOST_LONGITUDE = 334.172
  FIRST_STANDARD_PARALLEL = "N/A"
  LINE_FIRST_PIXEL = 1
  LINE_LAST_PIXEL = 6441
  LINE_PROJECTION_OFFSET = -11135.25
  MAP_PROJECTION_ROTATION = 0.0
  MAP_PROJECTION_TYPE = SINUSOIDAL
  MAP_RESOLUTION = 592.713803866667
  MAP_SCALE = 0.1
  MAXIMUM_LATITUDE = -18.6427
  MINIMUM_LATITUDE = -29.752
  POSITIVE_LONGITUDE_DIRECTION = EAST
  REFERENCE_LATITUDE = "N/A"
  REFERENCE_LONGITUDE = "N/A"
  SAMPLE_FIRST_PIXEL = 1
  SAMPLE_LAST_PIXEL = 3102
  SAMPLE_PROJECTION_OFFSET = 1569.75
  SECOND_STANDARD_PARALLEL = "N/A"
  WESTERNMOST_LONGITUDE = 326.23
END_OBJECT = IMAGE_MAP_PROJECTION
END
