PDS_VERSION_ID = PDS3
/* FILE DATA ELEMENTS */
RECORD_TYPE = UNDEFINED
/* POINTERS TO DATA OBJECTS */
^IMAGE = ("H4591_0006_SR4.TIF")
/* IDENTIFICATION DATA ELEMENTS */
DATA_SET_ID = "MEX-M-HRSC-4-REFDR-MAPPROJECT-EXT1-V4.0"
DATA_SET_NAME = "MARS EXPRESS HRSC MAP PROJECTED REFDR EXTENSION1 V4.0"
DETECTOR_ID = MEX_HRSC_SRC
EVENT_TYPE = "MARS-REGIONAL-MAPPING-Gl-Eo-La"
INSTRUMENT_HOST_ID = MEX
INSTRUMENT_HOST_NAME = "MARS EXPRESS"
INSTRUMENT_ID = HRSC
INSTRUMENT_NAME = "HIGH RESOLUTION STEREO CAMERA"
MISSION_NAME = "MARS EXPRESS"
MISSION_PHASE_NAME = ME_Phase_9
PROCESSING_LEVEL_ID = 4
PRODUCT_CREATION_TIME = 2023-02-11T00:15:54.000Z
PRODUCT_ID = "H4591_0006_SR4.TIF"
RELEASE_ID = 0007
REVISION_ID = 0000
/* QUALITY DATA ELEMENTS */
DATA_QUALITY_ID = 1
DATA_QUALITY_DESC = "Data calculated based on original SPICE kernels"
/* TIME DATA ELEMENTS */
SPACECRAFT_CLOCK_START_COUNT = "1/0134025094.09076"
SPACECRAFT_CLOCK_STOP_COUNT = "1/0134025257.39884"
IMAGE_TIME = 2007-08-01T05:12:51.914Z
START_TIME = 2007-08-01T05:12:51.911Z
STOP_TIME = 2007-08-01T05:12:51.916Z
/* ORBITAL DATA ELEMENTS */
ASCENDING_NODE_LONGITUDE = 132.32
MAXIMUM_RESOLUTION = 0.002763
FOOTPRINT_POINT_LATITUDE = (-81.7127,-81.7172,-81.7198,-81.722, -81.7243,-81.7261,-81.7288,-81.731, -81.7329,-81.7345,-81.7358,-81.7375, -81.7389,-81.7408,-81.7434,-81.7458, -81.7478,-81.7496,-81.7526,-81.7548, -81.7567,-81.7568,-81.7567,-81.7562, -81.7557,-81.755,-81.7544,-81.7537, -81.753,-81.7523,-81.7513,-81.7506, -81.7499,-81.7493,-81.7486,-81.7479, -81.7472,-81.7465,-81.7458,-81.7452, -81.7445,-81.7438,-81.7431,-81.7424, -81.7417,-81.7411,-81.7404,-81.7397, -81.7395,-81.7394,-81.7367,-81.7343, -81.7325,-81.7304,-81.7279,-81.7264, -81.725,-81.7227,-81.721,-81.7193, -81.7173,-81.7142,-81.7115,-81.7096, -81.708,-81.7063,-81.7048,-81.7027, -81.6997,-81.6978,-81.6955,-81.6955, -81.6955,-81.6962,-81.6969,-81.6976, -81.6982,-81.6989,-81.6996,-81.7003, -81.701,-81.7016,-81.7023,-81.703, -81.7037,-81.7043,-81.705,-81.7057, -81.7064,-81.7071,-81.7077,-81.7084, -81.7091,-81.7098,-81.7104,-81.7111, -81.7118,-81.7124,-81.7126,-81.7127)
FOOTPRINT_POINT_LONGITUDE = (53.4433,53.4313,53.4243,53.4185, 53.4124,53.4077,53.4004,53.3945,53.3894 ,53.3852,53.3815,53.377,53.3734,53.3682 ,53.3613,53.3548,53.3493,53.3446, 53.3366,53.3307,53.3255,53.3254,53.3251 ,53.3159,53.3068,53.2946,53.2824, 53.2701,53.258,53.2458,53.2274,53.2152, 53.203,53.1908,53.1786,53.1665,53.1543, 53.1421,53.1299,53.1178,53.1056,53.0934 ,53.0813,53.0691,53.057,53.0448,53.0327 ,53.0205,53.0175,53.0156,53.023,53.0297 ,53.0345,53.0402,53.0472,53.0511,53.055 ,53.0612,53.0659,53.0705,53.076,53.0844 ,53.0917,53.0968,53.1011,53.1059, 53.1098,53.1156,53.1236,53.1288,53.1349 ,53.135,53.1353,53.1474,53.1595,53.1716 ,53.1837,53.1958,53.2079,53.2201, 53.2322,53.2443,53.2564,53.2685,53.2806 ,53.2928,53.3049,53.317,53.3292,53.3413 ,53.3534,53.3656,53.3777,53.3899,53.402 ,53.4142,53.4263,53.4385,53.4415, 53.4433)
ORBIT_NUMBER = 4591
ORBITAL_ECCENTRICITY = 0.57
ORBITAL_INCLINATION = 86.7
ORBITAL_SEMIMAJOR_AXIS = 8529.56
PERIAPSIS_ALTITUDE = 293.8
PERIAPSIS_ARGUMENT_ANGLE = 270.05
PERIAPSIS_TIME = 2007-08-01T05:10:57.000Z
SPACECRAFT_ORIENTATION = (0.0,-1.0,0.0)
^MEX_ORIENTATION_DESC = "MEX_ORIENTATION_DESC.TXT"
SPACECRAFT_POINTING_MODE = ACROSSTRACK
^MEX_POINTING_DESC = "MEX_POINTING_DESC.TXT"
RIGHT_ASCENSION = -1e+32
DECLINATION = -1e+32
OFFSET_ANGLE = -0.229
SPACECRAFT_SOLAR_DISTANCE = 2.10129e+08
TARGET_NAME = MARS
/* CAMERA DATA ELEMENTS */
BUFFER_MODE_ID = BUFFER_8
EXPOSURE_DURATION = 5.04
INST_CMPRS_NAME = NONE
INST_CMPRS_RATIO = 1.0
INST_CMPRS_QUALITY = -2147483648
INST_CMPRS_QUANTZ_TBL_ID = -2147483648
INSTRUMENT_TEMPERATURE = 8.18182
MISSING_FRAMES = 0
START_BIT = 0
/* RADIOMETRIC DATA ELEMENTS */
BANDWIDTH = 250.0
CENTER_FILTER_WAVELENGTH = 600.0
RADIANCE_OFFSET = -9.99e+31
RADIANCE_SCALING_FACTOR = -9.99e+31
REFLECTANCE_SCALING_FACTOR = -9.99e+31
MEX:REFLECTANCE_OFFSET = -9.99e+31
/* IMAGE OBJECT DEFINITIONS */
OBJECT = IMAGE
  INTERCHANGE_FORMAT = BINARY
  LINES = 1585
  LINE_SAMPLES = 1596
  SAMPLE_TYPE = UNSIGNED_INTEGER
  SAMPLE_BITS = 8
  BANDS = 1
  BAND_STORAGE_TYPE = BAND_SEQUENTIAL
  MAXIMUM = 248
  MEAN = 153.228
  MINIMUM = 9
  STANDARD_DEVIATION = 17.0418
END_OBJECT = IMAGE
/* MAP OBJECT DEFINITIONS */
OBJECT = IMAGE_MAP_PROJECTION
  ^DATA_SET_MAP_PROJECTION_CATALOG= "DSMAP.CAT"
  A_AXIS_RADIUS = 3396.19
  B_AXIS_RADIUS = 3396.19
  C_AXIS_RADIUS = 3396.19
  CENTER_LATITUDE = 0.0
  CENTER_LONGITUDE = 53.0
  COORDINATE_SYSTEM_NAME = PLANETOGRAPHIC
  COORDINATE_SYSTEM_TYPE = "BODY-FIXED ROTATING"
  EASTERNMOST_LONGITUDE = 53.4433
  FIRST_STANDARD_PARALLEL = "N/A"
  LINE_FIRST_PIXEL = 1
  LINE_LAST_PIXEL = 1585
  LINE_PROJECTION_OFFSET = -1931961.0
  MAP_PROJECTION_ROTATION = 0.0
  MAP_PROJECTION_TYPE = SINUSOIDAL
  MAP_RESOLUTION = 23709.8786048756
  MAP_SCALE = 0.0025
  MAXIMUM_LATITUDE = -81.6955
  MINIMUM_LATITUDE = -81.7568
  POSITIVE_LONGITUDE_DIRECTION = EAST
  REFERENCE_LATITUDE = "N/A"
  REFERENCE_LONGITUDE = "N/A"
  SAMPLE_FIRST_PIXEL = 1
  SAMPLE_LAST_PIXEL = 1596
  SAMPLE_PROJECTION_OFFSET = -349.0
  SECOND_STANDARD_PARALLEL = "N/A"
  WESTERNMOST_LONGITUDE = 53.0156
END_OBJECT = IMAGE_MAP_PROJECTION
END
