PDS_VERSION_ID = PDS3
/* FILE DATA ELEMENTS */
RECORD_TYPE = UNDEFINED
/* POINTERS TO DATA OBJECTS */
^IMAGE = ("H4590_0000_P24.TIF")
/* IDENTIFICATION DATA ELEMENTS */
DATA_SET_ID = "MEX-M-HRSC-4-REFDR-MAPPROJECT-EXT1-V4.0"
DATA_SET_NAME = "MARS EXPRESS HRSC MAP PROJECTED REFDR EXTENSION1 V4.0"
DETECTOR_ID = MEX_HRSC_P2
EVENT_TYPE = "MARS-REGIONAL-MAPPING-Gl-Eo-La"
INSTRUMENT_HOST_ID = MEX
INSTRUMENT_HOST_NAME = "MARS EXPRESS"
INSTRUMENT_ID = HRSC
INSTRUMENT_NAME = "HIGH RESOLUTION STEREO CAMERA"
MISSION_NAME = "MARS EXPRESS"
MISSION_PHASE_NAME = ME_Phase_9
PROCESSING_LEVEL_ID = 4
PRODUCT_CREATION_TIME = 2023-02-11T00:15:54.000Z
PRODUCT_ID = "H4590_0000_P24.TIF"
RELEASE_ID = 0007
REVISION_ID = 0000
/* QUALITY DATA ELEMENTS */
DATA_QUALITY_ID = 1
DATA_QUALITY_DESC = "Data calculated based on original SPICE kernels"
/* TIME DATA ELEMENTS */
SPACECRAFT_CLOCK_START_COUNT = "1/0134000909.07574"
SPACECRAFT_CLOCK_STOP_COUNT = "1/0134001183.49103"
START_TIME = 2007-07-31T22:29:16.926Z
STOP_TIME = 2007-07-31T22:32:53.294Z
/* ORBITAL DATA ELEMENTS */
ASCENDING_NODE_LONGITUDE = 132.34
MAXIMUM_RESOLUTION = 0.0245
FOOTPRINT_POINT_LATITUDE = (-83.5404,-83.7034,-83.9214,-84.0573, -84.0619,-84.1321,-83.4492,-82.9767, -82.6131,-82.3669,-82.1211,-81.8737, -81.6277,-81.2538,-81.004,-80.7493, -80.4983,-80.2472,-79.8582,-79.5976, -79.3364,-79.0751,-78.8135,-78.5519, -78.2902,-77.8922,-77.6215,-77.3509, -77.0806,-76.8101,-76.5397,-76.2699, -75.9904,-75.7109,-75.2932,-75.0144, -74.737,-74.4589,-74.1813,-73.9047, -73.6289,-73.3529,-73.0759,-72.7988, -72.5235,-72.2492,-71.974,-71.4869, -70.996,-70.833,-70.8128,-70.7398, -70.6826,-70.6161,-70.6136,-70.6133, -71.0988,-71.4243,-71.7469,-72.0197, -72.293,-72.5658,-72.8389,-73.1104, -73.3841,-73.7943,-74.206,-74.4807, -74.7543,-75.0286,-75.3038,-75.7159, -76.1238,-76.3894,-76.6553,-77.0541, -77.3194,-77.5842,-77.846,-78.1018, -78.3573,-78.6148,-78.867,-79.248, -79.5015,-79.8791,-80.1222,-80.3649, -80.6067,-80.8482,-81.0897,-81.443, -81.6784,-81.9128,-82.2615,-82.7114, -83.0367,-83.4579,-83.5618,-83.5404)
FOOTPRINT_POINT_LONGITUDE = (137.217,139.357,142.61,144.934,145.016 ,144.998,148.188,149.96,151.17,151.917, 152.617,153.273,153.891,154.748,155.279 ,155.777,156.252,156.701,157.349, 157.756,158.142,158.509,158.858,159.191 ,159.508,159.963,160.255,160.534, 160.801,161.056,161.301,161.535,161.766 ,161.988,162.306,162.506,162.7,162.886, 163.064,163.237,163.405,163.565,163.719 ,163.867,164.011,164.152,164.286, 164.514,164.73,164.8,164.808,163.153, 162.042,160.902,160.864,160.85,160.589, 160.403,160.215,160.048,159.874,159.695 ,159.51,159.322,159.122,158.81,158.475, 158.241,158.001,157.749,157.484,157.068 ,156.628,156.327,156.012,155.511,155.16 ,154.793,154.412,154.023,153.614, 153.175,152.738,152.023,151.515,150.704 ,150.146,149.556,148.934,148.272, 147.565,146.479,145.689,144.847,143.481 ,141.472,139.833,137.433,136.776, 137.217)
ORBIT_NUMBER = 4590
ORBITAL_ECCENTRICITY = 0.57
ORBITAL_INCLINATION = 86.69
ORBITAL_SEMIMAJOR_AXIS = 8530.79
PERIAPSIS_ALTITUDE = 295.08
PERIAPSIS_ARGUMENT_ANGLE = 270.21
PERIAPSIS_TIME = 2007-07-31T22:27:45.000Z
SPACECRAFT_ORIENTATION = (0.0,-1.0,0.0)
^MEX_ORIENTATION_DESC = "MEX_ORIENTATION_DESC.TXT"
SPACECRAFT_POINTING_MODE = NADIR
^MEX_POINTING_DESC = "MEX_POINTING_DESC.TXT"
RIGHT_ASCENSION = -1e+32
DECLINATION = -1e+32
OFFSET_ANGLE = -1e+32
SPACECRAFT_SOLAR_DISTANCE = 2.10096e+08
TARGET_NAME = MARS
/* CAMERA DATA ELEMENTS */
DETECTOR_TEMPERATURE = 18.5744
FOCAL_PLANE_TEMPERATURE = 9.195
INST_CMPRS_NAME = "DISCRETE COSINE TRANSFORMATION (DCT)"
INST_CMPRS_RATIO = 7.29255
INST_CMPRS_QUALITY = 0
INST_CMPRS_QUANTZ_TBL_ID = 0
INSTRUMENT_TEMPERATURE = 11.4379
LENS_TEMPERATURE = 10.4184
MACROPIXEL_SIZE = 2
MISSING_FRAMES = 0
PIXEL_SUBSAMPLING_FLAG = N
SIGNAL_CHAIN_ID = 3
/* RADIOMETRIC DATA ELEMENTS */
BANDWIDTH = 177.0
CENTER_FILTER_WAVELENGTH = 676.5
RADIANCE_OFFSET = 5.36481
RADIANCE_SCALING_FACTOR = 0.0163284
REFLECTANCE_SCALING_FACTOR = 0.000382153
MEX:REFLECTANCE_OFFSET = 0.125559
/* IMAGE OBJECT DEFINITIONS */
OBJECT = IMAGE
  INTERCHANGE_FORMAT = BINARY
  LINES = 32045
  LINE_SAMPLES = 11403
  SAMPLE_TYPE = UNSIGNED_INTEGER
  SAMPLE_BITS = 8
  BANDS = 1
  BAND_STORAGE_TYPE = BAND_SEQUENTIAL
  MAXIMUM = 255
  MEAN = 122.785
  MINIMUM = 1
  STANDARD_DEVIATION = 59.9984
END_OBJECT = IMAGE
/* MAP OBJECT DEFINITIONS */
OBJECT = IMAGE_MAP_PROJECTION
  ^DATA_SET_MAP_PROJECTION_CATALOG= "DSMAP.CAT"
  A_AXIS_RADIUS = 3396.0
  B_AXIS_RADIUS = 3396.0
  C_AXIS_RADIUS = 3396.0
  CENTER_LATITUDE = 0.0
  CENTER_LONGITUDE = 157.0
  COORDINATE_SYSTEM_NAME = PLANETOGRAPHIC
  COORDINATE_SYSTEM_TYPE = "BODY-FIXED ROTATING"
  EASTERNMOST_LONGITUDE = 164.808
  FIRST_STANDARD_PARALLEL = "N/A"
  LINE_FIRST_PIXEL = 1
  LINE_LAST_PIXEL = 32045
  LINE_PROJECTION_OFFSET = -167450.75
  MAP_PROJECTION_ROTATION = 0.0
  MAP_PROJECTION_TYPE = SINUSOIDAL
  MAP_RESOLUTION = 2370.85521546667
  MAP_SCALE = 0.025
  MAXIMUM_LATITUDE = -70.6133
  MINIMUM_LATITUDE = -84.13209999999999
  POSITIVE_LONGITUDE_DIRECTION = EAST
  REFERENCE_LATITUDE = "N/A"
  REFERENCE_LONGITUDE = "N/A"
  SAMPLE_FIRST_PIXEL = 1
  SAMPLE_LAST_PIXEL = 11403
  SAMPLE_PROJECTION_OFFSET = 5389.75
  SECOND_STANDARD_PARALLEL = "N/A"
  WESTERNMOST_LONGITUDE = 136.776
END_OBJECT = IMAGE_MAP_PROJECTION
END
