PDS_VERSION_ID = PDS3
/* FILE DATA ELEMENTS */
RECORD_TYPE = UNDEFINED
/* POINTERS TO DATA OBJECTS */
^IMAGE = ("H4589_0009_RE4.TIF")
/* IDENTIFICATION DATA ELEMENTS */
DATA_SET_ID = "MEX-M-HRSC-4-REFDR-MAPPROJECT-EXT1-V4.0"
DATA_SET_NAME = "MARS EXPRESS HRSC MAP PROJECTED REFDR EXTENSION1 V4.0"
DETECTOR_ID = MEX_HRSC_RED
EVENT_TYPE = "MARS-REGIONAL-MAPPING-Te"
INSTRUMENT_HOST_ID = MEX
INSTRUMENT_HOST_NAME = "MARS EXPRESS"
INSTRUMENT_ID = HRSC
INSTRUMENT_NAME = "HIGH RESOLUTION STEREO CAMERA"
MISSION_NAME = "MARS EXPRESS"
MISSION_PHASE_NAME = ME_Phase_9
PROCESSING_LEVEL_ID = 4
PRODUCT_CREATION_TIME = 2023-02-11T00:15:54.000Z
PRODUCT_ID = "H4589_0009_RE4.TIF"
RELEASE_ID = 0007
REVISION_ID = 0000
/* QUALITY DATA ELEMENTS */
DATA_QUALITY_ID = 1
DATA_QUALITY_DESC = "Data calculated based on original SPICE kernels"
/* TIME DATA ELEMENTS */
SPACECRAFT_CLOCK_START_COUNT = "1/0133977215.08427"
SPACECRAFT_CLOCK_STOP_COUNT = "1/0133977486.20564"
START_TIME = 2007-07-31T15:55:31.643Z
STOP_TIME = 2007-07-31T15:57:49.546Z
/* ORBITAL DATA ELEMENTS */
ASCENDING_NODE_LONGITUDE = 132.37
MAXIMUM_RESOLUTION = 0.0545
FOOTPRINT_POINT_LATITUDE = (-51.4506,-51.4621,-51.473,-51.4835, -51.4936,-51.5032,-51.5123,-51.521, -51.5293,-51.5371,-51.5444,-51.5512, -51.5575,-51.562,-51.5627,-51.6184, -51.4338,-51.1877,-50.9391,-50.7529, -50.502,-50.124,-49.7427,-49.4231, -49.1686,-48.8409,-48.5804,-48.2527, -48.12,-47.9216,-47.7857,-47.6505, -47.5177,-47.3151,-47.1798,-47.0454, -46.9106,-46.707,-46.5702,-46.4328, -46.2941,-46.1544,-46.0159,-45.8081, -45.6688,-45.529,-45.39,-45.2497, -45.1093,-45.0394,-44.9981,-44.9958, -44.99,-44.9881,-44.9851,-44.9832, -44.9804,-44.9754,-44.9703,-44.966, -44.9598,-44.9522,-44.9442,-44.9356, -44.9264,-44.9252,-44.9256,-45.135, -45.3441,-45.5521,-45.6906,-45.828, -45.9659,-46.1028,-46.2395,-46.4438, -46.5796,-46.7151,-46.8502,-46.9841, -47.1184,-47.2517,-47.4518,-47.5838, -47.7162,-48.0451,-48.3073,-48.5677, -48.9549,-49.2753,-49.5298,-49.7835, -50.0352,-50.4111,-50.6606,-50.9705, -51.216,-51.4004,-51.4616,-51.4506)
FOOTPRINT_POINT_LONGITUDE = (264.661,264.938,265.216,265.495, 265.775,266.055,266.337,266.62,266.903, 267.187,267.473,267.76,268.048,268.266, 268.302,268.369,268.381,268.397,268.412 ,268.424,268.439,268.462,268.484, 268.503,268.521,268.537,268.552,268.57, 268.577,268.588,268.593,268.599,268.606 ,268.616,268.623,268.631,268.638, 268.649,268.656,268.663,268.669,268.674 ,268.681,268.692,268.698,268.705, 268.713,268.72,268.727,268.731,268.734, 268.379,268.022,267.708,267.474,267.279 ,267.084,266.772,266.5,266.306,265.997, 265.688,265.381,265.073,264.767,264.729 ,264.715,264.717,264.718,264.72,264.721 ,264.721,264.722,264.722,264.723, 264.723,264.723,264.723,264.723,264.723 ,264.722,264.722,264.721,264.721,264.72 ,264.717,264.715,264.712,264.707, 264.703,264.698,264.693,264.688,264.68, 264.674,264.665,264.658,264.653,264.651 ,264.661)
ORBIT_NUMBER = 4589
ORBITAL_ECCENTRICITY = 0.57
ORBITAL_INCLINATION = 86.69
ORBITAL_SEMIMAJOR_AXIS = 8530.34
PERIAPSIS_ALTITUDE = 294.15
PERIAPSIS_ARGUMENT_ANGLE = 270.38
PERIAPSIS_TIME = 2007-07-31T15:44:34.000Z
SPACECRAFT_ORIENTATION = (0.0,-1.0,0.0)
^MEX_ORIENTATION_DESC = "MEX_ORIENTATION_DESC.TXT"
SPACECRAFT_POINTING_MODE = ACROSSTRACK
^MEX_POINTING_DESC = "MEX_POINTING_DESC.TXT"
RIGHT_ASCENSION = -1e+32
DECLINATION = -1e+32
OFFSET_ANGLE = -0.8
SPACECRAFT_SOLAR_DISTANCE = 2.10064e+08
TARGET_NAME = MARS
/* CAMERA DATA ELEMENTS */
DETECTOR_TEMPERATURE = 20.4095
FOCAL_PLANE_TEMPERATURE = 9.195
INST_CMPRS_NAME = "DISCRETE COSINE TRANSFORMATION (DCT)"
INST_CMPRS_RATIO = 10.4259
INST_CMPRS_QUALITY = 0
INST_CMPRS_QUANTZ_TBL_ID = 0
INSTRUMENT_TEMPERATURE = 12.8652
LENS_TEMPERATURE = 9.8067
MACROPIXEL_SIZE = 2
MISSING_FRAMES = 0
PIXEL_SUBSAMPLING_FLAG = N
SIGNAL_CHAIN_ID = 3
/* RADIOMETRIC DATA ELEMENTS */
BANDWIDTH = 48.0
CENTER_FILTER_WAVELENGTH = 748.0
RADIANCE_OFFSET = 2.80146
RADIANCE_SCALING_FACTOR = 0.00184004
REFLECTANCE_SCALING_FACTOR = 0.000185293
MEX:REFLECTANCE_OFFSET = 0.282109
/* IMAGE OBJECT DEFINITIONS */
OBJECT = IMAGE
  INTERCHANGE_FORMAT = BINARY
  LINES = 7886
  LINE_SAMPLES = 2980
  SAMPLE_TYPE = UNSIGNED_INTEGER
  SAMPLE_BITS = 8
  BANDS = 1
  BAND_STORAGE_TYPE = BAND_SEQUENTIAL
  MAXIMUM = 254
  MEAN = 115.116
  MINIMUM = 1
  STANDARD_DEVIATION = 35.9619
END_OBJECT = IMAGE
/* MAP OBJECT DEFINITIONS */
OBJECT = IMAGE_MAP_PROJECTION
  ^DATA_SET_MAP_PROJECTION_CATALOG= "DSMAP.CAT"
  A_AXIS_RADIUS = 3396.0
  B_AXIS_RADIUS = 3396.0
  C_AXIS_RADIUS = 3396.0
  CENTER_LATITUDE = 0.0
  CENTER_LONGITUDE = 267.0
  COORDINATE_SYSTEM_NAME = PLANETOGRAPHIC
  COORDINATE_SYSTEM_TYPE = "BODY-FIXED ROTATING"
  EASTERNMOST_LONGITUDE = 268.734
  FIRST_STANDARD_PARALLEL = "N/A"
  LINE_FIRST_PIXEL = 1
  LINE_LAST_PIXEL = 7886
  LINE_PROJECTION_OFFSET = -53291.75
  MAP_PROJECTION_ROTATION = 0.0
  MAP_PROJECTION_TYPE = SINUSOIDAL
  MAP_RESOLUTION = 1185.42760773333
  MAP_SCALE = 0.05
  MAXIMUM_LATITUDE = -44.9252
  MINIMUM_LATITUDE = -51.6184
  POSITIVE_LONGITUDE_DIRECTION = EAST
  REFERENCE_LATITUDE = "N/A"
  REFERENCE_LONGITUDE = "N/A"
  SAMPLE_FIRST_PIXEL = 1
  SAMPLE_LAST_PIXEL = 2980
  SAMPLE_PROJECTION_OFFSET = 1759.75
  SECOND_STANDARD_PARALLEL = "N/A"
  WESTERNMOST_LONGITUDE = 264.651
END_OBJECT = IMAGE_MAP_PROJECTION
END
