PDS_VERSION_ID = PDS3
/* FILE DATA ELEMENTS */
RECORD_TYPE = UNDEFINED
/* POINTERS TO DATA OBJECTS */
^IMAGE = ("H4589_0000_S24.TIF")
/* IDENTIFICATION DATA ELEMENTS */
DATA_SET_ID = "MEX-M-HRSC-4-REFDR-MAPPROJECT-EXT1-V4.0"
DATA_SET_NAME = "MARS EXPRESS HRSC MAP PROJECTED REFDR EXTENSION1 V4.0"
DETECTOR_ID = MEX_HRSC_S2
EVENT_TYPE = "MARS-REGIONAL-MAPPING-Pf-Eo"
INSTRUMENT_HOST_ID = MEX
INSTRUMENT_HOST_NAME = "MARS EXPRESS"
INSTRUMENT_ID = HRSC
INSTRUMENT_NAME = "HIGH RESOLUTION STEREO CAMERA"
MISSION_NAME = "MARS EXPRESS"
MISSION_PHASE_NAME = ME_Phase_9
PROCESSING_LEVEL_ID = 4
PRODUCT_CREATION_TIME = 2023-02-11T00:15:54.000Z
PRODUCT_ID = "H4589_0000_S24.TIF"
RELEASE_ID = 0007
REVISION_ID = 0000
/* QUALITY DATA ELEMENTS */
DATA_QUALITY_ID = 1
DATA_QUALITY_DESC = "Data calculated based on original SPICE kernels"
/* TIME DATA ELEMENTS */
SPACECRAFT_CLOCK_START_COUNT = "1/0133976837.07292"
SPACECRAFT_CLOCK_STOP_COUNT = "1/0133977083.56982"
START_TIME = 2007-07-31T15:48:20.665Z
STOP_TIME = 2007-07-31T15:51:25.854Z
/* ORBITAL DATA ELEMENTS */
ASCENDING_NODE_LONGITUDE = 132.37
MAXIMUM_RESOLUTION = 0.0287
FOOTPRINT_POINT_LATITUDE = (-76.1533,-76.2398,-76.3206,-76.4084, -76.4106,-76.5233,-76.221,-76.0197, -75.8188,-75.6181,-75.4176,-75.2173, -75.0169,-74.6176,-74.2195,-73.8221, -73.5245,-73.0296,-72.6921,-72.4579, -72.2234,-71.989,-71.7549,-71.5217, -71.1723,-70.9403,-70.7086,-70.4764, -70.2445,-70.0104,-69.7815,-69.5524, -69.3229,-68.9786,-68.7499,-68.5216, -68.288,-68.0542,-67.8212,-67.5885, -67.351,-67.1133,-66.876,-66.5177, -66.2756,-66.0339,-65.7929,-65.5466, -65.4236,-65.4186,-65.3912,-65.3642, -65.3369,-65.305,-65.2676,-65.2345, -65.2324,-65.2321,-65.5999,-65.8398, -66.0807,-66.3212,-66.6776,-66.9139, -67.1505,-67.3872,-67.6184,-67.8503, -68.0826,-68.4296,-68.7694,-68.9971, -69.3396,-69.683,-70.0272,-70.2568, -70.4868,-70.7175,-70.9491,-71.1803, -71.411,-71.6439,-71.8754,-72.2253, -72.4582,-72.7926,-73.1849,-73.4799, -73.8735,-74.2678,-74.6626,-74.8607, -75.0587,-75.2568,-75.4551,-75.6534, -75.852,-76.1501,-76.2495,-76.1533)
FOOTPRINT_POINT_LONGITUDE = (258.445,259.869,261.341,263.155, 263.204,263.479,263.652,263.762,263.87, 263.974,264.076,264.174,264.269,264.452 ,264.627,264.791,264.908,265.094, 265.211,265.294,265.373,265.449,265.523 ,265.596,265.701,265.77,265.836,265.899 ,265.96,266.015,266.077,266.136,266.193 ,266.274,266.326,266.378,266.429, 266.479,266.528,266.576,266.624,266.671 ,266.716,266.784,266.828,266.871, 266.913,266.955,266.976,266.977,266.304 ,265.713,265.129,264.515,263.836, 263.272,263.237,263.224,263.146,263.094 ,263.04,262.984,262.899,262.841,262.781 ,262.719,262.657,262.593,262.528, 262.426,262.323,262.251,262.14,262.023, 261.901,261.817,261.731,261.641,261.549 ,261.454,261.356,261.255,261.151, 260.988,260.875,260.707,260.5,260.337, 260.109,259.867,259.611,259.477,259.339 ,259.196,259.05,258.898,258.742,258.498 ,258.414,258.445)
ORBIT_NUMBER = 4589
ORBITAL_ECCENTRICITY = 0.57
ORBITAL_INCLINATION = 86.69
ORBITAL_SEMIMAJOR_AXIS = 8530.34
PERIAPSIS_ALTITUDE = 294.15
PERIAPSIS_ARGUMENT_ANGLE = 270.38
PERIAPSIS_TIME = 2007-07-31T15:44:34.000Z
SPACECRAFT_ORIENTATION = (0.0,-1.0,0.0)
^MEX_ORIENTATION_DESC = "MEX_ORIENTATION_DESC.TXT"
SPACECRAFT_POINTING_MODE = ACROSSTRACK
^MEX_POINTING_DESC = "MEX_POINTING_DESC.TXT"
RIGHT_ASCENSION = -1e+32
DECLINATION = -1e+32
OFFSET_ANGLE = -0.8
SPACECRAFT_SOLAR_DISTANCE = 2.10064e+08
TARGET_NAME = MARS
/* CAMERA DATA ELEMENTS */
DETECTOR_TEMPERATURE = 18.5744
FOCAL_PLANE_TEMPERATURE = 8.7872
INST_CMPRS_NAME = "DISCRETE COSINE TRANSFORMATION (DCT)"
INST_CMPRS_RATIO = 12.6491
INST_CMPRS_QUALITY = 0
INST_CMPRS_QUANTZ_TBL_ID = 0
INSTRUMENT_TEMPERATURE = 11.4379
LENS_TEMPERATURE = 9.6028
MACROPIXEL_SIZE = 2
MISSING_FRAMES = 0
PIXEL_SUBSAMPLING_FLAG = N
SIGNAL_CHAIN_ID = 1
/* RADIOMETRIC DATA ELEMENTS */
BANDWIDTH = 178.0
CENTER_FILTER_WAVELENGTH = 679.0
RADIANCE_OFFSET = 7.69857
RADIANCE_SCALING_FACTOR = 0.0169821
REFLECTANCE_SCALING_FACTOR = 0.000396851
MEX:REFLECTANCE_OFFSET = 0.179906
/* IMAGE OBJECT DEFINITIONS */
OBJECT = IMAGE
  INTERCHANGE_FORMAT = BINARY
  LINES = 26606
  LINE_SAMPLES = 6323
  SAMPLE_TYPE = UNSIGNED_INTEGER
  SAMPLE_BITS = 8
  BANDS = 1
  BAND_STORAGE_TYPE = BAND_SEQUENTIAL
  MAXIMUM = 255
  MEAN = 142.181
  MINIMUM = 1
  STANDARD_DEVIATION = 50.3692
END_OBJECT = IMAGE
/* MAP OBJECT DEFINITIONS */
OBJECT = IMAGE_MAP_PROJECTION
  ^DATA_SET_MAP_PROJECTION_CATALOG= "DSMAP.CAT"
  A_AXIS_RADIUS = 3396.0
  B_AXIS_RADIUS = 3396.0
  C_AXIS_RADIUS = 3396.0
  CENTER_LATITUDE = 0.0
  CENTER_LONGITUDE = 263.0
  COORDINATE_SYSTEM_NAME = PLANETOGRAPHIC
  COORDINATE_SYSTEM_TYPE = "BODY-FIXED ROTATING"
  EASTERNMOST_LONGITUDE = 266.977
  FIRST_STANDARD_PARALLEL = "N/A"
  LINE_FIRST_PIXEL = 1
  LINE_LAST_PIXEL = 26606
  LINE_PROJECTION_OFFSET = -154758.25
  MAP_PROJECTION_ROTATION = 0.0
  MAP_PROJECTION_TYPE = SINUSOIDAL
  MAP_RESOLUTION = 2370.85521546667
  MAP_SCALE = 0.025
  MAXIMUM_LATITUDE = -65.2321
  MINIMUM_LATITUDE = -76.52330000000001
  POSITIVE_LONGITUDE_DIRECTION = EAST
  REFERENCE_LATITUDE = "N/A"
  REFERENCE_LONGITUDE = "N/A"
  SAMPLE_FIRST_PIXEL = 1
  SAMPLE_LAST_PIXEL = 6323
  SAMPLE_PROJECTION_OFFSET = 2562.25
  SECOND_STANDARD_PARALLEL = "N/A"
  WESTERNMOST_LONGITUDE = 258.414
END_OBJECT = IMAGE_MAP_PROJECTION
END
