PDS_VERSION_ID = PDS3
/* FILE DATA ELEMENTS */
RECORD_TYPE = UNDEFINED
/* POINTERS TO DATA OBJECTS */
^IMAGE = ("H4582_0001_RE4.TIF")
/* IDENTIFICATION DATA ELEMENTS */
DATA_SET_ID = "MEX-M-HRSC-4-REFDR-MAPPROJECT-EXT1-V4.0"
DATA_SET_NAME = "MARS EXPRESS HRSC MAP PROJECTED REFDR EXTENSION1 V4.0"
DETECTOR_ID = MEX_HRSC_RED
EVENT_TYPE = "MARS-REGIONAL-MAPPING-Te-Im"
INSTRUMENT_HOST_ID = MEX
INSTRUMENT_HOST_NAME = "MARS EXPRESS"
INSTRUMENT_ID = HRSC
INSTRUMENT_NAME = "HIGH RESOLUTION STEREO CAMERA"
MISSION_NAME = "MARS EXPRESS"
MISSION_PHASE_NAME = ME_Phase_8
PROCESSING_LEVEL_ID = 4
PRODUCT_CREATION_TIME = 2023-02-11T00:15:54.000Z
PRODUCT_ID = "H4582_0001_RE4.TIF"
RELEASE_ID = 0007
REVISION_ID = 0000
/* QUALITY DATA ELEMENTS */
DATA_QUALITY_ID = 1
DATA_QUALITY_DESC = "Data calculated based on original SPICE kernels"
/* TIME DATA ELEMENTS */
SPACECRAFT_CLOCK_START_COUNT = "1/0133807530.09047"
SPACECRAFT_CLOCK_STOP_COUNT = "1/0133807852.00838"
START_TIME = 2007-07-29T16:46:31.051Z
STOP_TIME = 2007-07-29T16:50:43.964Z
/* ORBITAL DATA ELEMENTS */
ASCENDING_NODE_LONGITUDE = 132.51
MAXIMUM_RESOLUTION = 0.0589
FOOTPRINT_POINT_LATITUDE = (-72.0467,-72.1327,-72.1903,-72.2413, -72.2428,-72.3188,-71.8382,-71.3693, -70.8874,-70.4585,-70.1701,-69.8867, -69.6027,-69.1782,-68.7544,-68.3316, -68.0511,-67.7701,-67.4901,-67.0722, -66.7927,-66.5144,-66.229,-65.9442, -65.6613,-65.373,-65.0831,-64.7936, -64.5005,-64.2051,-63.9106,-63.4604, -63.16,-62.8562,-62.5504,-62.2451, -61.9333,-61.6221,-61.3074,-61.0025, -60.6855,-60.3638,-60.0327,-59.7063, -59.3816,-59.0509,-58.72,-58.3828, -57.8771,-57.7071,-57.6229,-57.6016, -57.572,-57.5453,-57.5123,-57.5111, -57.5118,-58.0192,-58.521,-58.8559, -59.1815,-59.6695,-60.1529,-60.472, -60.7945,-61.1021,-61.4161,-61.8799, -62.1887,-62.6447,-62.9484,-63.2486, -63.6964,-63.9887,-64.2823,-64.5761, -64.8635,-65.1512,-65.5815,-65.8635, -66.1457,-66.4267,-66.7027,-66.9795, -67.2563,-67.534,-67.8156,-68.0889, -68.3759,-68.6565,-68.9363,-69.3509, -69.6304,-69.9121,-70.1957,-70.7471, -71.221,-71.9339,-72.0529,-72.0467)
FOOTPRINT_POINT_LONGITUDE = (224.749,226.263,227.407,228.544,228.58 ,228.56,228.841,229.104,229.356,229.57, 229.707,229.84,229.968,230.154,230.331, 230.5,230.609,230.715,230.817,230.966, 231.062,231.155,231.248,231.339,231.427 ,231.515,231.6,231.684,231.766,231.847, 231.926,232.043,232.119,232.194,232.267 ,232.339,232.41,232.479,232.548,232.617 ,232.683,232.748,232.811,232.874, 232.936,232.997,233.057,233.117,233.204 ,233.233,233.247,232.365,231.382, 230.681,229.879,229.847,229.836,229.754 ,229.668,229.603,229.547,229.454, 229.356,229.29,229.213,229.154,229.082, 228.971,228.894,228.777,228.696,228.611 ,228.485,228.4,228.31,228.218,228.125, 228.03,227.88,227.78,227.677,227.571, 227.464,227.353,227.239,227.121,226.991 ,226.878,226.728,226.591,226.452, 226.251,226.105,225.948,225.781,225.449 ,225.146,224.655,224.569,224.749)
ORBIT_NUMBER = 4582
ORBITAL_ECCENTRICITY = 0.57
ORBITAL_INCLINATION = 86.7
ORBITAL_SEMIMAJOR_AXIS = 8529.69
PERIAPSIS_ALTITUDE = 293.5
PERIAPSIS_ARGUMENT_ANGLE = 271.59
PERIAPSIS_TIME = 2007-07-29T16:42:05.000Z
SPACECRAFT_ORIENTATION = (0.0,-1.0,0.0)
^MEX_ORIENTATION_DESC = "MEX_ORIENTATION_DESC.TXT"
SPACECRAFT_POINTING_MODE = ACROSSTRACK
^MEX_POINTING_DESC = "MEX_POINTING_DESC.TXT"
RIGHT_ASCENSION = -1e+32
DECLINATION = -1e+32
OFFSET_ANGLE = 0.51
SPACECRAFT_SOLAR_DISTANCE = 2.09843e+08
TARGET_NAME = MARS
/* CAMERA DATA ELEMENTS */
DETECTOR_TEMPERATURE = 19.5939
FOCAL_PLANE_TEMPERATURE = 8.5833
INST_CMPRS_NAME = "DISCRETE COSINE TRANSFORMATION (DCT)"
INST_CMPRS_RATIO = 23.1807
INST_CMPRS_QUALITY = 0
INST_CMPRS_QUANTZ_TBL_ID = 0
INSTRUMENT_TEMPERATURE = 12.4574
LENS_TEMPERATURE = 9.195
MACROPIXEL_SIZE = 4
MISSING_FRAMES = 0
PIXEL_SUBSAMPLING_FLAG = N
SIGNAL_CHAIN_ID = 2
/* RADIOMETRIC DATA ELEMENTS */
BANDWIDTH = 48.0
CENTER_FILTER_WAVELENGTH = 748.0
RADIANCE_OFFSET = 2.00769
RADIANCE_SCALING_FACTOR = 0.00412867
REFLECTANCE_SCALING_FACTOR = 0.000414888
MEX:REFLECTANCE_OFFSET = 0.201751
/* IMAGE OBJECT DEFINITIONS */
OBJECT = IMAGE
  INTERCHANGE_FORMAT = BINARY
  LINES = 17599
  LINE_SAMPLES = 3941
  SAMPLE_TYPE = UNSIGNED_INTEGER
  SAMPLE_BITS = 8
  BANDS = 1
  BAND_STORAGE_TYPE = BAND_SEQUENTIAL
  MAXIMUM = 255
  MEAN = 125.637
  MINIMUM = 1
  STANDARD_DEVIATION = 44.3327
END_OBJECT = IMAGE
/* MAP OBJECT DEFINITIONS */
OBJECT = IMAGE_MAP_PROJECTION
  ^DATA_SET_MAP_PROJECTION_CATALOG= "DSMAP.CAT"
  A_AXIS_RADIUS = 3396.0
  B_AXIS_RADIUS = 3396.0
  C_AXIS_RADIUS = 3396.0
  CENTER_LATITUDE = 0.0
  CENTER_LONGITUDE = 230.0
  COORDINATE_SYSTEM_NAME = PLANETOGRAPHIC
  COORDINATE_SYSTEM_TYPE = "BODY-FIXED ROTATING"
  EASTERNMOST_LONGITUDE = 233.247
  FIRST_STANDARD_PARALLEL = "N/A"
  LINE_FIRST_PIXEL = 1
  LINE_LAST_PIXEL = 17599
  LINE_PROJECTION_OFFSET = -68179.875
  MAP_PROJECTION_ROTATION = 0.0
  MAP_PROJECTION_TYPE = SINUSOIDAL
  MAP_RESOLUTION = 1185.42760773333
  MAP_SCALE = 0.05
  MAXIMUM_LATITUDE = -57.5111
  MINIMUM_LATITUDE = -72.3188
  POSITIVE_LONGITUDE_DIRECTION = EAST
  REFERENCE_LATITUDE = "N/A"
  REFERENCE_LONGITUDE = "N/A"
  SAMPLE_FIRST_PIXEL = 1
  SAMPLE_LAST_PIXEL = 3941
  SAMPLE_PROJECTION_OFFSET = 1968.375
  SECOND_STANDARD_PARALLEL = "N/A"
  WESTERNMOST_LONGITUDE = 224.569
END_OBJECT = IMAGE_MAP_PROJECTION
END
