PDS_VERSION_ID = PDS3
/* FILE DATA ELEMENTS */
RECORD_TYPE = UNDEFINED
/* POINTERS TO DATA OBJECTS */
^IMAGE = ("H4582_0001_BL4.TIF")
/* IDENTIFICATION DATA ELEMENTS */
DATA_SET_ID = "MEX-M-HRSC-4-REFDR-MAPPROJECT-EXT1-V4.0"
DATA_SET_NAME = "MARS EXPRESS HRSC MAP PROJECTED REFDR EXTENSION1 V4.0"
DETECTOR_ID = MEX_HRSC_BLUE
EVENT_TYPE = "MARS-REGIONAL-MAPPING-Te-Im"
INSTRUMENT_HOST_ID = MEX
INSTRUMENT_HOST_NAME = "MARS EXPRESS"
INSTRUMENT_ID = HRSC
INSTRUMENT_NAME = "HIGH RESOLUTION STEREO CAMERA"
MISSION_NAME = "MARS EXPRESS"
MISSION_PHASE_NAME = ME_Phase_8
PROCESSING_LEVEL_ID = 4
PRODUCT_CREATION_TIME = 2023-02-11T00:15:54.000Z
PRODUCT_ID = "H4582_0001_BL4.TIF"
RELEASE_ID = 0007
REVISION_ID = 0000
/* QUALITY DATA ELEMENTS */
DATA_QUALITY_ID = 1
DATA_QUALITY_DESC = "Data calculated based on original SPICE kernels"
/* TIME DATA ELEMENTS */
SPACECRAFT_CLOCK_START_COUNT = "1/0133807530.09047"
SPACECRAFT_CLOCK_STOP_COUNT = "1/0133807852.00838"
START_TIME = 2007-07-29T16:46:09.464Z
STOP_TIME = 2007-07-29T16:50:09.255Z
/* ORBITAL DATA ELEMENTS */
ASCENDING_NODE_LONGITUDE = 132.51
MAXIMUM_RESOLUTION = 0.0547
FOOTPRINT_POINT_LATITUDE = (-72.1087,-72.2311,-72.3263,-72.328, -72.3447,-71.9713,-71.4764,-71.1035, -70.8547,-70.4816,-69.9858,-69.491, -69.1968,-68.7553,-68.4612,-68.1676, -67.8742,-67.5812,-67.2886,-66.9965, -66.5588,-66.2674,-65.9766,-65.6863, -65.3962,-65.1066,-64.6646,-64.3683, -64.0724,-63.7708,-63.4681,-63.1659, -62.8589,-62.55,-62.2417,-61.77, -61.4551,-61.1385,-60.8184,-60.4978, -60.1684,-59.8417,-59.3454,-59.0131, -58.6756,-58.3373,-57.8234,-57.6515, -57.6492,-57.6297,-57.6122,-57.5928, -57.5481,-57.5132,-57.5116,-57.5121, -57.8548,-58.1952,-58.5321,-58.8689, -59.199,-59.6937,-60.0187,-60.3444, -60.6644,-60.9826,-61.2996,-61.6125, -62.082,-62.3888,-62.6961,-63.0015, -63.3025,-63.6038,-63.9032,-64.1974, -64.4922,-64.9317,-65.2196,-65.508, -65.7967,-66.0857,-66.3751,-66.6648, -66.9548,-67.2452,-67.5359,-67.8274, -68.2643,-68.5565,-68.8485,-69.2858, -69.776,-70.3901,-70.8817,-71.3737, -71.6198,-71.9891,-72.1123,-72.1087)
FOOTPRINT_POINT_LONGITUDE = (224.76,226.664,228.412,228.446,228.454 ,228.674,228.953,229.152,229.28,229.465 ,229.701,229.924,230.051,230.235, 230.353,230.468,230.579,230.687,230.792 ,230.894,231.041,231.136,231.228, 231.318,231.405,231.491,231.616,231.698 ,231.777,231.857,231.934,232.009, 232.084,232.157,232.228,232.334,232.402 ,232.471,232.538,232.603,232.665, 232.728,232.821,232.881,232.941,232.999 ,233.085,233.113,233.113,232.527, 232.054,231.58,230.628,229.971,229.941, 229.93,229.873,229.815,229.756,229.689, 229.632,229.535,229.469,229.4,229.323, 229.262,229.19,229.116,228.999,228.921, 228.84,228.757,228.67,228.581,228.498, 228.409,228.316,228.173,228.077,227.976 ,227.873,227.767,227.658,227.546, 227.429,227.309,227.185,227.049,226.851 ,226.703,226.558,226.345,226.085, 225.725,225.424,225.103,224.935,224.672 ,224.582,224.76)
ORBIT_NUMBER = 4582
ORBITAL_ECCENTRICITY = 0.57
ORBITAL_INCLINATION = 86.7
ORBITAL_SEMIMAJOR_AXIS = 8529.69
PERIAPSIS_ALTITUDE = 293.5
PERIAPSIS_ARGUMENT_ANGLE = 271.59
PERIAPSIS_TIME = 2007-07-29T16:42:05.000Z
SPACECRAFT_ORIENTATION = (0.0,-1.0,0.0)
^MEX_ORIENTATION_DESC = "MEX_ORIENTATION_DESC.TXT"
SPACECRAFT_POINTING_MODE = ACROSSTRACK
^MEX_POINTING_DESC = "MEX_POINTING_DESC.TXT"
RIGHT_ASCENSION = -1e+32
DECLINATION = -1e+32
OFFSET_ANGLE = 0.51
SPACECRAFT_SOLAR_DISTANCE = 2.09843e+08
TARGET_NAME = MARS
/* CAMERA DATA ELEMENTS */
DETECTOR_TEMPERATURE = 18.7783
FOCAL_PLANE_TEMPERATURE = 8.5833
INST_CMPRS_NAME = "DISCRETE COSINE TRANSFORMATION (DCT)"
INST_CMPRS_RATIO = 8.90626
INST_CMPRS_QUALITY = 0
INST_CMPRS_QUANTZ_TBL_ID = 0
INSTRUMENT_TEMPERATURE = 12.4574
LENS_TEMPERATURE = 9.195
MACROPIXEL_SIZE = 4
MISSING_FRAMES = 0
PIXEL_SUBSAMPLING_FLAG = N
SIGNAL_CHAIN_ID = 2
/* RADIOMETRIC DATA ELEMENTS */
BANDWIDTH = 76.0
CENTER_FILTER_WAVELENGTH = 444.0
RADIANCE_OFFSET = 1.10416
RADIANCE_SCALING_FACTOR = 0.00107007
REFLECTANCE_SCALING_FACTOR = 4.84126e-05
MEX:REFLECTANCE_OFFSET = 0.0499551
/* IMAGE OBJECT DEFINITIONS */
OBJECT = IMAGE
  INTERCHANGE_FORMAT = BINARY
  LINES = 17599
  LINE_SAMPLES = 3941
  SAMPLE_TYPE = UNSIGNED_INTEGER
  SAMPLE_BITS = 8
  BANDS = 1
  BAND_STORAGE_TYPE = BAND_SEQUENTIAL
  MAXIMUM = 254
  MEAN = 145.783
  MINIMUM = 1
  STANDARD_DEVIATION = 40.6054
END_OBJECT = IMAGE
/* MAP OBJECT DEFINITIONS */
OBJECT = IMAGE_MAP_PROJECTION
  ^DATA_SET_MAP_PROJECTION_CATALOG= "DSMAP.CAT"
  A_AXIS_RADIUS = 3396.0
  B_AXIS_RADIUS = 3396.0
  C_AXIS_RADIUS = 3396.0
  CENTER_LATITUDE = 0.0
  CENTER_LONGITUDE = 230.0
  COORDINATE_SYSTEM_NAME = PLANETOGRAPHIC
  COORDINATE_SYSTEM_TYPE = "BODY-FIXED ROTATING"
  EASTERNMOST_LONGITUDE = 233.113
  FIRST_STANDARD_PARALLEL = "N/A"
  LINE_FIRST_PIXEL = 1
  LINE_LAST_PIXEL = 17599
  LINE_PROJECTION_OFFSET = -68179.875
  MAP_PROJECTION_ROTATION = 0.0
  MAP_PROJECTION_TYPE = SINUSOIDAL
  MAP_RESOLUTION = 1185.42760773333
  MAP_SCALE = 0.05
  MAXIMUM_LATITUDE = -57.5116
  MINIMUM_LATITUDE = -72.3447
  POSITIVE_LONGITUDE_DIRECTION = EAST
  REFERENCE_LATITUDE = "N/A"
  REFERENCE_LONGITUDE = "N/A"
  SAMPLE_FIRST_PIXEL = 1
  SAMPLE_LAST_PIXEL = 3941
  SAMPLE_PROJECTION_OFFSET = 1968.375
  SECOND_STANDARD_PARALLEL = "N/A"
  WESTERNMOST_LONGITUDE = 224.582
END_OBJECT = IMAGE_MAP_PROJECTION
END
