PDS_VERSION_ID = PDS3
/* FILE DATA ELEMENTS */
RECORD_TYPE = UNDEFINED
/* POINTERS TO DATA OBJECTS */
^IMAGE = ("H4580_0000_IR4.TIF")
/* IDENTIFICATION DATA ELEMENTS */
DATA_SET_ID = "MEX-M-HRSC-4-REFDR-MAPPROJECT-EXT1-V4.0"
DATA_SET_NAME = "MARS EXPRESS HRSC MAP PROJECTED REFDR EXTENSION1 V4.0"
DETECTOR_ID = MEX_HRSC_IR
EVENT_TYPE = "MARS-REGIONAL-MAPPING-Im-Gl"
INSTRUMENT_HOST_ID = MEX
INSTRUMENT_HOST_NAME = "MARS EXPRESS"
INSTRUMENT_ID = HRSC
INSTRUMENT_NAME = "HIGH RESOLUTION STEREO CAMERA"
MISSION_NAME = "MARS EXPRESS"
MISSION_PHASE_NAME = ME_Phase_8
PROCESSING_LEVEL_ID = 4
PRODUCT_CREATION_TIME = 2023-02-11T00:15:54.000Z
PRODUCT_ID = "H4580_0000_IR4.TIF"
RELEASE_ID = 0007
REVISION_ID = 0000
/* QUALITY DATA ELEMENTS */
DATA_QUALITY_ID = 1
DATA_QUALITY_DESC = "Data calculated based on original SPICE kernels"
/* TIME DATA ELEMENTS */
SPACECRAFT_CLOCK_START_COUNT = "1/0133759027.08402"
SPACECRAFT_CLOCK_STOP_COUNT = "1/0133759238.14694"
START_TIME = 2007-07-29T03:17:15.487Z
STOP_TIME = 2007-07-29T03:19:40.918Z
/* ORBITAL DATA ELEMENTS */
ASCENDING_NODE_LONGITUDE = 132.54
MAXIMUM_RESOLUTION = 0.0993
FOOTPRINT_POINT_LATITUDE = (-79.9968,-80.0743,-80.2163,-80.3034, -80.3059,-80.2359,-79.9722,-79.7959, -79.6196,-79.3547,-79.1777,-79.0005, -78.8221,-78.4681,-78.2901,-78.1057, -77.9208,-77.7355,-77.3736,-77.1879, -76.9095,-76.7227,-76.444,-76.2576, -76.0722,-75.8871,-75.6984,-75.5111, -75.3174,-75.0285,-74.7381,-74.5445, -74.2546,-74.062,-73.8704,-73.6767, -73.4835,-73.2911,-73.0897,-72.788, -72.5864,-72.3865,-72.0865,-71.8856, -71.6843,-71.4845,-71.2773,-70.8648, -70.761,-70.6592,-70.6188,-70.5802, -70.5296,-70.4868,-70.4846,-70.485, -70.6916,-70.8964,-71.1014,-71.3044, -71.5035,-71.7031,-71.9036,-72.0999, -72.2995,-72.4977,-72.7963,-72.9953, -73.1906,-73.3822,-73.5743,-73.768, -73.9546,-74.241,-74.5276,-74.7185, -74.9109,-75.1982,-75.3838,-75.5661, -75.7492,-75.9324,-76.1153,-76.2979, -76.4807,-76.7544,-76.9369,-77.119, -77.3003,-77.5719,-77.753,-78.0176, -78.2785,-78.4522,-78.6274,-78.9721, -79.4008,-79.7432,-79.8283,-79.9968)
FOOTPRINT_POINT_LONGITUDE = (54.0985,55.2819,57.709,59.4225,59.475, 59.834,60.2634,60.538,60.8021,61.1816, 61.4247,61.66,61.8915,62.3201,62.5274, 62.7349,62.9365,63.1327,63.479,63.6588, 63.9172,64.0865,64.3267,64.4824,64.6312 ,64.7747,64.9235,65.0648,65.2062, 65.4069,65.6026,65.7287,65.9106,66.0266 ,66.1371,66.2494,66.358,66.4613,66.5711 ,66.73,66.8336,66.9316,67.074,67.1681, 67.2606,67.3482,67.4405,67.6106,67.653, 67.6941,66.7369,65.9122,64.9615,64.2446 ,64.2121,64.1895,64.0849,63.977,63.8666 ,63.7544,63.6424,63.5279,63.4109, 63.2893,63.166,63.0391,62.843,62.708, 62.5713,62.4338,62.2929,62.1489,61.9989 ,61.7687,61.5293,61.3643,61.1951, 60.9323,60.7538,60.5734,60.3882,60.1978 ,60.0021,59.8009,59.5939,59.272,59.0496 ,58.8204,58.5843,58.2166,57.9619, 57.5655,57.1647,56.887,56.6002,55.9992, 55.1911,54.494,54.3123,54.0985)
ORBIT_NUMBER = 4580
ORBITAL_ECCENTRICITY = 0.57
ORBITAL_INCLINATION = 86.7
ORBITAL_SEMIMAJOR_AXIS = 8529.75
PERIAPSIS_ALTITUDE = 293.57
PERIAPSIS_ARGUMENT_ANGLE = 271.95
PERIAPSIS_TIME = 2007-07-29T03:15:45.000Z
SPACECRAFT_ORIENTATION = (0.0,-1.0,0.0)
^MEX_ORIENTATION_DESC = "MEX_ORIENTATION_DESC.TXT"
SPACECRAFT_POINTING_MODE = ACROSSTRACK
^MEX_POINTING_DESC = "MEX_POINTING_DESC.TXT"
RIGHT_ASCENSION = -1e+32
DECLINATION = -1e+32
OFFSET_ANGLE = -0.07
SPACECRAFT_SOLAR_DISTANCE = 2.09781e+08
TARGET_NAME = MARS
/* CAMERA DATA ELEMENTS */
DETECTOR_TEMPERATURE = 17.7588
FOCAL_PLANE_TEMPERATURE = 8.9911
INST_CMPRS_NAME = "DISCRETE COSINE TRANSFORMATION (DCT)"
INST_CMPRS_RATIO = 33.763
INST_CMPRS_QUALITY = 0
INST_CMPRS_QUANTZ_TBL_ID = 0
INSTRUMENT_TEMPERATURE = 11.6418
LENS_TEMPERATURE = 9.195
MACROPIXEL_SIZE = 8
MISSING_FRAMES = 0
PIXEL_SUBSAMPLING_FLAG = N
SIGNAL_CHAIN_ID = 2
/* RADIOMETRIC DATA ELEMENTS */
BANDWIDTH = 81.0
CENTER_FILTER_WAVELENGTH = 955.5
RADIANCE_OFFSET = 1.76208
RADIANCE_SCALING_FACTOR = 0.00338455
REFLECTANCE_SCALING_FACTOR = 0.000321338
MEX:REFLECTANCE_OFFSET = 0.167297
/* IMAGE OBJECT DEFINITIONS */
OBJECT = IMAGE
  INTERCHANGE_FORMAT = BINARY
  LINES = 5784
  LINE_SAMPLES = 1863
  SAMPLE_TYPE = UNSIGNED_INTEGER
  SAMPLE_BITS = 8
  BANDS = 1
  BAND_STORAGE_TYPE = BAND_SEQUENTIAL
  MAXIMUM = 255
  MEAN = 131.073
  MINIMUM = 1
  STANDARD_DEVIATION = 47.947
END_OBJECT = IMAGE
/* MAP OBJECT DEFINITIONS */
OBJECT = IMAGE_MAP_PROJECTION
  ^DATA_SET_MAP_PROJECTION_CATALOG= "DSMAP.CAT"
  A_AXIS_RADIUS = 3396.0
  B_AXIS_RADIUS = 3396.0
  C_AXIS_RADIUS = 3396.0
  CENTER_LATITUDE = 0.0
  CENTER_LONGITUDE = 63.0
  COORDINATE_SYSTEM_NAME = PLANETOGRAPHIC
  COORDINATE_SYSTEM_TYPE = "BODY-FIXED ROTATING"
  EASTERNMOST_LONGITUDE = 67.69410000000001
  FIRST_STANDARD_PARALLEL = "N/A"
  LINE_FIRST_PIXEL = 1
  LINE_LAST_PIXEL = 5784
  LINE_PROJECTION_OFFSET = -41771.6875
  MAP_PROJECTION_ROTATION = 0.0
  MAP_PROJECTION_TYPE = SINUSOIDAL
  MAP_RESOLUTION = 592.713803866667
  MAP_SCALE = 0.1
  MAXIMUM_LATITUDE = -70.4846
  MINIMUM_LATITUDE = -80.30589999999999
  POSITIVE_LONGITUDE_DIRECTION = EAST
  REFERENCE_LATITUDE = "N/A"
  REFERENCE_LONGITUDE = "N/A"
  SAMPLE_FIRST_PIXEL = 1
  SAMPLE_LAST_PIXEL = 1863
  SAMPLE_PROJECTION_OFFSET = 923.8125
  SECOND_STANDARD_PARALLEL = "N/A"
  WESTERNMOST_LONGITUDE = 54.0985
END_OBJECT = IMAGE_MAP_PROJECTION
END
