PDS_VERSION_ID = PDS3
/* FILE DATA ELEMENTS */
RECORD_TYPE = UNDEFINED
/* POINTERS TO DATA OBJECTS */
^IMAGE = ("H4574_0000_S24.TIF")
/* IDENTIFICATION DATA ELEMENTS */
DATA_SET_ID = "MEX-M-HRSC-4-REFDR-MAPPROJECT-EXT1-V4.0"
DATA_SET_NAME = "MARS EXPRESS HRSC MAP PROJECTED REFDR EXTENSION1 V4.0"
DETECTOR_ID = MEX_HRSC_S2
EVENT_TYPE = "MARS-REGIONAL-STEREO-Gl-Pf-La"
INSTRUMENT_HOST_ID = MEX
INSTRUMENT_HOST_NAME = "MARS EXPRESS"
INSTRUMENT_ID = HRSC
INSTRUMENT_NAME = "HIGH RESOLUTION STEREO CAMERA"
MISSION_NAME = "MARS EXPRESS"
MISSION_PHASE_NAME = ME_Phase_8
PROCESSING_LEVEL_ID = 4
PRODUCT_CREATION_TIME = 2023-02-11T00:15:54.000Z
PRODUCT_ID = "H4574_0000_S24.TIF"
RELEASE_ID = 0007
REVISION_ID = 0000
/* QUALITY DATA ELEMENTS */
DATA_QUALITY_ID = 1
DATA_QUALITY_DESC = "Data calculated based on original SPICE kernels"
/* TIME DATA ELEMENTS */
SPACECRAFT_CLOCK_START_COUNT = "1/0133613818.09047"
SPACECRAFT_CLOCK_STOP_COUNT = "1/0133614056.56824"
START_TIME = 2007-07-27T10:57:55.185Z
STOP_TIME = 2007-07-27T11:00:58.915Z
/* ORBITAL DATA ELEMENTS */
ASCENDING_NODE_LONGITUDE = 132.67
MAXIMUM_RESOLUTION = 0.0252
FOOTPRINT_POINT_LATITUDE = (-81.9628,-82.1481,-82.2904,-82.4205, -82.4244,-82.5072,-82.1117,-81.8124, -81.4116,-81.2011,-80.9901,-80.7802, -80.462,-80.249,-80.0353,-79.8215, -79.6081,-79.286,-78.8576,-78.6438, -78.428,-78.2075,-77.983,-77.6442, -77.4173,-77.0776,-76.7445,-76.5182, -76.2952,-76.0649,-75.8323,-75.6072, -75.3734,-75.1388,-74.907,-74.6764, -74.3302,-73.9709,-73.7329,-73.4943, -73.2556,-73.0173,-72.7793,-72.5419, -72.3044,-71.9483,-71.7113,-71.4745, -71.3567,-71.3399,-71.2577,-71.2163, -71.1557,-71.1535,-71.153,-71.3867, -71.6208,-71.972,-72.2063,-72.557, -72.9103,-73.1461,-73.3802,-73.6149, -73.8485,-74.084,-74.3146,-74.5408, -74.7681,-74.9961,-75.2223,-75.4494, -75.6768,-75.9043,-76.1244,-76.3432, -76.5627,-76.7834,-77.0054,-77.2239, -77.55,-77.8783,-78.0938,-78.3042, -78.5142,-78.724,-79.0374,-79.4445, -79.6512,-79.8561,-80.06,-80.2643, -80.465,-80.6659,-81.057,-81.3415, -81.6236,-81.9013,-81.993,-81.9628)
FOOTPRINT_POINT_LONGITUDE = (271.417,273.826,275.886,277.974, 278.039,277.632,279.151,280.19,281.453, 282.07,282.653,283.203,283.988,284.482, 284.955,285.407,285.837,286.453,287.211 ,287.567,287.912,288.25,288.582,289.06, 289.365,289.801,290.202,290.464,290.713 ,290.962,291.204,291.428,291.657, 291.878,292.089,292.292,292.585,292.876 ,293.061,293.241,293.416,293.585, 293.749,293.908,294.062,294.286,294.43, 294.57,294.638,294.648,292.739,291.902, 290.789,290.75,290.736,290.572,290.403, 290.14,289.958,289.679,289.377,289.168, 288.959,288.741,288.52,288.285,288.041, 287.805,287.557,287.297,287.036,286.762 ,286.476,286.179,285.881,285.578, 285.259,284.92,284.559,284.205,283.656, 283.055,282.65,282.228,281.79,281.331, 280.609,279.656,279.11,278.55,277.968, 277.346,276.725,276.061,274.676,273.568 ,272.37,271.097,270.652,271.417)
ORBIT_NUMBER = 4574
ORBITAL_ECCENTRICITY = 0.57
ORBITAL_INCLINATION = 86.69
ORBITAL_SEMIMAJOR_AXIS = 8530.27
PERIAPSIS_ALTITUDE = 294.23
PERIAPSIS_ARGUMENT_ANGLE = 273.0
PERIAPSIS_TIME = 2007-07-27T10:56:34.000Z
SPACECRAFT_ORIENTATION = (0.0,-1.0,0.0)
^MEX_ORIENTATION_DESC = "MEX_ORIENTATION_DESC.TXT"
SPACECRAFT_POINTING_MODE = ACROSSTRACK
^MEX_POINTING_DESC = "MEX_POINTING_DESC.TXT"
RIGHT_ASCENSION = -1e+32
DECLINATION = -1e+32
OFFSET_ANGLE = 0.7
SPACECRAFT_SOLAR_DISTANCE = 2.09599e+08
TARGET_NAME = MARS
/* CAMERA DATA ELEMENTS */
DETECTOR_TEMPERATURE = 18.9822
FOCAL_PLANE_TEMPERATURE = 8.7872
INST_CMPRS_NAME = "DISCRETE COSINE TRANSFORMATION (DCT)"
INST_CMPRS_RATIO = 11.1135
INST_CMPRS_QUALITY = 0
INST_CMPRS_QUANTZ_TBL_ID = 0
INSTRUMENT_TEMPERATURE = 50.9945
LENS_TEMPERATURE = 9.195
MACROPIXEL_SIZE = 2
MISSING_FRAMES = 0
PIXEL_SUBSAMPLING_FLAG = N
SIGNAL_CHAIN_ID = 1
/* RADIOMETRIC DATA ELEMENTS */
BANDWIDTH = 178.0
CENTER_FILTER_WAVELENGTH = 679.0
RADIANCE_OFFSET = 6.70049
RADIANCE_SCALING_FACTOR = 0.0270381
REFLECTANCE_SCALING_FACTOR = 0.000629049
MEX:REFLECTANCE_OFFSET = 0.155889
/* IMAGE OBJECT DEFINITIONS */
OBJECT = IMAGE
  INTERCHANGE_FORMAT = BINARY
  LINES = 27061
  LINE_SAMPLES = 11083
  SAMPLE_TYPE = UNSIGNED_INTEGER
  SAMPLE_BITS = 8
  BANDS = 1
  BAND_STORAGE_TYPE = BAND_SEQUENTIAL
  MAXIMUM = 255
  MEAN = 80.4402
  MINIMUM = 1
  STANDARD_DEVIATION = 34.925
END_OBJECT = IMAGE
/* MAP OBJECT DEFINITIONS */
OBJECT = IMAGE_MAP_PROJECTION
  ^DATA_SET_MAP_PROJECTION_CATALOG= "DSMAP.CAT"
  A_AXIS_RADIUS = 3396.0
  B_AXIS_RADIUS = 3396.0
  C_AXIS_RADIUS = 3396.0
  CENTER_LATITUDE = 0.0
  CENTER_LONGITUDE = 287.0
  COORDINATE_SYSTEM_NAME = PLANETOGRAPHIC
  COORDINATE_SYSTEM_TYPE = "BODY-FIXED ROTATING"
  EASTERNMOST_LONGITUDE = 294.648
  FIRST_STANDARD_PARALLEL = "N/A"
  LINE_FIRST_PIXEL = 1
  LINE_LAST_PIXEL = 27061
  LINE_PROJECTION_OFFSET = -168647.25
  MAP_PROJECTION_ROTATION = 0.0
  MAP_PROJECTION_TYPE = SINUSOIDAL
  MAP_RESOLUTION = 2370.85521546667
  MAP_SCALE = 0.025
  MAXIMUM_LATITUDE = -71.15300000000001
  MINIMUM_LATITUDE = -82.5072
  POSITIVE_LONGITUDE_DIRECTION = EAST
  REFERENCE_LATITUDE = "N/A"
  REFERENCE_LONGITUDE = "N/A"
  SAMPLE_FIRST_PIXEL = 1
  SAMPLE_LAST_PIXEL = 11083
  SAMPLE_PROJECTION_OFFSET = 5381.75
  SECOND_STANDARD_PARALLEL = "N/A"
  WESTERNMOST_LONGITUDE = 270.652
END_OBJECT = IMAGE_MAP_PROJECTION
END
