PDS_VERSION_ID = PDS3
/* FILE DATA ELEMENTS */
RECORD_TYPE = UNDEFINED
/* POINTERS TO DATA OBJECTS */
^IMAGE = ("H4572_0000_RE4.TIF")
/* IDENTIFICATION DATA ELEMENTS */
DATA_SET_ID = "MEX-M-HRSC-4-REFDR-MAPPROJECT-EXT1-V4.0"
DATA_SET_NAME = "MARS EXPRESS HRSC MAP PROJECTED REFDR EXTENSION1 V4.0"
DETECTOR_ID = MEX_HRSC_RED
EVENT_TYPE = "MARS-REGIONAL-MAPPING-Gl-Eo-La"
INSTRUMENT_HOST_ID = MEX
INSTRUMENT_HOST_NAME = "MARS EXPRESS"
INSTRUMENT_ID = HRSC
INSTRUMENT_NAME = "HIGH RESOLUTION STEREO CAMERA"
MISSION_NAME = "MARS EXPRESS"
MISSION_PHASE_NAME = ME_Phase_8
PROCESSING_LEVEL_ID = 4
PRODUCT_CREATION_TIME = 2023-02-11T00:15:54.000Z
PRODUCT_ID = "H4572_0000_RE4.TIF"
RELEASE_ID = 0007
REVISION_ID = 0000
/* QUALITY DATA ELEMENTS */
DATA_QUALITY_ID = 1
DATA_QUALITY_DESC = "Data calculated based on original SPICE kernels"
/* TIME DATA ELEMENTS */
SPACECRAFT_CLOCK_START_COUNT = "1/0133565362.09062"
SPACECRAFT_CLOCK_STOP_COUNT = "1/0133565548.65028"
START_TIME = 2007-07-26T21:30:13.663Z
STOP_TIME = 2007-07-26T21:32:26.010Z
/* ORBITAL DATA ELEMENTS */
ASCENDING_NODE_LONGITUDE = 132.71
MAXIMUM_RESOLUTION = 0.0484
FOOTPRINT_POINT_LATITUDE = (-85.5569,-85.7603,-86.0321,-86.3295, -86.3364,-86.4085,-86.1896,-86.0704, -85.8861,-85.6965,-85.4991,-85.2299, -84.9509,-84.8081,-84.6624,-84.4363, -84.2838,-84.0529,-83.8981,-83.6638, -83.5067,-83.3492,-83.1903,-83.0303, -82.8698,-82.7086,-82.5471,-82.3852, -82.1414,-81.9787,-81.8152,-81.6511, -81.4869,-81.3229,-81.1606,-80.9964, -80.8305,-80.6643,-80.4982,-80.3324, -80.1667,-80.0012,-79.8286,-79.6559, -79.4018,-79.1446,-78.9726,-78.7984, -78.7096,-78.6827,-78.6062,-78.5298, -78.4421,-78.3894,-78.3862,-78.3858, -78.5539,-78.72,-78.8879,-79.1397, -79.3074,-79.4749,-79.6421,-79.8039, -80.0446,-80.2047,-80.3646,-80.5238, -80.6821,-80.8402,-81.0774,-81.2347, -81.3908,-81.5466,-81.7019,-81.8565, -82.0104,-82.1637,-82.3161,-82.4676, -82.6181,-82.7677,-82.9894,-83.1357, -83.2807,-83.4244,-83.5665,-83.7074, -83.8467,-83.9839,-84.2486,-84.4362, -84.6187,-84.7947,-85.0173,-85.2284, -85.4249,-85.5167,-85.5609,-85.5569)
FOOTPRINT_POINT_LONGITUDE = (84.025,85.7595,88.4143,91.8873,91.9769 ,91.335,95.2761,97.1018,99.6282,101.922 ,104.025,106.543,108.79,109.823,110.81, 112.226,113.106,114.34,115.11,116.193, 116.87,117.515,118.129,118.716,119.275, 119.81,120.321,120.809,121.504,121.943, 122.364,122.768,123.156,123.53,123.889, 124.235,124.568,124.888,125.197,125.496 ,125.784,126.062,126.34,126.609,126.998 ,127.367,127.602,127.829,127.939, 127.971,126.436,125.067,123.619,122.807 ,122.76,122.743,122.462,122.18,121.881, 121.412,121.086,120.748,120.399,120.049 ,119.506,119.128,118.735,118.331, 117.914,117.482,116.797,116.32,115.829, 115.318,114.786,114.232,113.656,113.056 ,112.431,111.781,111.102,110.395,109.28 ,108.496,107.677,106.821,105.926, 104.985,103.999,102.968,100.773,99.0523 ,97.2078,95.2449,92.469,89.3849,85.9995 ,84.1962,83.2688,84.025)
ORBIT_NUMBER = 4572
ORBITAL_ECCENTRICITY = 0.57
ORBITAL_INCLINATION = 86.69
ORBITAL_SEMIMAJOR_AXIS = 8531.11
PERIAPSIS_ALTITUDE = 294.46
PERIAPSIS_ARGUMENT_ANGLE = 273.32
PERIAPSIS_TIME = 2007-07-26T21:30:08.000Z
SPACECRAFT_ORIENTATION = (0.0,-1.0,0.0)
^MEX_ORIENTATION_DESC = "MEX_ORIENTATION_DESC.TXT"
SPACECRAFT_POINTING_MODE = NADIR
^MEX_POINTING_DESC = "MEX_POINTING_DESC.TXT"
RIGHT_ASCENSION = -1e+32
DECLINATION = -1e+32
OFFSET_ANGLE = -1e+32
SPACECRAFT_SOLAR_DISTANCE = 2.09539e+08
TARGET_NAME = MARS
/* CAMERA DATA ELEMENTS */
DETECTOR_TEMPERATURE = 18.7783
FOCAL_PLANE_TEMPERATURE = 8.7872
INST_CMPRS_NAME = "DISCRETE COSINE TRANSFORMATION (DCT)"
INST_CMPRS_RATIO = 29.1289
INST_CMPRS_QUALITY = 0
INST_CMPRS_QUANTZ_TBL_ID = 0
INSTRUMENT_TEMPERATURE = 11.4379
LENS_TEMPERATURE = 8.7872
MACROPIXEL_SIZE = 4
MISSING_FRAMES = 0
PIXEL_SUBSAMPLING_FLAG = N
SIGNAL_CHAIN_ID = 2
/* RADIOMETRIC DATA ELEMENTS */
BANDWIDTH = 48.0
CENTER_FILTER_WAVELENGTH = 748.0
RADIANCE_OFFSET = 1.56278
RADIANCE_SCALING_FACTOR = 0.00300534
REFLECTANCE_SCALING_FACTOR = 0.000301128
MEX:REFLECTANCE_OFFSET = 0.156587
/* IMAGE OBJECT DEFINITIONS */
OBJECT = IMAGE
  INTERCHANGE_FORMAT = BINARY
  LINES = 9516
  LINE_SAMPLES = 5944
  SAMPLE_TYPE = UNSIGNED_INTEGER
  SAMPLE_BITS = 8
  BANDS = 1
  BAND_STORAGE_TYPE = BAND_SEQUENTIAL
  MAXIMUM = 255
  MEAN = 98.0391
  MINIMUM = 1
  STANDARD_DEVIATION = 41.3298
END_OBJECT = IMAGE
/* MAP OBJECT DEFINITIONS */
OBJECT = IMAGE_MAP_PROJECTION
  ^DATA_SET_MAP_PROJECTION_CATALOG= "DSMAP.CAT"
  A_AXIS_RADIUS = 3396.0
  B_AXIS_RADIUS = 3396.0
  C_AXIS_RADIUS = 3396.0
  CENTER_LATITUDE = 0.0
  CENTER_LONGITUDE = 115.0
  COORDINATE_SYSTEM_NAME = PLANETOGRAPHIC
  COORDINATE_SYSTEM_TYPE = "BODY-FIXED ROTATING"
  EASTERNMOST_LONGITUDE = 127.971
  FIRST_STANDARD_PARALLEL = "N/A"
  LINE_FIRST_PIXEL = 1
  LINE_LAST_PIXEL = 9516
  LINE_PROJECTION_OFFSET = -92930.375
  MAP_PROJECTION_ROTATION = 0.0
  MAP_PROJECTION_TYPE = SINUSOIDAL
  MAP_RESOLUTION = 1185.42760773333
  MAP_SCALE = 0.05
  MAXIMUM_LATITUDE = -78.3858
  MINIMUM_LATITUDE = -86.4085
  POSITIVE_LONGITUDE_DIRECTION = EAST
  REFERENCE_LATITUDE = "N/A"
  REFERENCE_LONGITUDE = "N/A"
  SAMPLE_FIRST_PIXEL = 1
  SAMPLE_LAST_PIXEL = 5944
  SAMPLE_PROJECTION_OFFSET = 2942.875
  SECOND_STANDARD_PARALLEL = "N/A"
  WESTERNMOST_LONGITUDE = 83.2688
END_OBJECT = IMAGE_MAP_PROJECTION
END
