PDS_VERSION_ID = PDS3
/* FILE DATA ELEMENTS */
RECORD_TYPE = UNDEFINED
/* POINTERS TO DATA OBJECTS */
^IMAGE = ("H4571_0000_S14.TIF")
/* IDENTIFICATION DATA ELEMENTS */
DATA_SET_ID = "MEX-M-HRSC-4-REFDR-MAPPROJECT-EXT1-V4.0"
DATA_SET_NAME = "MARS EXPRESS HRSC MAP PROJECTED REFDR EXTENSION1 V4.0"
DETECTOR_ID = MEX_HRSC_S1
EVENT_TYPE = "MARS-LOCAL-VARIABLE-Gl-Eo-La"
INSTRUMENT_HOST_ID = MEX
INSTRUMENT_HOST_NAME = "MARS EXPRESS"
INSTRUMENT_ID = HRSC
INSTRUMENT_NAME = "HIGH RESOLUTION STEREO CAMERA"
MISSION_NAME = "MARS EXPRESS"
MISSION_PHASE_NAME = ME_Phase_8
PROCESSING_LEVEL_ID = 4
PRODUCT_CREATION_TIME = 2023-02-11T00:15:54.000Z
PRODUCT_ID = "H4571_0000_S14.TIF"
RELEASE_ID = 0007
REVISION_ID = 0000
/* QUALITY DATA ELEMENTS */
DATA_QUALITY_ID = 1
DATA_QUALITY_DESC = "Data calculated based on original SPICE kernels"
/* TIME DATA ELEMENTS */
SPACECRAFT_CLOCK_START_COUNT = "1/0133541124.08241"
SPACECRAFT_CLOCK_STOP_COUNT = "1/0133541285.50007"
START_TIME = 2007-07-26T14:45:28.140Z
STOP_TIME = 2007-07-26T14:47:15.896Z
/* ORBITAL DATA ELEMENTS */
ASCENDING_NODE_LONGITUDE = 132.73
MAXIMUM_RESOLUTION = 0.0245
FOOTPRINT_POINT_LATITUDE = (-86.1579,-86.3912,-86.5403,-86.7912, -87.1061,-87.1153,-87.1642,-87.1901, -87.2087,-87.22,-87.2238,-87.2155, -87.19,-87.1638,-87.1112,-87.0176, -86.931,-86.8656,-86.7956,-86.7202, -86.6423,-86.5199,-86.4335,-86.3435, -86.2506,-86.0567,-85.9557,-85.8522, -85.6928,-85.5296,-85.3623,-85.2486, -85.1331,-85.0163,-84.8987,-84.7198, -84.5992,-84.4774,-84.3544,-84.2307, -84.0442,-83.9189,-83.7926,-83.6656, -83.538,-83.3453,-83.2161,-83.0863, -82.9561,-82.8908,-82.8628,-82.7807, -82.672,-82.4997,-82.4178,-82.4129, -82.4115,-82.6558,-82.8372,-82.9572, -83.0762,-83.253,-83.3698,-83.4854, -83.5999,-83.7133,-83.8254,-83.9362, -84.0998,-84.2601,-84.365,-84.4685, -84.5701,-84.6699,-84.7676,-84.9104, -85.003,-85.0931,-85.2656,-85.4269, -85.5749,-85.6455,-85.7745,-85.8333, -85.89,-85.9436,-85.9928,-86.0359, -86.0739,-86.1214,-86.1464,-86.1658, -86.1845,-86.1903,-86.1909,-86.1862, -86.1758,-86.1601,-86.1502,-86.1579)
FOOTPRINT_POINT_LONGITUDE = (140.794,140.11,139.627,138.715,137.351 ,137.307,138.89,141.773,144.706,147.672 ,150.663,155.155,159.581,162.487, 166.733,172.068,175.857,178.319,180.603 ,182.814,184.848,187.69,189.486,191.199 ,192.824,195.826,197.222,198.557, 200.435,202.168,203.782,204.797,205.769 ,206.695,207.572,208.817,209.602, 210.354,211.076,211.765,212.739,213.355 ,213.949,214.519,215.067,215.85,216.347 ,216.826,217.287,217.511,217.606, 216.093,214.269,211.703,210.594,210.53, 210.505,209.411,208.541,207.936,207.309 ,206.329,205.646,204.939,204.206, 203.447,202.66,201.844,200.563,199.211, 198.266,197.286,196.268,195.213,194.117 ,192.397,191.196,189.95,187.322,184.506 ,181.507,179.916,176.601,174.847, 173.002,171.084,169.11,167.117,165.086, 161.971,159.861,157.735,154.525,152.373 ,150.2,148.025,145.863,143.714,142.652, 140.794)
ORBIT_NUMBER = 4571
ORBITAL_ECCENTRICITY = 0.57
ORBITAL_INCLINATION = 86.7
ORBITAL_SEMIMAJOR_AXIS = 8529.78
PERIAPSIS_ALTITUDE = 293.26
PERIAPSIS_ARGUMENT_ANGLE = 273.49
PERIAPSIS_TIME = 2007-07-26T14:46:55.000Z
SPACECRAFT_ORIENTATION = (0.0,-1.0,0.0)
^MEX_ORIENTATION_DESC = "MEX_ORIENTATION_DESC.TXT"
SPACECRAFT_POINTING_MODE = NADIR
^MEX_POINTING_DESC = "MEX_POINTING_DESC.TXT"
RIGHT_ASCENSION = -1e+32
DECLINATION = -1e+32
OFFSET_ANGLE = -1e+32
SPACECRAFT_SOLAR_DISTANCE = 2.09509e+08
TARGET_NAME = MARS
/* CAMERA DATA ELEMENTS */
DETECTOR_TEMPERATURE = 17.351
FOCAL_PLANE_TEMPERATURE = 8.5833
INST_CMPRS_NAME = "DISCRETE COSINE TRANSFORMATION (DCT)"
INST_CMPRS_RATIO = 11.8523
INST_CMPRS_QUALITY = 0
INST_CMPRS_QUANTZ_TBL_ID = 0
INSTRUMENT_TEMPERATURE = 11.234
LENS_TEMPERATURE = 8.7872
MACROPIXEL_SIZE = 2
MISSING_FRAMES = 0
PIXEL_SUBSAMPLING_FLAG = N
SIGNAL_CHAIN_ID = 1
/* RADIOMETRIC DATA ELEMENTS */
BANDWIDTH = 180.0
CENTER_FILTER_WAVELENGTH = 677.0
RADIANCE_OFFSET = 6.47047
RADIANCE_SCALING_FACTOR = 0.00686601
REFLECTANCE_SCALING_FACTOR = 0.000157236
MEX:REFLECTANCE_OFFSET = 0.148178
/* IMAGE OBJECT DEFINITIONS */
OBJECT = IMAGE
  INTERCHANGE_FORMAT = BINARY
  LINES = 10428
  LINE_SAMPLES = 15926
  SAMPLE_TYPE = UNSIGNED_INTEGER
  SAMPLE_BITS = 8
  BANDS = 1
  BAND_STORAGE_TYPE = BAND_SEQUENTIAL
  MAXIMUM = 254
  MEAN = 134.146
  MINIMUM = 1
  STANDARD_DEVIATION = 45.9159
END_OBJECT = IMAGE
/* MAP OBJECT DEFINITIONS */
OBJECT = IMAGE_MAP_PROJECTION
  ^DATA_SET_MAP_PROJECTION_CATALOG= "DSMAP.CAT"
  A_AXIS_RADIUS = 3396.0
  B_AXIS_RADIUS = 3396.0
  C_AXIS_RADIUS = 3396.0
  CENTER_LATITUDE = -90.0
  CENTER_LONGITUDE = 0.0
  COORDINATE_SYSTEM_NAME = PLANETOGRAPHIC
  COORDINATE_SYSTEM_TYPE = "BODY-FIXED ROTATING"
  EASTERNMOST_LONGITUDE = 217.606
  FIRST_STANDARD_PARALLEL = "N/A"
  LINE_FIRST_PIXEL = 1
  LINE_LAST_PIXEL = 10428
  LINE_PROJECTION_OFFSET = -5129.25
  MAP_PROJECTION_ROTATION = 0.0
  MAP_PROJECTION_TYPE = STEREOGRAPHIC
  MAP_RESOLUTION = 2370.85521546667
  MAP_SCALE = 0.025
  MAXIMUM_LATITUDE = -82.4115
  MINIMUM_LATITUDE = -87.2238
  POSITIVE_LONGITUDE_DIRECTION = EAST
  REFERENCE_LATITUDE = "N/A"
  REFERENCE_LONGITUDE = "N/A"
  SAMPLE_FIRST_PIXEL = 1
  SAMPLE_LAST_PIXEL = 15926
  SAMPLE_PROJECTION_OFFSET = 10387.25
  SECOND_STANDARD_PARALLEL = "N/A"
  WESTERNMOST_LONGITUDE = 137.307
END_OBJECT = IMAGE_MAP_PROJECTION
END
