PDS_VERSION_ID = PDS3
/* FILE DATA ELEMENTS */
RECORD_TYPE = UNDEFINED
/* POINTERS TO DATA OBJECTS */
^IMAGE = ("H4561_0000_P24.TIF")
/* IDENTIFICATION DATA ELEMENTS */
DATA_SET_ID = "MEX-M-HRSC-4-REFDR-MAPPROJECT-EXT1-V4.0"
DATA_SET_NAME = "MARS EXPRESS HRSC MAP PROJECTED REFDR EXTENSION1 V4.0"
DETECTOR_ID = MEX_HRSC_P2
EVENT_TYPE = "MARS-REGIONAL-MAPPING-Im-Gl-La"
INSTRUMENT_HOST_ID = MEX
INSTRUMENT_HOST_NAME = "MARS EXPRESS"
INSTRUMENT_ID = HRSC
INSTRUMENT_NAME = "HIGH RESOLUTION STEREO CAMERA"
MISSION_NAME = "MARS EXPRESS"
MISSION_PHASE_NAME = ME_Phase_8
PROCESSING_LEVEL_ID = 4
PRODUCT_CREATION_TIME = 2023-02-11T00:15:54.000Z
PRODUCT_ID = "H4561_0000_P24.TIF"
RELEASE_ID = 0007
REVISION_ID = 0000
/* QUALITY DATA ELEMENTS */
DATA_QUALITY_ID = 1
DATA_QUALITY_DESC = "Data calculated based on original SPICE kernels"
/* TIME DATA ELEMENTS */
SPACECRAFT_CLOCK_START_COUNT = "1/0133299334.09094"
SPACECRAFT_CLOCK_STOP_COUNT = "1/0133299527.55866"
START_TIME = 2007-07-23T19:36:21.548Z
STOP_TIME = 2007-07-23T19:38:39.049Z
/* ORBITAL DATA ELEMENTS */
ASCENDING_NODE_LONGITUDE = 132.93
MAXIMUM_RESOLUTION = 0.0244
FOOTPRINT_POINT_LATITUDE = (-79.6086,-79.7201,-79.7756,-79.8652, -79.9165,-79.9191,-79.9886,-79.8233, -79.6578,-79.4144,-79.1658,-78.9159, -78.7494,-78.4148,-78.0837,-77.7461, -77.5742,-77.4013,-77.2279,-77.0578, -76.8852,-76.7129,-76.5403,-76.368, -76.1958,-76.0234,-75.8498,-75.5888, -75.4161,-75.2434,-75.0707,-74.8047, -74.6263,-74.4492,-74.2714,-74.0922, -73.9142,-73.6478,-73.4699,-73.2928, -73.1181,-72.8517,-72.5795,-72.3959, -72.2116,-71.9342,-71.7522,-71.5713, -71.3887,-71.2974,-71.274,-71.2438, -71.2039,-71.1736,-71.0931,-71.091, -71.0906,-71.3623,-71.5435,-71.7247, -71.905,-72.0844,-72.2668,-72.5391, -72.7189,-72.8954,-73.0713,-73.2474, -73.4232,-73.5991,-73.8628,-74.0386, -74.2144,-74.3903,-74.5664,-74.8287, -74.9986,-75.2527,-75.4229,-75.5929, -75.7627,-76.0172,-76.1867,-76.3562, -76.5259,-76.7799,-76.9481,-77.1169, -77.3691,-77.6181,-77.8633,-78.1877, -78.43,-78.7515,-79.0735,-79.2344, -79.395,-79.5553,-79.6353,-79.6086)
FOOTPRINT_POINT_LONGITUDE = (121.286,122.988,123.902,125.492,126.48 ,126.532,126.58,126.855,127.121,127.507 ,127.872,128.22,128.443,128.869,129.272 ,129.648,129.836,130.019,130.197, 130.372,130.54,130.704,130.863,131.019, 131.17,131.318,131.46,131.667,131.802, 131.933,132.061,132.251,132.376,132.499 ,132.618,132.733,132.846,133.012, 133.119,133.224,133.328,133.478,133.629 ,133.725,133.819,133.955,134.045, 134.133,134.219,134.261,134.272,133.572 ,132.732,132.139,130.711,130.676, 130.664,130.506,130.397,130.287,130.176 ,130.065,129.944,129.761,129.637,129.51 ,129.382,129.25,129.116,128.979,128.767 ,128.622,128.473,128.32,128.163,127.921 ,127.76,127.512,127.338,127.161,126.98, 126.699,126.506,126.308,126.103,125.786 ,125.572,125.349,125.005,124.642, 124.269,123.755,123.353,122.792,122.189 ,121.871,121.544,121.205,121.032, 121.286)
ORBIT_NUMBER = 4561
ORBITAL_ECCENTRICITY = 0.57
ORBITAL_INCLINATION = 86.69
ORBITAL_SEMIMAJOR_AXIS = 8531.65
PERIAPSIS_ALTITUDE = 294.25
PERIAPSIS_ARGUMENT_ANGLE = 275.23
PERIAPSIS_TIME = 2007-07-23T19:34:59.000Z
SPACECRAFT_ORIENTATION = (0.0,-1.0,0.0)
^MEX_ORIENTATION_DESC = "MEX_ORIENTATION_DESC.TXT"
SPACECRAFT_POINTING_MODE = ACROSSTRACK
^MEX_POINTING_DESC = "MEX_POINTING_DESC.TXT"
RIGHT_ASCENSION = -1e+32
DECLINATION = -1e+32
OFFSET_ANGLE = 0.08
SPACECRAFT_SOLAR_DISTANCE = 2.0922e+08
TARGET_NAME = MARS
/* CAMERA DATA ELEMENTS */
DETECTOR_TEMPERATURE = 18.7783
FOCAL_PLANE_TEMPERATURE = 8.7872
INST_CMPRS_NAME = "DISCRETE COSINE TRANSFORMATION (DCT)"
INST_CMPRS_RATIO = 7.70456
INST_CMPRS_QUALITY = 0
INST_CMPRS_QUANTZ_TBL_ID = 0
INSTRUMENT_TEMPERATURE = 11.4379
LENS_TEMPERATURE = 8.9911
MACROPIXEL_SIZE = 2
MISSING_FRAMES = 0
PIXEL_SUBSAMPLING_FLAG = N
SIGNAL_CHAIN_ID = 3
/* RADIOMETRIC DATA ELEMENTS */
BANDWIDTH = 177.0
CENTER_FILTER_WAVELENGTH = 676.5
RADIANCE_OFFSET = 6.4552
RADIANCE_SCALING_FACTOR = 0.0142682
REFLECTANCE_SCALING_FACTOR = 0.000331155
MEX:REFLECTANCE_OFFSET = 0.149821
/* IMAGE OBJECT DEFINITIONS */
OBJECT = IMAGE
  INTERCHANGE_FORMAT = BINARY
  LINES = 21118
  LINE_SAMPLES = 7374
  SAMPLE_TYPE = UNSIGNED_INTEGER
  SAMPLE_BITS = 8
  BANDS = 1
  BAND_STORAGE_TYPE = BAND_SEQUENTIAL
  MAXIMUM = 254
  MEAN = 154.368
  MINIMUM = 1
  STANDARD_DEVIATION = 41.1142
END_OBJECT = IMAGE
/* MAP OBJECT DEFINITIONS */
OBJECT = IMAGE_MAP_PROJECTION
  ^DATA_SET_MAP_PROJECTION_CATALOG= "DSMAP.CAT"
  A_AXIS_RADIUS = 3396.0
  B_AXIS_RADIUS = 3396.0
  C_AXIS_RADIUS = 3396.0
  CENTER_LATITUDE = 0.0
  CENTER_LONGITUDE = 129.0
  COORDINATE_SYSTEM_NAME = PLANETOGRAPHIC
  COORDINATE_SYSTEM_TYPE = "BODY-FIXED ROTATING"
  EASTERNMOST_LONGITUDE = 134.272
  FIRST_STANDARD_PARALLEL = "N/A"
  LINE_FIRST_PIXEL = 1
  LINE_LAST_PIXEL = 21118
  LINE_PROJECTION_OFFSET = -168557.25
  MAP_PROJECTION_ROTATION = 0.0
  MAP_PROJECTION_TYPE = SINUSOIDAL
  MAP_RESOLUTION = 2370.85521546667
  MAP_SCALE = 0.025
  MAXIMUM_LATITUDE = -71.09059999999999
  MINIMUM_LATITUDE = -79.98860000000001
  POSITIVE_LONGITUDE_DIRECTION = EAST
  REFERENCE_LATITUDE = "N/A"
  REFERENCE_LONGITUDE = "N/A"
  SAMPLE_FIRST_PIXEL = 1
  SAMPLE_LAST_PIXEL = 7374
  SAMPLE_PROJECTION_OFFSET = 3407.75
  SECOND_STANDARD_PARALLEL = "N/A"
  WESTERNMOST_LONGITUDE = 121.032
END_OBJECT = IMAGE_MAP_PROJECTION
END
