PDS_VERSION_ID = PDS3
/* FILE DATA ELEMENTS */
RECORD_TYPE = UNDEFINED
/* POINTERS TO DATA OBJECTS */
^IMAGE = ("H4558_0000_ND4.TIF")
/* IDENTIFICATION DATA ELEMENTS */
DATA_SET_ID = "MEX-M-HRSC-4-REFDR-MAPPROJECT-EXT1-V4.0"
DATA_SET_NAME = "MARS EXPRESS HRSC MAP PROJECTED REFDR EXTENSION1 V4.0"
DETECTOR_ID = MEX_HRSC_NADIR
EVENT_TYPE = "MARS-REGIONAL-MAPPING-Im-Gl-Eo"
INSTRUMENT_HOST_ID = MEX
INSTRUMENT_HOST_NAME = "MARS EXPRESS"
INSTRUMENT_ID = HRSC
INSTRUMENT_NAME = "HIGH RESOLUTION STEREO CAMERA"
MISSION_NAME = "MARS EXPRESS"
MISSION_PHASE_NAME = ME_Phase_8
PROCESSING_LEVEL_ID = 4
PRODUCT_CREATION_TIME = 2023-02-11T00:15:54.000Z
PRODUCT_ID = "H4558_0000_ND4.TIF"
RELEASE_ID = 0007
REVISION_ID = 0000
/* QUALITY DATA ELEMENTS */
DATA_QUALITY_ID = 1
DATA_QUALITY_DESC = "Data calculated based on original SPICE kernels"
/* TIME DATA ELEMENTS */
SPACECRAFT_CLOCK_START_COUNT = "1/0133226768.08271"
SPACECRAFT_CLOCK_STOP_COUNT = "1/0133226962.09281"
START_TIME = 2007-07-22T23:26:38.175Z
STOP_TIME = 2007-07-22T23:28:53.147Z
/* ORBITAL DATA ELEMENTS */
ASCENDING_NODE_LONGITUDE = 132.98
MAXIMUM_RESOLUTION = 0.0118
FOOTPRINT_POINT_LATITUDE = (-78.9073,-78.9937,-79.0732,-79.1541, -79.1562,-79.1702,-78.9166,-78.7474, -78.5782,-78.4088,-78.2394,-78.07, -77.9004,-77.7308,-77.3914,-77.051, -76.7116,-76.3722,-76.0326,-75.8568, -75.6804,-75.5047,-75.3287,-75.1525, -74.9764,-74.8002,-74.6242,-74.448, -74.2713,-74.0955,-73.9196,-73.7436, -73.5677,-73.392,-73.2161,-73.0343, -72.8523,-72.6704,-72.4884,-72.3065, -72.1246,-71.9428,-71.7611,-71.5795, -71.398,-71.2164,-71.0349,-70.8479, -70.6603,-70.4727,-70.379,-70.3637, -70.3452,-70.3217,-70.2886,-70.2622, -70.217,-70.2153,-70.2146,-70.4008, -70.587,-70.8662,-71.0463,-71.2264, -71.4066,-71.5869,-71.7671,-71.9474, -72.1277,-72.308,-72.4884,-72.6688, -72.8491,-73.1168,-73.2909,-73.4651, -73.6392,-73.8134,-73.9875,-74.1616, -74.3357,-74.5098,-74.6838,-74.8578, -75.0317,-75.2057,-75.3795,-75.5533, -75.727,-75.9813,-76.3159,-76.6502, -76.9841,-77.3176,-77.7337,-78.066, -78.3976,-78.811,-78.8936,-78.9073)
FOOTPRINT_POINT_LONGITUDE = (60.2826,61.8086,63.3769,65.1925, 65.2437,65.5572,65.8413,66.0235,66.2009 ,66.3715,66.5373,66.6999,66.8546, 67.0064,67.2973,67.5501,67.8152,68.0699 ,68.3056,68.4186,68.527,68.6486,68.7607 ,68.8668,68.9706,69.0697,69.1693, 69.2626,69.3438,69.4406,69.5309,69.6189 ,69.7066,69.7936,69.8758,69.9582, 70.0398,70.1217,70.1983,70.2757,70.3491 ,70.4203,70.492,70.5644,70.6346,70.7004 ,70.7646,70.8302,70.8942,70.9561, 70.9885,70.9944,70.4782,69.8729,69.1018 ,68.5365,67.6496,67.617,67.6008,67.5187 ,67.4348,67.305,67.2189,67.1309,67.041, 66.9491,66.8549,66.7592,66.6608,66.5595 ,66.4563,66.3508,66.243,66.0778,65.9673 ,65.8534,65.7371,65.6181,65.4963, 65.3708,65.243,65.112,64.9777,64.8399, 64.6982,64.5532,64.4043,64.2517,64.0963 ,63.8591,63.5318,63.1872,62.8238, 62.4394,61.926,61.489,61.0257,60.4063, 60.2766,60.2826)
ORBIT_NUMBER = 4558
ORBITAL_ECCENTRICITY = 0.57
ORBITAL_INCLINATION = 86.7
ORBITAL_SEMIMAJOR_AXIS = 8530.68
PERIAPSIS_ALTITUDE = 293.03
PERIAPSIS_ARGUMENT_ANGLE = 275.75
PERIAPSIS_TIME = 2007-07-22T23:25:26.000Z
SPACECRAFT_ORIENTATION = (0.0,-1.0,0.0)
^MEX_ORIENTATION_DESC = "MEX_ORIENTATION_DESC.TXT"
SPACECRAFT_POINTING_MODE = ACROSSTRACK
^MEX_POINTING_DESC = "MEX_POINTING_DESC.TXT"
RIGHT_ASCENSION = -1e+32
DECLINATION = -1e+32
OFFSET_ANGLE = -0.4
SPACECRAFT_SOLAR_DISTANCE = 2.09136e+08
TARGET_NAME = MARS
/* CAMERA DATA ELEMENTS */
DETECTOR_TEMPERATURE = 18.5744
FOCAL_PLANE_TEMPERATURE = 8.9911
INST_CMPRS_NAME = "DISCRETE COSINE TRANSFORMATION (DCT)"
INST_CMPRS_RATIO = 7.12262
INST_CMPRS_QUALITY = 0
INST_CMPRS_QUANTZ_TBL_ID = 0
INSTRUMENT_TEMPERATURE = 11.4379
LENS_TEMPERATURE = 9.6028
MACROPIXEL_SIZE = 1
MISSING_FRAMES = 0
PIXEL_SUBSAMPLING_FLAG = N
SIGNAL_CHAIN_ID = 0
/* RADIOMETRIC DATA ELEMENTS */
BANDWIDTH = 177.0
CENTER_FILTER_WAVELENGTH = 677.5
RADIANCE_OFFSET = 6.94483
RADIANCE_SCALING_FACTOR = 0.0101885
REFLECTANCE_SCALING_FACTOR = 0.000236731
MEX:REFLECTANCE_OFFSET = 0.161364
/* IMAGE OBJECT DEFINITIONS */
OBJECT = IMAGE
  INTERCHANGE_FORMAT = BINARY
  LINES = 42467
  LINE_SAMPLES = 12516
  SAMPLE_TYPE = UNSIGNED_INTEGER
  SAMPLE_BITS = 8
  BANDS = 1
  BAND_STORAGE_TYPE = BAND_SEQUENTIAL
  MAXIMUM = 254
  MEAN = 147.243
  MINIMUM = 1
  STANDARD_DEVIATION = 40.7672
END_OBJECT = IMAGE
/* MAP OBJECT DEFINITIONS */
OBJECT = IMAGE_MAP_PROJECTION
  ^DATA_SET_MAP_PROJECTION_CATALOG= "DSMAP.CAT"
  A_AXIS_RADIUS = 3396.0
  B_AXIS_RADIUS = 3396.0
  C_AXIS_RADIUS = 3396.0
  CENTER_LATITUDE = 0.0
  CENTER_LONGITUDE = 67.0
  COORDINATE_SYSTEM_NAME = PLANETOGRAPHIC
  COORDINATE_SYSTEM_TYPE = "BODY-FIXED ROTATING"
  EASTERNMOST_LONGITUDE = 70.9944
  FIRST_STANDARD_PARALLEL = "N/A"
  LINE_FIRST_PIXEL = 1
  LINE_LAST_PIXEL = 42467
  LINE_PROJECTION_OFFSET = -332938.0
  MAP_PROJECTION_ROTATION = 0.0
  MAP_PROJECTION_TYPE = SINUSOIDAL
  MAP_RESOLUTION = 4741.71043093333
  MAP_SCALE = 0.0125
  MAXIMUM_LATITUDE = -70.2146
  MINIMUM_LATITUDE = -79.17019999999999
  POSITIVE_LONGITUDE_DIRECTION = EAST
  REFERENCE_LATITUDE = "N/A"
  REFERENCE_LONGITUDE = "N/A"
  SAMPLE_FIRST_PIXEL = 1
  SAMPLE_LAST_PIXEL = 12516
  SAMPLE_PROJECTION_OFFSET = 6153.0
  SECOND_STANDARD_PARALLEL = "N/A"
  WESTERNMOST_LONGITUDE = 60.2766
END_OBJECT = IMAGE_MAP_PROJECTION
END
