PDS_VERSION_ID = PDS3
/* FILE DATA ELEMENTS */
RECORD_TYPE = UNDEFINED
/* POINTERS TO DATA OBJECTS */
^IMAGE = ("H4552_0000_P24.TIF")
/* IDENTIFICATION DATA ELEMENTS */
DATA_SET_ID = "MEX-M-HRSC-4-REFDR-MAPPROJECT-EXT1-V4.0"
DATA_SET_NAME = "MARS EXPRESS HRSC MAP PROJECTED REFDR EXTENSION1 V4.0"
DETECTOR_ID = MEX_HRSC_P2
EVENT_TYPE = "MARS-REGIONAL-MAPPING-Gl-Pf-La"
INSTRUMENT_HOST_ID = MEX
INSTRUMENT_HOST_NAME = "MARS EXPRESS"
INSTRUMENT_ID = HRSC
INSTRUMENT_NAME = "HIGH RESOLUTION STEREO CAMERA"
MISSION_NAME = "MARS EXPRESS"
MISSION_PHASE_NAME = ME_Phase_8
PROCESSING_LEVEL_ID = 4
PRODUCT_CREATION_TIME = 2023-02-11T00:15:54.000Z
PRODUCT_ID = "H4552_0000_P24.TIF"
RELEASE_ID = 0007
REVISION_ID = 0000
/* QUALITY DATA ELEMENTS */
DATA_QUALITY_ID = 1
DATA_QUALITY_DESC = "Data calculated based on original SPICE kernels"
/* TIME DATA ELEMENTS */
SPACECRAFT_CLOCK_START_COUNT = "1/0133081538.09062"
SPACECRAFT_CLOCK_STOP_COUNT = "1/0133081704.23897"
START_TIME = 2007-07-21T07:06:26.110Z
STOP_TIME = 2007-07-21T07:08:16.848Z
/* ORBITAL DATA ELEMENTS */
ASCENDING_NODE_LONGITUDE = 133.11
MAXIMUM_RESOLUTION = 0.0481
FOOTPRINT_POINT_LATITUDE = (-83.0404,-83.1028,-83.1637,-83.2229, -83.2804,-83.3358,-83.4211,-83.4243, -83.5141,-83.3731,-83.1616,-82.8793, -82.7375,-82.5243,-82.312,-82.1705, -82.027,-81.8126,-81.598,-81.455, -81.2437,-81.1012,-80.9574,-80.6754, -80.533,-80.3886,-80.2447,-79.8896, -79.6739,-79.5296,-79.3857,-79.1697, -79.0234,-78.8807,-78.5979,-78.3765, -78.2288,-78.0808,-77.9288,-77.7817, -77.6362,-77.4862,-77.3371,-77.1898, -76.9687,-76.8202,-76.6756,-76.5282, -76.3778,-76.3041,-76.3026,-76.2679, -76.2327,-76.2027,-76.1445,-76.0824, -76.0801,-76.0801,-76.2268,-76.4464, -76.5935,-76.7384,-76.9556,-77.1001, -77.2455,-77.3912,-77.538,-77.7561, -77.9043,-78.1237,-78.3415,-78.6235, -78.7654,-79.0455,-79.1855,-79.3259, -79.4658,-79.6058,-79.7459,-80.0231, -80.163,-80.3727,-80.5131,-80.7898, -80.9294,-81.0681,-81.3394,-81.4787, -81.6189,-81.7579,-81.8942,-82.0961, -82.2324,-82.4368,-82.5725,-82.7079, -82.8429,-83.0445,-83.1116,-83.0404)
FOOTPRINT_POINT_LONGITUDE = (284.25,285.331,286.446,287.598,288.787 ,290.013,292.094,292.177,292.828, 293.153,293.618,294.196,294.465,294.846 ,295.214,295.449,295.663,295.976, 296.272,296.462,296.755,296.933,297.097 ,297.444,297.601,297.742,297.883, 298.241,298.429,298.547,298.664,298.832 ,298.929,299.041,299.271,299.432, 299.537,299.637,299.714,299.813,299.917 ,299.997,300.08,300.168,300.296,300.373 ,300.466,300.544,300.607,300.644, 300.645,299.791,298.997,298.35,297.21, 296.107,296.067,296.053,295.94,295.765, 295.645,295.521,295.328,295.195,295.06, 294.921,294.781,294.561,294.412,294.179 ,293.935,293.608,293.439,293.084, 292.899,292.709,292.514,292.313,292.106 ,291.672,291.447,291.096,290.854, 290.343,290.077,289.801,289.217,288.914 ,288.601,288.277,287.939,287.408,287.04 ,286.462,286.058,285.639,285.204, 284.519,284.281,284.25)
ORBIT_NUMBER = 4552
ORBITAL_ECCENTRICITY = 0.57
ORBITAL_INCLINATION = 86.69
ORBITAL_SEMIMAJOR_AXIS = 8530.86
PERIAPSIS_ALTITUDE = 293.73
PERIAPSIS_ARGUMENT_ANGLE = 276.8
PERIAPSIS_TIME = 2007-07-21T07:06:16.000Z
SPACECRAFT_ORIENTATION = (0.0,-1.0,0.0)
^MEX_ORIENTATION_DESC = "MEX_ORIENTATION_DESC.TXT"
SPACECRAFT_POINTING_MODE = ACROSSTRACK
^MEX_POINTING_DESC = "MEX_POINTING_DESC.TXT"
RIGHT_ASCENSION = -1e+32
DECLINATION = -1e+32
OFFSET_ANGLE = -1.0
SPACECRAFT_SOLAR_DISTANCE = 2.08972e+08
TARGET_NAME = MARS
/* CAMERA DATA ELEMENTS */
DETECTOR_TEMPERATURE = 18.7783
FOCAL_PLANE_TEMPERATURE = 10.0106
INST_CMPRS_NAME = "DISCRETE COSINE TRANSFORMATION (DCT)"
INST_CMPRS_RATIO = 30.7023
INST_CMPRS_QUALITY = 0
INST_CMPRS_QUANTZ_TBL_ID = 0
INSTRUMENT_TEMPERATURE = 11.234
LENS_TEMPERATURE = 8.9911
MACROPIXEL_SIZE = 4
MISSING_FRAMES = 0
PIXEL_SUBSAMPLING_FLAG = N
SIGNAL_CHAIN_ID = 3
/* RADIOMETRIC DATA ELEMENTS */
BANDWIDTH = 177.0
CENTER_FILTER_WAVELENGTH = 676.5
RADIANCE_OFFSET = 7.23058
RADIANCE_SCALING_FACTOR = 0.00530119
REFLECTANCE_SCALING_FACTOR = 0.000122746
MEX:REFLECTANCE_OFFSET = 0.16742
/* IMAGE OBJECT DEFINITIONS */
OBJECT = IMAGE
  INTERCHANGE_FORMAT = BINARY
  LINES = 8760
  LINE_SAMPLES = 3119
  SAMPLE_TYPE = UNSIGNED_INTEGER
  SAMPLE_BITS = 8
  BANDS = 1
  BAND_STORAGE_TYPE = BAND_SEQUENTIAL
  MAXIMUM = 255
  MEAN = 202.13
  MINIMUM = 1
  STANDARD_DEVIATION = 50.0087
END_OBJECT = IMAGE
/* MAP OBJECT DEFINITIONS */
OBJECT = IMAGE_MAP_PROJECTION
  ^DATA_SET_MAP_PROJECTION_CATALOG= "DSMAP.CAT"
  A_AXIS_RADIUS = 3396.0
  B_AXIS_RADIUS = 3396.0
  C_AXIS_RADIUS = 3396.0
  CENTER_LATITUDE = 0.0
  CENTER_LONGITUDE = 295.0
  COORDINATE_SYSTEM_NAME = PLANETOGRAPHIC
  COORDINATE_SYSTEM_TYPE = "BODY-FIXED ROTATING"
  EASTERNMOST_LONGITUDE = 300.645
  FIRST_STANDARD_PARALLEL = "N/A"
  LINE_FIRST_PIXEL = 1
  LINE_LAST_PIXEL = 8760
  LINE_PROJECTION_OFFSET = -90232.875
  MAP_PROJECTION_ROTATION = 0.0
  MAP_PROJECTION_TYPE = SINUSOIDAL
  MAP_RESOLUTION = 1185.42760773333
  MAP_SCALE = 0.05
  MAXIMUM_LATITUDE = -76.0801
  MINIMUM_LATITUDE = -83.5141
  POSITIVE_LONGITUDE_DIRECTION = EAST
  REFERENCE_LATITUDE = "N/A"
  REFERENCE_LONGITUDE = "N/A"
  SAMPLE_FIRST_PIXEL = 1
  SAMPLE_LAST_PIXEL = 3119
  SAMPLE_PROJECTION_OFFSET = 1539.375
  SECOND_STANDARD_PARALLEL = "N/A"
  WESTERNMOST_LONGITUDE = 284.25
END_OBJECT = IMAGE_MAP_PROJECTION
END
