PDS_VERSION_ID = PDS3
/* FILE DATA ELEMENTS */
RECORD_TYPE = UNDEFINED
/* POINTERS TO DATA OBJECTS */
^IMAGE = ("H4552_0000_P14.TIF")
/* IDENTIFICATION DATA ELEMENTS */
DATA_SET_ID = "MEX-M-HRSC-4-REFDR-MAPPROJECT-EXT1-V4.0"
DATA_SET_NAME = "MARS EXPRESS HRSC MAP PROJECTED REFDR EXTENSION1 V4.0"
DETECTOR_ID = MEX_HRSC_P1
EVENT_TYPE = "MARS-REGIONAL-MAPPING-Gl-Pf-La"
INSTRUMENT_HOST_ID = MEX
INSTRUMENT_HOST_NAME = "MARS EXPRESS"
INSTRUMENT_ID = HRSC
INSTRUMENT_NAME = "HIGH RESOLUTION STEREO CAMERA"
MISSION_NAME = "MARS EXPRESS"
MISSION_PHASE_NAME = ME_Phase_8
PROCESSING_LEVEL_ID = 4
PRODUCT_CREATION_TIME = 2023-02-11T00:15:54.000Z
PRODUCT_ID = "H4552_0000_P14.TIF"
RELEASE_ID = 0007
REVISION_ID = 0000
/* QUALITY DATA ELEMENTS */
DATA_QUALITY_ID = 1
DATA_QUALITY_DESC = "Data calculated based on original SPICE kernels"
/* TIME DATA ELEMENTS */
SPACECRAFT_CLOCK_START_COUNT = "1/0133081538.09062"
SPACECRAFT_CLOCK_STOP_COUNT = "1/0133081704.23897"
START_TIME = 2007-07-21T07:05:51.363Z
STOP_TIME = 2007-07-21T07:07:40.938Z
/* ORBITAL DATA ELEMENTS */
ASCENDING_NODE_LONGITUDE = 133.11
MAXIMUM_RESOLUTION = 0.0479
FOOTPRINT_POINT_LATITUDE = (-83.2335,-83.3338,-83.3807,-83.4251, -83.4669,-83.5286,-83.5309,-83.492, -83.2801,-83.1384,-82.9954,-82.7831, -82.641,-82.4269,-82.2841,-82.1409, -81.8558,-81.6412,-81.4978,-81.3535, -81.2092,-80.9934,-80.849,-80.7033, -80.5589,-80.2713,-80.0541,-79.9089, -79.7643,-79.6204,-79.476,-79.332, -79.1871,-78.8998,-78.7527,-78.607, -78.3887,-78.2429,-77.954,-77.7353, -77.589,-77.4448,-77.2261,-77.0801, -76.8615,-76.7153,-76.5676,-76.3504, -76.2775,-76.2697,-76.2565,-76.2327, -76.2099,-76.1878,-76.1596,-76.1582, -76.1585,-76.3019,-76.5162,-76.66, -76.8054,-77.022,-77.2382,-77.3819, -77.5244,-77.6667,-77.9515,-78.0952, -78.2372,-78.3818,-78.5249,-78.8063, -78.9485,-79.0907,-79.3034,-79.4451, -79.6571,-79.7984,-79.9405,-80.0827, -80.2929,-80.5717,-80.7123,-80.9214, -81.0607,-81.2015,-81.3426,-81.4807, -81.7534,-81.8917,-82.0311,-82.1684, -82.373,-82.509,-82.6445,-82.7795, -82.9141,-83.1151,-83.1818,-83.2335)
FOOTPRINT_POINT_LONGITUDE = (283.532,285.866,287.087,288.343, 289.634,291.813,291.899,292.861,293.339 ,293.645,293.959,294.355,294.613, 294.993,295.231,295.466,295.88,296.178, 296.371,296.569,296.76,297.02,297.192, 297.375,297.534,297.818,298.036,298.178 ,298.31,298.428,298.548,298.661,298.778 ,298.977,299.106,299.217,299.376, 299.479,299.653,299.795,299.891,299.966 ,300.095,300.179,300.298,300.379, 300.469,300.567,300.603,300.608,299.807 ,298.675,297.785,296.992,296.096, 296.056,296.042,295.929,295.758,295.637 ,295.508,295.313,295.112,294.974, 294.838,294.698,294.406,294.25,294.095, 293.925,293.757,293.425,293.245,293.06, 292.773,292.576,292.269,292.057,291.833 ,291.601,291.255,290.773,290.512, 290.113,289.835,289.537,289.225,288.92, 288.299,287.955,287.587,287.22,286.649, 286.25,285.836,285.407,284.961,284.259, 284.016,283.532)
ORBIT_NUMBER = 4552
ORBITAL_ECCENTRICITY = 0.57
ORBITAL_INCLINATION = 86.69
ORBITAL_SEMIMAJOR_AXIS = 8530.86
PERIAPSIS_ALTITUDE = 293.73
PERIAPSIS_ARGUMENT_ANGLE = 276.8
PERIAPSIS_TIME = 2007-07-21T07:06:16.000Z
SPACECRAFT_ORIENTATION = (0.0,-1.0,0.0)
^MEX_ORIENTATION_DESC = "MEX_ORIENTATION_DESC.TXT"
SPACECRAFT_POINTING_MODE = ACROSSTRACK
^MEX_POINTING_DESC = "MEX_POINTING_DESC.TXT"
RIGHT_ASCENSION = -1e+32
DECLINATION = -1e+32
OFFSET_ANGLE = -1.0
SPACECRAFT_SOLAR_DISTANCE = 2.08972e+08
TARGET_NAME = MARS
/* CAMERA DATA ELEMENTS */
DETECTOR_TEMPERATURE = 17.5549
FOCAL_PLANE_TEMPERATURE = 10.0106
INST_CMPRS_NAME = "DISCRETE COSINE TRANSFORMATION (DCT)"
INST_CMPRS_RATIO = 43.4131
INST_CMPRS_QUALITY = 0
INST_CMPRS_QUANTZ_TBL_ID = 0
INSTRUMENT_TEMPERATURE = 11.234
LENS_TEMPERATURE = 8.9911
MACROPIXEL_SIZE = 4
MISSING_FRAMES = 0
PIXEL_SUBSAMPLING_FLAG = N
SIGNAL_CHAIN_ID = 3
/* RADIOMETRIC DATA ELEMENTS */
BANDWIDTH = 174.0
CENTER_FILTER_WAVELENGTH = 675.0
RADIANCE_OFFSET = 7.80931
RADIANCE_SCALING_FACTOR = 0.0036489
REFLECTANCE_SCALING_FACTOR = 8.57088e-05
MEX:REFLECTANCE_OFFSET = 0.183432
/* IMAGE OBJECT DEFINITIONS */
OBJECT = IMAGE
  INTERCHANGE_FORMAT = BINARY
  LINES = 8760
  LINE_SAMPLES = 3119
  SAMPLE_TYPE = UNSIGNED_INTEGER
  SAMPLE_BITS = 8
  BANDS = 1
  BAND_STORAGE_TYPE = BAND_SEQUENTIAL
  MAXIMUM = 255
  MEAN = 247.186
  MINIMUM = 9
  STANDARD_DEVIATION = 27.653
END_OBJECT = IMAGE
/* MAP OBJECT DEFINITIONS */
OBJECT = IMAGE_MAP_PROJECTION
  ^DATA_SET_MAP_PROJECTION_CATALOG= "DSMAP.CAT"
  A_AXIS_RADIUS = 3396.0
  B_AXIS_RADIUS = 3396.0
  C_AXIS_RADIUS = 3396.0
  CENTER_LATITUDE = 0.0
  CENTER_LONGITUDE = 295.0
  COORDINATE_SYSTEM_NAME = PLANETOGRAPHIC
  COORDINATE_SYSTEM_TYPE = "BODY-FIXED ROTATING"
  EASTERNMOST_LONGITUDE = 300.608
  FIRST_STANDARD_PARALLEL = "N/A"
  LINE_FIRST_PIXEL = 1
  LINE_LAST_PIXEL = 8760
  LINE_PROJECTION_OFFSET = -90232.875
  MAP_PROJECTION_ROTATION = 0.0
  MAP_PROJECTION_TYPE = SINUSOIDAL
  MAP_RESOLUTION = 1185.42760773333
  MAP_SCALE = 0.05
  MAXIMUM_LATITUDE = -76.15819999999999
  MINIMUM_LATITUDE = -83.5309
  POSITIVE_LONGITUDE_DIRECTION = EAST
  REFERENCE_LATITUDE = "N/A"
  REFERENCE_LONGITUDE = "N/A"
  SAMPLE_FIRST_PIXEL = 1
  SAMPLE_LAST_PIXEL = 3119
  SAMPLE_PROJECTION_OFFSET = 1539.375
  SECOND_STANDARD_PARALLEL = "N/A"
  WESTERNMOST_LONGITUDE = 283.532
END_OBJECT = IMAGE_MAP_PROJECTION
END
