PDS_VERSION_ID = PDS3
/* FILE DATA ELEMENTS */
RECORD_TYPE = UNDEFINED
/* POINTERS TO DATA OBJECTS */
^IMAGE = ("H4547_0000_S24.TIF")
/* IDENTIFICATION DATA ELEMENTS */
DATA_SET_ID = "MEX-M-HRSC-4-REFDR-MAPPROJECT-EXT1-V4.0"
DATA_SET_NAME = "MARS EXPRESS HRSC MAP PROJECTED REFDR EXTENSION1 V4.0"
DETECTOR_ID = MEX_HRSC_S2
EVENT_TYPE = "MARS-REGIONAL-MAPPING-Gl-Eo-La"
INSTRUMENT_HOST_ID = MEX
INSTRUMENT_HOST_NAME = "MARS EXPRESS"
INSTRUMENT_ID = HRSC
INSTRUMENT_NAME = "HIGH RESOLUTION STEREO CAMERA"
MISSION_NAME = "MARS EXPRESS"
MISSION_PHASE_NAME = ME_Phase_8
PROCESSING_LEVEL_ID = 4
PRODUCT_CREATION_TIME = 2023-02-11T00:15:54.000Z
PRODUCT_ID = "H4547_0000_S24.TIF"
RELEASE_ID = 0007
REVISION_ID = 0000
/* QUALITY DATA ELEMENTS */
DATA_QUALITY_ID = 1
DATA_QUALITY_DESC = "Data calculated based on original SPICE kernels"
/* TIME DATA ELEMENTS */
SPACECRAFT_CLOCK_START_COUNT = "1/0132960456.08274"
SPACECRAFT_CLOCK_STOP_COUNT = "1/0132960667.25163"
START_TIME = 2007-07-19T21:28:35.179Z
STOP_TIME = 2007-07-19T21:31:09.390Z
/* ORBITAL DATA ELEMENTS */
ASCENDING_NODE_LONGITUDE = 133.21
MAXIMUM_RESOLUTION = 0.0245
FOOTPRINT_POINT_LATITUDE = (-86.6016,-86.8936,-87.1866,-87.5343, -87.5434,-87.5602,-87.639,-87.7006, -87.744,-87.7678,-87.766,-87.7271, -87.6668,-87.5955,-87.5091,-87.4079, -87.2336,-87.1037,-86.8921,-86.6674, -86.5073,-86.2575,-86.0861,-85.9117, -85.644,-85.4659,-85.2886,-84.9332, -84.7498,-84.4722,-84.2871,-84.1014, -83.9148,-83.7286,-83.5407,-83.3511, -83.1616,-82.9704,-82.7787,-82.5877, -82.396,-82.2043,-81.8207,-81.5319, -81.3387,-81.0453,-80.8456,-80.5423, -80.4419,-80.4249,-80.3148,-80.2133, -80.105,-80.1015,-80.1006,-80.2962, -80.4907,-80.6859,-80.9709,-81.4357, -81.6209,-81.8054,-81.9892,-82.1726, -82.3555,-82.7142,-82.893,-83.072, -83.2482,-83.5109,-83.7691,-83.9393, -84.1085,-84.275,-84.4401,-84.6011, -84.7606,-84.9178,-85.076,-85.3057, -85.4539,-85.5967,-85.8008,-85.929, -86.0505,-86.1645,-86.2704,-86.3651, -86.4516,-86.5601,-86.6185,-86.667, -86.7174,-86.7236,-86.7162,-86.6951, -86.6602,-86.6128,-86.5843,-86.6016)
FOOTPRINT_POINT_LONGITUDE = (334.485,332.821,330.767,327.619, 327.523,325.13,329.822,334.824,340.041, 345.429,353.594,361.374,366.617,371.423 ,375.909,380.075,385.698,389.051, 393.529,397.402,399.706,402.782,404.61, 406.281,408.533,409.855,411.058,413.212 ,414.174,415.496,416.306,417.066, 417.779,418.451,419.081,419.674,420.234 ,420.762,421.261,421.736,422.185, 422.614,423.41,423.958,424.301,424.794, 425.115,425.564,425.708,425.732,423.493 ,421.678,419.928,419.874,419.854, 419.462,419.054,418.626,417.964,416.779 ,416.266,415.73,415.168,414.578,413.957 ,412.636,411.92,411.162,410.368,409.092 ,407.712,406.724,405.673,404.563,403.38 ,402.136,400.805,399.383,397.825, 395.294,393.458,391.503,388.32,386.024, 383.574,380.967,378.196,375.33,372.262, 367.435,364.036,360.325,353.281,349.595 ,345.905,342.246,338.612,335.113, 333.398,334.485)
ORBIT_NUMBER = 4547
ORBITAL_ECCENTRICITY = 0.57
ORBITAL_INCLINATION = 86.7
ORBITAL_SEMIMAJOR_AXIS = 8531.45
PERIAPSIS_ALTITUDE = 292.77
PERIAPSIS_ARGUMENT_ANGLE = 277.65
PERIAPSIS_TIME = 2007-07-19T21:30:18.000Z
SPACECRAFT_ORIENTATION = (0.0,-1.0,0.0)
^MEX_ORIENTATION_DESC = "MEX_ORIENTATION_DESC.TXT"
SPACECRAFT_POINTING_MODE = ACROSSTRACK
^MEX_POINTING_DESC = "MEX_POINTING_DESC.TXT"
RIGHT_ASCENSION = -1e+32
DECLINATION = -1e+32
OFFSET_ANGLE = -0.5
SPACECRAFT_SOLAR_DISTANCE = 2.0884e+08
TARGET_NAME = MARS
/* CAMERA DATA ELEMENTS */
DETECTOR_TEMPERATURE = 18.9822
FOCAL_PLANE_TEMPERATURE = 9.195
INST_CMPRS_NAME = "DISCRETE COSINE TRANSFORMATION (DCT)"
INST_CMPRS_RATIO = 11.9229
INST_CMPRS_QUALITY = 0
INST_CMPRS_QUANTZ_TBL_ID = 0
INSTRUMENT_TEMPERATURE = 11.8457
LENS_TEMPERATURE = 9.6028
MACROPIXEL_SIZE = 2
MISSING_FRAMES = 0
PIXEL_SUBSAMPLING_FLAG = N
SIGNAL_CHAIN_ID = 1
/* RADIOMETRIC DATA ELEMENTS */
BANDWIDTH = 178.0
CENTER_FILTER_WAVELENGTH = 679.0
RADIANCE_OFFSET = 7.41839
RADIANCE_SCALING_FACTOR = 0.0275443
REFLECTANCE_SCALING_FACTOR = 0.000636189
MEX:REFLECTANCE_OFFSET = 0.171342
/* IMAGE OBJECT DEFINITIONS */
OBJECT = IMAGE
  INTERCHANGE_FORMAT = BINARY
  LINES = 18083
  LINE_SAMPLES = 18287
  SAMPLE_TYPE = UNSIGNED_INTEGER
  SAMPLE_BITS = 8
  BANDS = 1
  BAND_STORAGE_TYPE = BAND_SEQUENTIAL
  MAXIMUM = 255
  MEAN = 111.171
  MINIMUM = 1
  STANDARD_DEVIATION = 78.3611
END_OBJECT = IMAGE
/* MAP OBJECT DEFINITIONS */
OBJECT = IMAGE_MAP_PROJECTION
  ^DATA_SET_MAP_PROJECTION_CATALOG= "DSMAP.CAT"
  A_AXIS_RADIUS = 3396.0
  B_AXIS_RADIUS = 3396.0
  C_AXIS_RADIUS = 3396.0
  CENTER_LATITUDE = 0.0
  CENTER_LONGITUDE = 46.0
  COORDINATE_SYSTEM_NAME = PLANETOGRAPHIC
  COORDINATE_SYSTEM_TYPE = "BODY-FIXED ROTATING"
  EASTERNMOST_LONGITUDE = 65.732
  FIRST_STANDARD_PARALLEL = "N/A"
  LINE_FIRST_PIXEL = 1
  LINE_LAST_PIXEL = 18083
  LINE_PROJECTION_OFFSET = -190006.25
  MAP_PROJECTION_ROTATION = 0.0
  MAP_PROJECTION_TYPE = SINUSOIDAL
  MAP_RESOLUTION = 2370.85521546667
  MAP_SCALE = 0.025
  MAXIMUM_LATITUDE = -80.1006
  MINIMUM_LATITUDE = -87.76779999999999
  POSITIVE_LONGITUDE_DIRECTION = EAST
  REFERENCE_LATITUDE = "N/A"
  REFERENCE_LONGITUDE = "N/A"
  SAMPLE_FIRST_PIXEL = 1
  SAMPLE_LAST_PIXEL = 18287
  SAMPLE_PROJECTION_OFFSET = 10540.25
  SECOND_STANDARD_PARALLEL = "N/A"
  WESTERNMOST_LONGITUDE = -34.87
END_OBJECT = IMAGE_MAP_PROJECTION
END
