PDS_VERSION_ID = PDS3
/* FILE DATA ELEMENTS */
RECORD_TYPE = UNDEFINED
/* POINTERS TO DATA OBJECTS */
^IMAGE = ("H4542_0000_IR4.TIF")
/* IDENTIFICATION DATA ELEMENTS */
DATA_SET_ID = "MEX-M-HRSC-4-REFDR-MAPPROJECT-EXT1-V4.0"
DATA_SET_NAME = "MARS EXPRESS HRSC MAP PROJECTED REFDR EXTENSION1 V4.0"
DETECTOR_ID = MEX_HRSC_IR
EVENT_TYPE = "MARS-REGIONAL-MAPPING-Gl-Pf-La"
INSTRUMENT_HOST_ID = MEX
INSTRUMENT_HOST_NAME = "MARS EXPRESS"
INSTRUMENT_ID = HRSC
INSTRUMENT_NAME = "HIGH RESOLUTION STEREO CAMERA"
MISSION_NAME = "MARS EXPRESS"
MISSION_PHASE_NAME = ME_Phase_8
PROCESSING_LEVEL_ID = 4
PRODUCT_CREATION_TIME = 2023-02-11T00:15:54.000Z
PRODUCT_ID = "H4542_0000_IR4.TIF"
RELEASE_ID = 0007
REVISION_ID = 0000
/* QUALITY DATA ELEMENTS */
DATA_QUALITY_ID = 1
DATA_QUALITY_DESC = "Data calculated based on original SPICE kernels"
/* TIME DATA ELEMENTS */
SPACECRAFT_CLOCK_START_COUNT = "1/0132839523.08396"
SPACECRAFT_CLOCK_STOP_COUNT = "1/0132839711.39578"
START_TIME = 2007-07-18T11:52:12.049Z
STOP_TIME = 2007-07-18T11:54:26.343Z
/* ORBITAL DATA ELEMENTS */
ASCENDING_NODE_LONGITUDE = 133.31
MAXIMUM_RESOLUTION = 0.0482
FOOTPRINT_POINT_LATITUDE = (-85.7212,-85.9079,-86.1887,-86.4641, -86.6419,-86.6503,-86.6324,-86.5417, -86.3923,-86.2853,-86.1739,-86.0595, -85.8791,-85.7536,-85.6239,-85.4912, -85.3559,-85.2175,-85.0767,-84.933, -84.7872,-84.5648,-84.4141,-84.2617, -84.1076,-83.9521,-83.7952,-83.6371, -83.4777,-83.3172,-83.1557,-82.9932, -82.8298,-82.6654,-82.5003,-82.1803, -81.8577,-81.5329,-81.3697,-81.206, -81.0419,-80.8773,-80.7123,-80.547, -80.2982,-80.1319,-79.9653,-79.7966, -79.4629,-79.2951,-79.2111,-79.1284, -79.0688,-78.9749,-78.8034,-78.7999, -78.7995,-79.0444,-79.2884,-79.4503, -79.6924,-79.8528,-80.0127,-80.33, -80.646,-80.9583,-81.1923,-81.3472, -81.6534,-81.9558,-82.1085,-82.2627, -82.4157,-82.5674,-82.7178,-82.8667, -83.014,-83.1596,-83.3035,-83.4453, -83.5853,-83.7234,-83.8594,-84.0587, -84.1877,-84.3139,-84.4978,-84.6162, -84.732,-84.843,-84.9528,-85.0579, -85.1578,-85.2531,-85.344,-85.4316, -85.5128,-85.5879,-85.6231,-85.7212)
FOOTPRINT_POINT_LONGITUDE = (141.461,142.399,144.0,145.848,147.223, 147.292,148.598,151.294,155.061,157.372 ,159.528,161.528,164.324,166.054, 167.695,169.23,170.671,172.033,173.313, 174.53,175.677,177.281,178.279,179.226, 180.125,180.977,181.787,182.557,183.29, 183.988,184.654,185.289,185.895,186.474 ,187.028,188.029,188.951,189.803, 190.205,190.592,190.965,191.325,191.671 ,192.006,192.486,192.793,193.09,193.382 ,193.925,194.185,194.312,194.435, 193.396,191.893,189.49,189.444,189.427, 188.947,188.445,188.096,187.553,187.176 ,186.786,185.968,185.094,184.158, 183.413,182.893,181.796,180.615,179.978 ,179.303,178.601,177.87,177.109,176.316 ,175.489,174.626,173.727,172.788, 171.808,170.784,169.715,168.021,166.83, 165.585,163.614,162.227,160.775,159.265 ,157.676,156.022,154.302,152.512,150.64 ,148.641,146.572,144.43,143.332, 141.461)
ORBIT_NUMBER = 4542
ORBITAL_ECCENTRICITY = 0.57
ORBITAL_INCLINATION = 86.7
ORBITAL_SEMIMAJOR_AXIS = 8531.59
PERIAPSIS_ALTITUDE = 293.01
PERIAPSIS_ARGUMENT_ANGLE = 278.52
PERIAPSIS_TIME = 2007-07-18T11:54:18.000Z
SPACECRAFT_ORIENTATION = (0.0,-1.0,0.0)
^MEX_ORIENTATION_DESC = "MEX_ORIENTATION_DESC.TXT"
SPACECRAFT_POINTING_MODE = ACROSSTRACK
^MEX_POINTING_DESC = "MEX_POINTING_DESC.TXT"
RIGHT_ASCENSION = -1e+32
DECLINATION = -1e+32
OFFSET_ANGLE = 0.2
SPACECRAFT_SOLAR_DISTANCE = 2.08711e+08
TARGET_NAME = MARS
/* CAMERA DATA ELEMENTS */
DETECTOR_TEMPERATURE = 17.351
FOCAL_PLANE_TEMPERATURE = 8.7872
INST_CMPRS_NAME = "DISCRETE COSINE TRANSFORMATION (DCT)"
INST_CMPRS_RATIO = 8.45497
INST_CMPRS_QUALITY = 0
INST_CMPRS_QUANTZ_TBL_ID = 0
INSTRUMENT_TEMPERATURE = 11.4379
LENS_TEMPERATURE = 8.9911
MACROPIXEL_SIZE = 4
MISSING_FRAMES = 0
PIXEL_SUBSAMPLING_FLAG = N
SIGNAL_CHAIN_ID = 2
/* RADIOMETRIC DATA ELEMENTS */
BANDWIDTH = 81.0
CENTER_FILTER_WAVELENGTH = 955.5
RADIANCE_OFFSET = 1.54724
RADIANCE_SCALING_FACTOR = 0.00248047
REFLECTANCE_SCALING_FACTOR = 0.000233104
MEX:REFLECTANCE_OFFSET = 0.145403
/* IMAGE OBJECT DEFINITIONS */
OBJECT = IMAGE
  INTERCHANGE_FORMAT = BINARY
  LINES = 9273
  LINE_SAMPLES = 6481
  SAMPLE_TYPE = UNSIGNED_INTEGER
  SAMPLE_BITS = 8
  BANDS = 1
  BAND_STORAGE_TYPE = BAND_SEQUENTIAL
  MAXIMUM = 255
  MEAN = 101.748
  MINIMUM = 1
  STANDARD_DEVIATION = 41.4271
END_OBJECT = IMAGE
/* MAP OBJECT DEFINITIONS */
OBJECT = IMAGE_MAP_PROJECTION
  ^DATA_SET_MAP_PROJECTION_CATALOG= "DSMAP.CAT"
  A_AXIS_RADIUS = 3396.0
  B_AXIS_RADIUS = 3396.0
  C_AXIS_RADIUS = 3396.0
  CENTER_LATITUDE = 0.0
  CENTER_LONGITUDE = 181.0
  COORDINATE_SYSTEM_NAME = PLANETOGRAPHIC
  COORDINATE_SYSTEM_TYPE = "BODY-FIXED ROTATING"
  EASTERNMOST_LONGITUDE = 194.435
  FIRST_STANDARD_PARALLEL = "N/A"
  LINE_FIRST_PIXEL = 1
  LINE_LAST_PIXEL = 9273
  LINE_PROJECTION_OFFSET = -93396.625
  MAP_PROJECTION_ROTATION = 0.0
  MAP_PROJECTION_TYPE = SINUSOIDAL
  MAP_RESOLUTION = 1185.42760773333
  MAP_SCALE = 0.05
  MAXIMUM_LATITUDE = -78.79949999999999
  MINIMUM_LATITUDE = -86.6503
  POSITIVE_LONGITUDE_DIRECTION = EAST
  REFERENCE_LATITUDE = "N/A"
  REFERENCE_LONGITUDE = "N/A"
  SAMPLE_FIRST_PIXEL = 1
  SAMPLE_LAST_PIXEL = 6481
  SAMPLE_PROJECTION_OFFSET = 3455.625
  SECOND_STANDARD_PARALLEL = "N/A"
  WESTERNMOST_LONGITUDE = 141.461
END_OBJECT = IMAGE_MAP_PROJECTION
END
