PDS_VERSION_ID = PDS3
/* FILE DATA ELEMENTS */
RECORD_TYPE = UNDEFINED
/* POINTERS TO DATA OBJECTS */
^IMAGE = ("H4542_0000_BL4.TIF")
/* IDENTIFICATION DATA ELEMENTS */
DATA_SET_ID = "MEX-M-HRSC-4-REFDR-MAPPROJECT-EXT1-V4.0"
DATA_SET_NAME = "MARS EXPRESS HRSC MAP PROJECTED REFDR EXTENSION1 V4.0"
DETECTOR_ID = MEX_HRSC_BLUE
EVENT_TYPE = "MARS-REGIONAL-MAPPING-Gl-Pf-La"
INSTRUMENT_HOST_ID = MEX
INSTRUMENT_HOST_NAME = "MARS EXPRESS"
INSTRUMENT_ID = HRSC
INSTRUMENT_NAME = "HIGH RESOLUTION STEREO CAMERA"
MISSION_NAME = "MARS EXPRESS"
MISSION_PHASE_NAME = ME_Phase_8
PROCESSING_LEVEL_ID = 4
PRODUCT_CREATION_TIME = 2023-02-11T00:15:54.000Z
PRODUCT_ID = "H4542_0000_BL4.TIF"
RELEASE_ID = 0007
REVISION_ID = 0000
/* QUALITY DATA ELEMENTS */
DATA_QUALITY_ID = 1
DATA_QUALITY_DESC = "Data calculated based on original SPICE kernels"
/* TIME DATA ELEMENTS */
SPACECRAFT_CLOCK_START_COUNT = "1/0132839523.08396"
SPACECRAFT_CLOCK_STOP_COUNT = "1/0132839711.39578"
START_TIME = 2007-07-18T11:52:39.105Z
STOP_TIME = 2007-07-18T11:54:52.082Z
/* ORBITAL DATA ELEMENTS */
ASCENDING_NODE_LONGITUDE = 133.31
MAXIMUM_RESOLUTION = 0.0461
FOOTPRINT_POINT_LATITUDE = (-85.6901,-85.9112,-86.1789,-86.5696, -86.5776,-86.6013,-86.4641,-86.3638, -86.2571,-86.1448,-86.0278,-85.9061, -85.7801,-85.6506,-85.449,-85.3106, -85.1692,-85.0253,-84.8791,-84.7306, -84.5801,-84.3509,-84.196,-83.9626, -83.8101,-83.6564,-83.5017,-83.2678, -83.1107,-82.9528,-82.7941,-82.6347, -82.4746,-82.3138,-82.0716,-81.9094, -81.7467,-81.5836,-81.42,-81.256, -81.0916,-80.9268,-80.7617,-80.5962, -80.4304,-80.2644,-80.098,-79.9314, -79.6815,-79.5141,-79.3466,-79.179, -79.0951,-79.0909,-78.9694,-78.8661, -78.7865,-78.7832,-78.7828,-79.1081, -79.3511,-79.5933,-79.9146,-80.2342, -80.7095,-80.8667,-81.1793,-81.4118, -81.7191,-81.8714,-82.0229,-82.2481, -82.397,-82.5447,-82.6912,-82.8364, -82.9803,-83.1227,-83.2636,-83.4027, -83.6145,-83.7542,-83.8917,-84.0267, -84.1591,-84.2888,-84.4778,-84.5997, -84.7185,-84.8331,-84.9444,-85.1035, -85.2037,-85.2991,-85.3891,-85.4733, -85.5517,-85.624,-85.6579,-85.6901)
FOOTPRINT_POINT_LONGITUDE = (142.871,144.15,145.916,149.048,149.121 ,149.029,152.894,155.303,157.58,159.727 ,161.75,163.654,165.447,167.135,169.482 ,170.933,172.3,173.588,174.804,175.951, 177.035,178.551,179.495,180.811,181.608 ,182.366,183.089,184.109,184.751, 185.364,185.95,186.51,187.046,187.56, 188.291,188.754,189.199,189.626,190.036 ,190.432,190.812,191.179,191.532, 191.873,192.201,192.519,192.825,193.122 ,193.549,193.821,194.085,194.34,194.465 ,194.471,192.302,190.667,189.513, 189.467,189.45,188.811,188.306,187.775, 187.025,186.222,184.916,184.448,183.468 ,182.682,181.565,180.974,180.36,179.393 ,178.716,178.012,177.279,176.516, 175.721,174.892,174.028,173.126,171.654 ,170.61,169.519,168.377,167.18,165.926, 163.937,162.533,161.071,159.532,157.937 ,155.413,153.636,151.785,149.857,147.85 ,145.77,143.619,142.519,142.871)
ORBIT_NUMBER = 4542
ORBITAL_ECCENTRICITY = 0.57
ORBITAL_INCLINATION = 86.7
ORBITAL_SEMIMAJOR_AXIS = 8531.59
PERIAPSIS_ALTITUDE = 293.01
PERIAPSIS_ARGUMENT_ANGLE = 278.52
PERIAPSIS_TIME = 2007-07-18T11:54:18.000Z
SPACECRAFT_ORIENTATION = (0.0,-1.0,0.0)
^MEX_ORIENTATION_DESC = "MEX_ORIENTATION_DESC.TXT"
SPACECRAFT_POINTING_MODE = ACROSSTRACK
^MEX_POINTING_DESC = "MEX_POINTING_DESC.TXT"
RIGHT_ASCENSION = -1e+32
DECLINATION = -1e+32
OFFSET_ANGLE = 0.2
SPACECRAFT_SOLAR_DISTANCE = 2.08711e+08
TARGET_NAME = MARS
/* CAMERA DATA ELEMENTS */
DETECTOR_TEMPERATURE = 18.1666
FOCAL_PLANE_TEMPERATURE = 8.7872
INST_CMPRS_NAME = "DISCRETE COSINE TRANSFORMATION (DCT)"
INST_CMPRS_RATIO = 4.77256
INST_CMPRS_QUALITY = 0
INST_CMPRS_QUANTZ_TBL_ID = 0
INSTRUMENT_TEMPERATURE = 11.4379
LENS_TEMPERATURE = 8.9911
MACROPIXEL_SIZE = 4
MISSING_FRAMES = 0
PIXEL_SUBSAMPLING_FLAG = N
SIGNAL_CHAIN_ID = 2
/* RADIOMETRIC DATA ELEMENTS */
BANDWIDTH = 76.0
CENTER_FILTER_WAVELENGTH = 444.0
RADIANCE_OFFSET = 0.914906
RADIANCE_SCALING_FACTOR = 0.00107636
REFLECTANCE_SCALING_FACTOR = 4.81728e-05
MEX:REFLECTANCE_OFFSET = 0.0409469
/* IMAGE OBJECT DEFINITIONS */
OBJECT = IMAGE
  INTERCHANGE_FORMAT = BINARY
  LINES = 9273
  LINE_SAMPLES = 6481
  SAMPLE_TYPE = UNSIGNED_INTEGER
  SAMPLE_BITS = 8
  BANDS = 1
  BAND_STORAGE_TYPE = BAND_SEQUENTIAL
  MAXIMUM = 253
  MEAN = 116.565
  MINIMUM = 2
  STANDARD_DEVIATION = 40.6615
END_OBJECT = IMAGE
/* MAP OBJECT DEFINITIONS */
OBJECT = IMAGE_MAP_PROJECTION
  ^DATA_SET_MAP_PROJECTION_CATALOG= "DSMAP.CAT"
  A_AXIS_RADIUS = 3396.0
  B_AXIS_RADIUS = 3396.0
  C_AXIS_RADIUS = 3396.0
  CENTER_LATITUDE = 0.0
  CENTER_LONGITUDE = 181.0
  COORDINATE_SYSTEM_NAME = PLANETOGRAPHIC
  COORDINATE_SYSTEM_TYPE = "BODY-FIXED ROTATING"
  EASTERNMOST_LONGITUDE = 194.471
  FIRST_STANDARD_PARALLEL = "N/A"
  LINE_FIRST_PIXEL = 1
  LINE_LAST_PIXEL = 9273
  LINE_PROJECTION_OFFSET = -93396.625
  MAP_PROJECTION_ROTATION = 0.0
  MAP_PROJECTION_TYPE = SINUSOIDAL
  MAP_RESOLUTION = 1185.42760773333
  MAP_SCALE = 0.05
  MAXIMUM_LATITUDE = -78.78279999999999
  MINIMUM_LATITUDE = -86.60129999999999
  POSITIVE_LONGITUDE_DIRECTION = EAST
  REFERENCE_LATITUDE = "N/A"
  REFERENCE_LONGITUDE = "N/A"
  SAMPLE_FIRST_PIXEL = 1
  SAMPLE_LAST_PIXEL = 6481
  SAMPLE_PROJECTION_OFFSET = 3455.625
  SECOND_STANDARD_PARALLEL = "N/A"
  WESTERNMOST_LONGITUDE = 142.519
END_OBJECT = IMAGE_MAP_PROJECTION
END
