PDS_VERSION_ID = PDS3
/* FILE DATA ELEMENTS */
RECORD_TYPE = UNDEFINED
/* POINTERS TO DATA OBJECTS */
^IMAGE = ("H4539_0000_ND4.TIF")
/* IDENTIFICATION DATA ELEMENTS */
DATA_SET_ID = "MEX-M-HRSC-4-REFDR-MAPPROJECT-EXT1-V4.0"
DATA_SET_NAME = "MARS EXPRESS HRSC MAP PROJECTED REFDR EXTENSION1 V4.0"
DETECTOR_ID = MEX_HRSC_NADIR
EVENT_TYPE = "MARS-REGIONAL-MAPPING-Gl-Eo-La"
INSTRUMENT_HOST_ID = MEX
INSTRUMENT_HOST_NAME = "MARS EXPRESS"
INSTRUMENT_ID = HRSC
INSTRUMENT_NAME = "HIGH RESOLUTION STEREO CAMERA"
MISSION_NAME = "MARS EXPRESS"
MISSION_PHASE_NAME = ME_Phase_8
PROCESSING_LEVEL_ID = 4
PRODUCT_CREATION_TIME = 2023-02-11T00:15:54.000Z
PRODUCT_ID = "H4539_0000_ND4.TIF"
RELEASE_ID = 0007
REVISION_ID = 0000
/* QUALITY DATA ELEMENTS */
DATA_QUALITY_ID = 1
DATA_QUALITY_DESC = "Data calculated based on original SPICE kernels"
/* TIME DATA ELEMENTS */
SPACECRAFT_CLOCK_START_COUNT = "1/0132766987.08411"
SPACECRAFT_CLOCK_STOP_COUNT = "1/0132767275.06212"
START_TIME = 2007-07-17T15:43:38.427Z
STOP_TIME = 2007-07-17T15:47:27.419Z
/* ORBITAL DATA ELEMENTS */
ASCENDING_NODE_LONGITUDE = 133.37
MAXIMUM_RESOLUTION = 0.0117
FOOTPRINT_POINT_LATITUDE = (-84.6313,-84.7817,-84.9217,-85.0632, -85.0668,-85.1002,-84.8092,-84.5225, -84.2345,-83.9451,-83.6545,-83.3632, -83.071,-82.7784,-82.4854,-82.0402, -81.7456,-81.4508,-81.1548,-80.8588, -80.5639,-80.2665,-79.9694,-79.6727, -79.376,-78.9304,-78.633,-78.3356, -78.0383,-77.7408,-77.4432,-77.1457, -76.8479,-76.5503,-75.9554,-75.6495, -75.3402,-75.0317,-74.7232,-74.4148, -74.1065,-73.7983,-73.4901,-73.1824, -72.8748,-72.5668,-72.259,-71.9519, -71.4779,-71.1599,-70.8422,-70.5245, -70.207,-70.0483,-70.0422,-70.0105, -69.9828,-69.9369,-69.9355,-69.9351, -70.2507,-70.5664,-70.8823,-71.1982, -71.5138,-71.8272,-72.1325,-72.4378, -72.7429,-73.0483,-73.3538,-73.6594, -73.9649,-74.2704,-74.5759,-74.8813, -75.1867,-75.4919,-75.7949,-76.2365, -76.8237,-77.4105,-78.1427,-78.5809, -79.1637,-79.4548,-79.89,-80.1793, -80.4676,-80.7555,-81.1856,-81.4711, -81.7556,-82.4657,-83.0234,-83.5733, -84.1125,-84.5093,-84.6441,-84.6313)
FOOTPRINT_POINT_LONGITUDE = (115.327,118.316,121.586,125.626, 125.744,126.83,127.91,128.842,129.687, 130.446,131.132,131.759,132.332,132.865 ,133.368,134.051,134.457,134.837, 135.166,135.483,135.825,136.074,136.322 ,136.575,136.818,137.148,137.352, 137.545,137.732,137.909,138.075,138.235 ,138.382,138.527,138.808,138.946, 139.048,139.168,139.282,139.39,139.496, 139.599,139.695,139.798,139.901,139.978 ,140.058,140.154,140.269,140.348, 140.428,140.499,140.568,140.6,140.601, 139.36,138.486,137.263,137.231,137.216, 137.112,137.003,136.891,136.772,136.642 ,136.524,136.395,136.261,136.115, 135.969,135.819,135.662,135.499,135.329 ,135.151,134.965,134.77,134.566,134.355 ,134.037,133.559,133.038,132.313, 131.829,131.116,130.737,130.114,129.667 ,129.184,128.676,127.849,127.25,126.609 ,124.777,123.05,121.024,118.605,116.477 ,115.668,115.327)
ORBIT_NUMBER = 4539
ORBITAL_ECCENTRICITY = 0.57
ORBITAL_INCLINATION = 86.69
ORBITAL_SEMIMAJOR_AXIS = 8533.27
PERIAPSIS_ALTITUDE = 293.84
PERIAPSIS_ARGUMENT_ANGLE = 279.03
PERIAPSIS_TIME = 2007-07-17T15:44:44.000Z
SPACECRAFT_ORIENTATION = (0.0,-1.0,0.0)
^MEX_ORIENTATION_DESC = "MEX_ORIENTATION_DESC.TXT"
SPACECRAFT_POINTING_MODE = ACROSSTRACK
^MEX_POINTING_DESC = "MEX_POINTING_DESC.TXT"
RIGHT_ASCENSION = -1e+32
DECLINATION = -1e+32
OFFSET_ANGLE = -1.1
SPACECRAFT_SOLAR_DISTANCE = 2.08635e+08
TARGET_NAME = MARS
/* CAMERA DATA ELEMENTS */
DETECTOR_TEMPERATURE = 18.3705
FOCAL_PLANE_TEMPERATURE = 8.7872
INST_CMPRS_NAME = "DISCRETE COSINE TRANSFORMATION (DCT)"
INST_CMPRS_RATIO = 7.40664
INST_CMPRS_QUALITY = 0
INST_CMPRS_QUANTZ_TBL_ID = 0
INSTRUMENT_TEMPERATURE = 11.4379
LENS_TEMPERATURE = 8.9911
MACROPIXEL_SIZE = 1
MISSING_FRAMES = 3
PIXEL_SUBSAMPLING_FLAG = N
SIGNAL_CHAIN_ID = 0
/* RADIOMETRIC DATA ELEMENTS */
BANDWIDTH = 177.0
CENTER_FILTER_WAVELENGTH = 677.5
RADIANCE_OFFSET = 6.96098
RADIANCE_SCALING_FACTOR = 0.0193728
REFLECTANCE_SCALING_FACTOR = 0.000447972
MEX:REFLECTANCE_OFFSET = 0.160964
/* IMAGE OBJECT DEFINITIONS */
OBJECT = IMAGE
  INTERCHANGE_FORMAT = BINARY
  LINES = 71910
  LINE_SAMPLES = 17629
  SAMPLE_TYPE = UNSIGNED_INTEGER
  SAMPLE_BITS = 8
  BANDS = 1
  BAND_STORAGE_TYPE = BAND_SEQUENTIAL
  MAXIMUM = 254
  MEAN = 118.993
  MINIMUM = 1
  STANDARD_DEVIATION = 48.2679
END_OBJECT = IMAGE
/* MAP OBJECT DEFINITIONS */
OBJECT = IMAGE_MAP_PROJECTION
  ^DATA_SET_MAP_PROJECTION_CATALOG= "DSMAP.CAT"
  A_AXIS_RADIUS = 3396.0
  B_AXIS_RADIUS = 3396.0
  C_AXIS_RADIUS = 3396.0
  CENTER_LATITUDE = 0.0
  CENTER_LONGITUDE = 135.0
  COORDINATE_SYSTEM_NAME = PLANETOGRAPHIC
  COORDINATE_SYSTEM_TYPE = "BODY-FIXED ROTATING"
  EASTERNMOST_LONGITUDE = 140.601
  FIRST_STANDARD_PARALLEL = "N/A"
  LINE_FIRST_PIXEL = 1
  LINE_LAST_PIXEL = 71910
  LINE_PROJECTION_OFFSET = -331613.0
  MAP_PROJECTION_ROTATION = 0.0
  MAP_PROJECTION_TYPE = SINUSOIDAL
  MAP_RESOLUTION = 4741.71043093333
  MAP_SCALE = 0.0125
  MAXIMUM_LATITUDE = -69.93510000000001
  MINIMUM_LATITUDE = -85.1002
  POSITIVE_LONGITUDE_DIRECTION = EAST
  REFERENCE_LATITUDE = "N/A"
  REFERENCE_LONGITUDE = "N/A"
  SAMPLE_FIRST_PIXEL = 1
  SAMPLE_LAST_PIXEL = 17629
  SAMPLE_PROJECTION_OFFSET = 8562.0
  SECOND_STANDARD_PARALLEL = "N/A"
  WESTERNMOST_LONGITUDE = 115.327
END_OBJECT = IMAGE_MAP_PROJECTION
END
