PDS_VERSION_ID = PDS3
/* FILE DATA ELEMENTS */
RECORD_TYPE = UNDEFINED
/* POINTERS TO DATA OBJECTS */
^IMAGE = ("H4534_0000_S24.TIF")
/* IDENTIFICATION DATA ELEMENTS */
DATA_SET_ID = "MEX-M-HRSC-4-REFDR-MAPPROJECT-EXT1-V4.0"
DATA_SET_NAME = "MARS EXPRESS HRSC MAP PROJECTED REFDR EXTENSION1 V4.0"
DETECTOR_ID = MEX_HRSC_S2
EVENT_TYPE = "MARS-LOCAL-MAPPING-Gl-Pf-La"
INSTRUMENT_HOST_ID = MEX
INSTRUMENT_HOST_NAME = "MARS EXPRESS"
INSTRUMENT_ID = HRSC
INSTRUMENT_NAME = "HIGH RESOLUTION STEREO CAMERA"
MISSION_NAME = "MARS EXPRESS"
MISSION_PHASE_NAME = ME_Phase_8
PROCESSING_LEVEL_ID = 4
PRODUCT_CREATION_TIME = 2023-02-11T00:15:54.000Z
PRODUCT_ID = "H4534_0000_S24.TIF"
RELEASE_ID = 0007
REVISION_ID = 0000
/* QUALITY DATA ELEMENTS */
DATA_QUALITY_ID = 1
DATA_QUALITY_DESC = "Data calculated based on original SPICE kernels"
/* TIME DATA ELEMENTS */
SPACECRAFT_CLOCK_START_COUNT = "1/0132645917.07299"
SPACECRAFT_CLOCK_STOP_COUNT = "1/0132646136.15236"
START_TIME = 2007-07-16T06:06:19.401Z
STOP_TIME = 2007-07-16T06:08:58.287Z
/* ORBITAL DATA ELEMENTS */
ASCENDING_NODE_LONGITUDE = 133.47
MAXIMUM_RESOLUTION = 0.0246
FOOTPRINT_POINT_LATITUDE = (-86.2827,-86.5481,-86.8076,-87.1034, -87.111,-87.0947,-87.3179,-87.4478, -87.6176,-87.7512,-87.8169,-87.879, -87.8913,-87.8656,-87.8197,-87.7513, -87.6662,-87.5075,-87.3871,-87.259, -87.1198,-86.9699,-86.8131,-86.6506, -86.4847,-86.229,-86.0518,-85.8735, -85.6901,-85.4082,-85.2174,-85.0252, -84.8318,-84.6377,-84.4426,-84.2466, -83.951,-83.7537,-83.5545,-83.2544, -83.0534,-82.8529,-82.6539,-82.3498, -82.1468,-81.9443,-81.7424,-81.3518, -81.1538,-81.0565,-81.05,-80.8939, -80.7127,-80.7091,-80.7081,-80.9926, -81.1818,-81.3695,-81.5635,-81.7576, -81.9512,-82.1443,-82.3366,-82.5274, -82.718,-83.0942,-83.3727,-83.5569, -83.7396,-83.9205,-84.1892,-84.3661, -84.6243,-84.7924,-84.9569,-85.1189, -85.3546,-85.5056,-85.6524,-85.7932, -85.9932,-86.1177,-86.2344,-86.3926, -86.4861,-86.5709,-86.6763,-86.7513, -86.7832,-86.8002,-86.8018,-86.7756, -86.7396,-86.69,-86.6262,-86.5493, -86.4601,-86.3016,-86.2426,-86.2827)
FOOTPRINT_POINT_LONGITUDE = (157.1,154.242,150.844,145.918,145.773, 143.559,148.875,152.769,159.358,166.846 ,172.277,180.775,186.723,195.651, 201.412,206.911,211.998,218.885,222.87, 226.439,229.684,232.629,235.288,237.692 ,239.866,242.761,244.478,246.047, 247.482,249.413,250.572,251.641,252.631 ,253.549,254.403,255.199,256.295, 256.969,257.599,258.473,259.012,259.523 ,260.01,260.681,261.099,261.498,261.874 ,262.554,262.865,263.02,263.03,259.918, 256.889,256.833,256.812,256.166,255.711 ,255.238,254.725,254.184,253.615, 253.018,252.389,251.728,251.03,249.52, 248.274,247.38,246.433,245.428,243.795, 242.616,240.717,239.348,237.891,236.327 ,233.775,231.932,229.952,227.84,224.39, 221.899,219.243,214.961,211.897,208.588 ,203.278,197.66,193.794,189.841,185.889 ,180.04,176.211,172.544,168.934,165.469 ,162.159,157.419,155.912,157.1)
ORBIT_NUMBER = 4534
ORBITAL_ECCENTRICITY = 0.57
ORBITAL_INCLINATION = 86.69
ORBITAL_SEMIMAJOR_AXIS = 8532.26
PERIAPSIS_ALTITUDE = 292.99
PERIAPSIS_ARGUMENT_ANGLE = 279.9
PERIAPSIS_TIME = 2007-07-16T06:08:50.000Z
SPACECRAFT_ORIENTATION = (0.0,-1.0,0.0)
^MEX_ORIENTATION_DESC = "MEX_ORIENTATION_DESC.TXT"
SPACECRAFT_POINTING_MODE = ACROSSTRACK
^MEX_POINTING_DESC = "MEX_POINTING_DESC.TXT"
RIGHT_ASCENSION = -1e+32
DECLINATION = -1e+32
OFFSET_ANGLE = -0.6
SPACECRAFT_SOLAR_DISTANCE = 2.08512e+08
TARGET_NAME = MARS
/* CAMERA DATA ELEMENTS */
DETECTOR_TEMPERATURE = 18.3705
FOCAL_PLANE_TEMPERATURE = 8.5833
INST_CMPRS_NAME = "DISCRETE COSINE TRANSFORMATION (DCT)"
INST_CMPRS_RATIO = 10.9564
INST_CMPRS_QUALITY = 0
INST_CMPRS_QUANTZ_TBL_ID = 0
INSTRUMENT_TEMPERATURE = 11.0301
LENS_TEMPERATURE = 8.5833
MACROPIXEL_SIZE = 2
MISSING_FRAMES = 0
PIXEL_SUBSAMPLING_FLAG = N
SIGNAL_CHAIN_ID = 1
/* RADIOMETRIC DATA ELEMENTS */
BANDWIDTH = 178.0
CENTER_FILTER_WAVELENGTH = 679.0
RADIANCE_OFFSET = 6.02069
RADIANCE_SCALING_FACTOR = 0.0227964
REFLECTANCE_SCALING_FACTOR = 0.000524876
MEX:REFLECTANCE_OFFSET = 0.138623
/* IMAGE OBJECT DEFINITIONS */
OBJECT = IMAGE
  INTERCHANGE_FORMAT = BINARY
  LINES = 5595
  LINE_SAMPLES = 25490
  SAMPLE_TYPE = UNSIGNED_INTEGER
  SAMPLE_BITS = 8
  BANDS = 1
  BAND_STORAGE_TYPE = BAND_SEQUENTIAL
  MAXIMUM = 255
  MEAN = 84.1222
  MINIMUM = 1
  STANDARD_DEVIATION = 43.7263
END_OBJECT = IMAGE
/* MAP OBJECT DEFINITIONS */
OBJECT = IMAGE_MAP_PROJECTION
  ^DATA_SET_MAP_PROJECTION_CATALOG= "DSMAP.CAT"
  A_AXIS_RADIUS = 3396.0
  B_AXIS_RADIUS = 3396.0
  C_AXIS_RADIUS = 3396.0
  CENTER_LATITUDE = -90.0
  CENTER_LONGITUDE = 0.0
  COORDINATE_SYSTEM_NAME = PLANETOGRAPHIC
  COORDINATE_SYSTEM_TYPE = "BODY-FIXED ROTATING"
  EASTERNMOST_LONGITUDE = 263.03
  FIRST_STANDARD_PARALLEL = "N/A"
  LINE_FIRST_PIXEL = 1
  LINE_LAST_PIXEL = 5595
  LINE_PROJECTION_OFFSET = -2608.25
  MAP_PROJECTION_ROTATION = 0.0
  MAP_PROJECTION_TYPE = STEREOGRAPHIC
  MAP_RESOLUTION = 2370.85521546667
  MAP_SCALE = 0.025
  MAXIMUM_LATITUDE = -80.7081
  MINIMUM_LATITUDE = -87.8913
  POSITIVE_LONGITUDE_DIRECTION = EAST
  REFERENCE_LATITUDE = "N/A"
  REFERENCE_LONGITUDE = "N/A"
  SAMPLE_FIRST_PIXEL = 1
  SAMPLE_LAST_PIXEL = 25490
  SAMPLE_PROJECTION_OFFSET = 21363.25
  SECOND_STANDARD_PARALLEL = "N/A"
  WESTERNMOST_LONGITUDE = 143.559
END_OBJECT = IMAGE_MAP_PROJECTION
END
