PDS_VERSION_ID = PDS3
/* FILE DATA ELEMENTS */
RECORD_TYPE = UNDEFINED
/* POINTERS TO DATA OBJECTS */
^IMAGE = ("H4533_0000_RE4.TIF")
/* IDENTIFICATION DATA ELEMENTS */
DATA_SET_ID = "MEX-M-HRSC-4-REFDR-MAPPROJECT-EXT1-V4.0"
DATA_SET_NAME = "MARS EXPRESS HRSC MAP PROJECTED REFDR EXTENSION1 V4.0"
DETECTOR_ID = MEX_HRSC_RED
EVENT_TYPE = "MARS-REGIONAL-MAPPING-Gl-Pf-La"
INSTRUMENT_HOST_ID = MEX
INSTRUMENT_HOST_NAME = "MARS EXPRESS"
INSTRUMENT_ID = HRSC
INSTRUMENT_NAME = "HIGH RESOLUTION STEREO CAMERA"
MISSION_NAME = "MARS EXPRESS"
MISSION_PHASE_NAME = ME_Phase_8
PROCESSING_LEVEL_ID = 4
PRODUCT_CREATION_TIME = 2023-02-11T00:15:54.000Z
PRODUCT_ID = "H4533_0000_RE4.TIF"
RELEASE_ID = 0007
REVISION_ID = 0000
/* QUALITY DATA ELEMENTS */
DATA_QUALITY_ID = 1
DATA_QUALITY_DESC = "Data calculated based on original SPICE kernels"
/* TIME DATA ELEMENTS */
SPACECRAFT_CLOCK_START_COUNT = "1/0132621906.09080"
SPACECRAFT_CLOCK_STOP_COUNT = "1/0132622022.16963"
START_TIME = 2007-07-15T23:25:57.375Z
STOP_TIME = 2007-07-15T23:26:59.560Z
/* ORBITAL DATA ELEMENTS */
ASCENDING_NODE_LONGITUDE = 133.49
MAXIMUM_RESOLUTION = 0.0426
FOOTPRINT_POINT_LATITUDE = (-79.1257,-79.1583,-79.2042,-79.2594, -79.3043,-79.3374,-79.3767,-79.4075, -79.4098,-79.4959,-79.4178,-79.3395, -79.1855,-79.1041,-79.0256,-78.947, -78.8685,-78.7899,-78.7111,-78.6323, -78.5535,-78.4352,-78.3164,-78.1212, -78.0015,-77.9225,-77.7652,-77.6863, -77.5685,-77.4508,-77.294,-77.1359, -77.054,-76.9721,-76.8492,-76.7673, -76.6854,-76.6035,-76.5216,-76.4399, -76.358,-76.2761,-76.1943,-76.1125, -76.0307,-75.9079,-75.8261,-75.7442, -75.6623,-75.5385,-75.4973,-75.4835, -75.4606,-75.4299,-75.4008,-75.3684, -75.3301,-75.2967,-75.2671,-75.2648, -75.2648,-75.3453,-75.4258,-75.5087, -75.5894,-75.67,-75.7908,-75.9115, -75.992,-76.0724,-76.1931,-76.2735, -76.3539,-76.4746,-76.5548,-76.6753, -76.7556,-76.8356,-76.9925,-77.1472, -77.3012,-77.3787,-77.495,-77.6485, -77.8027,-77.9177,-78.0715,-78.1867, -78.3403,-78.4171,-78.4935,-78.5702, -78.6467,-78.7233,-78.8379,-78.9522, -79.0284,-79.1422,-79.1802,-79.1257)
FOOTPRINT_POINT_LONGITUDE = (354.635,355.129,355.851,356.762, 357.543,358.144,358.89,359.501,359.548, 359.602,359.716,359.828,360.05,360.156, 360.262,360.366,360.469,360.57,360.67, 360.768,360.865,361.008,361.148,361.376 ,361.507,361.594,361.764,361.848, 361.971,362.092,362.25,362.404,362.482, 362.559,362.673,362.748,362.821,362.894 ,362.966,363.037,363.107,363.176, 363.244,363.312,363.378,363.477,363.541 ,363.605,363.668,363.761,363.791, 363.801,363.31,362.668,362.104,361.505, 360.833,360.276,359.836,359.8,359.787, 359.707,359.627,359.539,359.456,359.372 ,359.244,359.115,359.027,358.938, 358.803,358.711,358.618,358.476,358.38, 358.234,358.135,358.035,357.835,357.632 ,357.425,357.318,357.154,356.936, 356.709,356.536,356.298,356.116,355.867 ,355.739,355.611,355.479,355.347, 355.212,355.006,354.797,354.654,354.439 ,354.365,354.635)
ORBIT_NUMBER = 4533
ORBITAL_ECCENTRICITY = 0.57
ORBITAL_INCLINATION = 86.69
ORBITAL_SEMIMAJOR_AXIS = 8532.62
PERIAPSIS_ALTITUDE = 293.43
PERIAPSIS_ARGUMENT_ANGLE = 280.06
PERIAPSIS_TIME = 2007-07-15T23:25:35.000Z
SPACECRAFT_ORIENTATION = (0.0,-1.0,0.0)
^MEX_ORIENTATION_DESC = "MEX_ORIENTATION_DESC.TXT"
SPACECRAFT_POINTING_MODE = NADIR
^MEX_POINTING_DESC = "MEX_POINTING_DESC.TXT"
RIGHT_ASCENSION = -1e+32
DECLINATION = -1e+32
OFFSET_ANGLE = -1e+32
SPACECRAFT_SOLAR_DISTANCE = 2.08488e+08
TARGET_NAME = MARS
/* CAMERA DATA ELEMENTS */
DETECTOR_TEMPERATURE = 18.5744
FOCAL_PLANE_TEMPERATURE = 8.3794
INST_CMPRS_NAME = "DISCRETE COSINE TRANSFORMATION (DCT)"
INST_CMPRS_RATIO = 48.5304
INST_CMPRS_QUALITY = 0
INST_CMPRS_QUANTZ_TBL_ID = 0
INSTRUMENT_TEMPERATURE = 11.234
LENS_TEMPERATURE = 8.7872
MACROPIXEL_SIZE = 4
MISSING_FRAMES = 0
PIXEL_SUBSAMPLING_FLAG = N
SIGNAL_CHAIN_ID = 2
/* RADIOMETRIC DATA ELEMENTS */
BANDWIDTH = 48.0
CENTER_FILTER_WAVELENGTH = 748.0
RADIANCE_OFFSET = 2.5933
RADIANCE_SCALING_FACTOR = 0.00115859
REFLECTANCE_SCALING_FACTOR = 0.000114925
MEX:REFLECTANCE_OFFSET = 0.25724
/* IMAGE OBJECT DEFINITIONS */
OBJECT = IMAGE
  INTERCHANGE_FORMAT = BINARY
  LINES = 5038
  LINE_SAMPLES = 2385
  SAMPLE_TYPE = UNSIGNED_INTEGER
  SAMPLE_BITS = 8
  BANDS = 1
  BAND_STORAGE_TYPE = BAND_SEQUENTIAL
  MAXIMUM = 255
  MEAN = 191.865
  MINIMUM = 10
  STANDARD_DEVIATION = 74.8549
END_OBJECT = IMAGE
/* MAP OBJECT DEFINITIONS */
OBJECT = IMAGE_MAP_PROJECTION
  ^DATA_SET_MAP_PROJECTION_CATALOG= "DSMAP.CAT"
  A_AXIS_RADIUS = 3396.0
  B_AXIS_RADIUS = 3396.0
  C_AXIS_RADIUS = 3396.0
  CENTER_LATITUDE = 0.0
  CENTER_LONGITUDE = 360.0
  COORDINATE_SYSTEM_NAME = PLANETOGRAPHIC
  COORDINATE_SYSTEM_TYPE = "BODY-FIXED ROTATING"
  EASTERNMOST_LONGITUDE = 3.801
  FIRST_STANDARD_PARALLEL = "N/A"
  LINE_FIRST_PIXEL = 1
  LINE_LAST_PIXEL = 5038
  LINE_PROJECTION_OFFSET = -89225.125
  MAP_PROJECTION_ROTATION = 0.0
  MAP_PROJECTION_TYPE = SINUSOIDAL
  MAP_RESOLUTION = 1185.42760773333
  MAP_SCALE = 0.05
  MAXIMUM_LATITUDE = -75.26479999999999
  MINIMUM_LATITUDE = -79.49590000000001
  POSITIVE_LONGITUDE_DIRECTION = EAST
  REFERENCE_LATITUDE = "N/A"
  REFERENCE_LONGITUDE = "N/A"
  SAMPLE_FIRST_PIXEL = 1
  SAMPLE_LAST_PIXEL = 2385
  SAMPLE_PROJECTION_OFFSET = 1263.875
  SECOND_STANDARD_PARALLEL = "N/A"
  WESTERNMOST_LONGITUDE = -5.635
END_OBJECT = IMAGE_MAP_PROJECTION
END
